Workbook

Sheet STRONA
B4: PLAN GOSPODARKI NISKOEMISYJNEJ DLA GMINY KAMIENICA POLSKA
B11: BAZA DANYCH
G14: =D14*3.6 -> 0

Sheet Wskaźniki emisji 2010r
A1: Wskaźniki emisji opisują ile ton CO2 przypada na jednostkę zużycia poszczególnych nośników energii. W obliczeniach wykorzystano standardowe wskaźniki według wytycznych IPPC, uaktualnione wytycznymi KOBIZE, które obejmują całość emisji CO2, wynikłej z końcowego zużycia energii na terenie gminy.
A6: Paliwo | B6: Wartość opałowa | D6: Wskaźnik emisji CO2
B7: MWh/Mg | C7: GJ/Mg | D7: Mg/MWh | E7: Mg/GJ
A8: Węgiel kamienny | B8: =0.277*C8 -> 6.96932 | C8: 25.16 | D8: =E8/0.227 -> 0.41431718 | E8: =0.09405 -> 0.09405
A9: Gaz ziemny | B9: =0.277*C9 -> 13.296 | C9: 48 | D9: =E9/0.227 -> 0.24590308 | E9: 0.05582
A10: Olej opałowy | B10: =0.277*C10 -> 11.13263 | C10: 40.19 | D10: =E10/0.227 -> 0.33740088 | E10: 0.07659
A11: Drewno opałowe | B11: =0.277*C11 -> 4.3212 | C11: 15.6 | D11: =E11/0.227 -> 0 | E11: 0
A12: Olej napędowy | B12: =0.277*C12 -> 12.00241 | C12: 43.33 | D12: =E12/0.227 -> 0.32303965 | E12: 0.07333
A13: Benzyna silnikowa | B13: =0.277*C13 -> 12.4096 | C13: 44.8 | D13: =E13/0.227 -> 0.3022467 | E13: 0.06861
A14: LPG | B14: =0.277*C14 -> 13.10487 | C14: 47.31 | D14: =E14/0.227 -> 0.27506608 | E14: 0.06244
A15: Energia elektryczna | B15: - | C15: - | D15: 0.812 | E15: =0.277*D15 -> 0.224924
A17: Paliwo | B17: Gęstość | C17: Jednostka
A18: Olej opałowy | B18: 0.85 | C18: kg/dm3
A19: Olej napędowy | B19: 0.83 | C19: kg/dm3
A20: Benzyna | B20: 0.7 | C20: kg/dm3
A21: LPG | B21: 0.6 | C21: kg/dm3
A22: Gaz ziemny | B22: 0.716 | C22: kg/m3

Sheet Wskaźniki emisji 2015r
A1: ='Wskaźniki emisji 2010r'!A1:E4 -> Wskaźniki emisji opisują ile ton CO2 przypada na jednostkę zużycia poszczególnych nośników energii. W obliczeniach wykorzystano standardowe wskaźniki według wytycznych IPPC, uaktualnione wytycznymi KOBIZE, które obejmują całość emisji CO2, wynikłej z końcowego zużycia energii na terenie gminy.
A6: Paliwo | B6: Wartość opałowa | D6: Wskaźnik emisji CO2
B7: MWh/Mg | C7: GJ/Mg | D7: Mg/MWh | E7: Mg/GJ
A8: ='Wskaźniki emisji 2010r'!A8 -> Węgiel kamienny | B8: =0.277*C8 -> 7.33773 | C8: 26.49 | D8: =E8/0.277 -> 0.33920578 | E8: 0.09396
A9: ='Wskaźniki emisji 2010r'!A9 -> Gaz ziemny | B9: =0.277*C9 -> 13.296 | C9: 48 | D9: =E9/0.277 -> 0.20151625 | E9: 0.05582
A10: ='Wskaźniki emisji 2010r'!A10 -> Olej opałowy | B10: =0.277*C10 -> 11.13263 | C10: 40.19 | D10: =E10/0.277 -> 0.27649819 | E10: 0.07659
A11: ='Wskaźniki emisji 2010r'!A11 -> Drewno opałowe | B11: =0.277*C11 -> 4.3212 | C11: 15.6 | D11: 0 | E11: =0.277*D11 -> 0
A12: ='Wskaźniki emisji 2010r'!A12 -> Olej napędowy | B12: =0.277*C12 -> 12.00241 | C12: 43.33 | D12: =E12/0.277 -> 0.26472924 | E12: 0.07333
A13: ='Wskaźniki emisji 2010r'!A13 -> Benzyna silnikowa | B13: =0.277*C13 -> 12.4096 | C13: 44.8 | D13: =E13/0.277 -> 0.24768953 | E13: 0.06861
A14: ='Wskaźniki emisji 2010r'!A14 -> LPG | B14: =0.277*C14 -> 13.10487 | C14: 47.31 | D14: =E14/0.277 -> 0.22541516 | E14: 0.06244
A15: ='Wskaźniki emisji 2010r'!A15 -> Energia elektryczna | B15: - | C15: - | D15: 0.812 | E15: =D15*0.277 -> 0.224924
A17: Paliwo | B17: Gęstość | C17: Jednostka
A18: Olej opałowy | B18: 0.85 | C18: kg/dm3
A19: Olej napędowy | B19: 0.83 | C19: kg/dm3
A20: Benzyna | B20: 0.7 | C20: kg/dm3
A21: LPG | B21: 0.6 | C21: kg/dm3
A22: Gaz ziemny | B22: 0.716 | C22: kg/m3

Sheet Obiekty publiczne 2010r
A1: Lp. | B1: Podmiot | C1: Adres | D1: Stosowane paliwo | E1: Ilość zużywanego paliwa | F1: Jednostka | G1: Gęstość paliwa | H1: Ilość zużywanego paliwa | I1: Wartość opałowa | J1: Zużycie energii ze spalanego paliwa | K1: Wskaźnik emisji | L1: Emisja CO2 ze spalnego paliwa | M1: Zużycie energii elektrycznej | N1: Emisja CO2 z energii elektrycznej | O1: Łączna emisja CO2
H2: Mg | J2: MWh | K2: Mg/MWh | L2: Mg | M2: MWh | N2: Mg | O2: Mg
A3: 1 | B3: Gminny Ośrodek Kultury, Sportu i Rekreacji | C3: ul. M.Konopnickiej 135A, 42-260 Kamienica Polska | D3: gaz ziemny | E3: 9547 | F3: m3 | G3: =IF(D3="gaz ziemny",'Wskaźniki emisji 2015r'!$B$22,IF(D3="olej opałowy",'Wskaźniki emisji 2015r'!$B$18,IF(D3="LPG",'Wskaźniki emisji 2015r'!$B$21,))) -> 0.716 | H3: =IF(G3=0,E3,E3*G3/1000) -> 6.835652 | I3: =IF(D3="węgiel kamienny",'Wskaźniki emisji 2010r'!$B$8,IF(D3="gaz ziemny",'Wskaźniki emisji 2010r'!$B$9,IF(D3="olej opałowy",'Wskaźniki emisji 2010r'!$B$10,IF(D3="biomasa",'Wskaźniki emisji 2010r'!$B$11,IF(D3="LPG",'Wskaźniki emisji 2010r'!$B$14,IF(D3="energia elektryczna",'Wskaźniki emisji 2010r'!$B$15,)))))) -> 13.296 | J3: =H3*I3 -> 90.886829 | K3: =IF(D3="węgiel kamienny",'Wskaźniki emisji 2010r'!$D$8,IF(D3="gaz ziemny",'Wskaźniki emisji 2010r'!$D$9,IF(D3="olej opałowy",'Wskaźniki emisji 2010r'!$D$10,IF(D3="biomasa",'Wskaźniki emisji 2010r'!$D$11,IF(D3="LPG",'Wskaźniki emisji 2010r'!$D$14,IF(D3="energia elektryczna",'Wskaźniki emisji 2010r'!$D$15,)))))) -> 0.24590308 | L3: =J3*K3 -> 22.349352 | M3: 17.455 | N3: =M3*'Wskaźniki emisji 2010r'!$D$15 -> 14.17346 | O3: =N3+L3 -> 36.522812 | Q3: termomodernizacja
A4: 2 | B4: Filia w Osinach Szkoły Podstawowej im. H. Sienkiewicza w Zespole Szkół w Kamienicy Polskiej | C4: Osiny, ul. Częstochowska 165, 42-260 Kamienica Polska | D4: gaz ziemny | E4: 13798 | F4: m3 | G4: =IF(D4="gaz ziemny",'Wskaźniki emisji 2015r'!$B$22,IF(D4="olej opałowy",'Wskaźniki emisji 2015r'!$B$18,IF(D4="LPG",'Wskaźniki emisji 2015r'!$B$21,))) -> 0.716 | H4: =IF(G4=0,E4,E4*G4/1000) -> 9.879368 | I4: =IF(D4="węgiel kamienny",'Wskaźniki emisji 2010r'!$B$8,IF(D4="gaz ziemny",'Wskaźniki emisji 2010r'!$B$9,IF(D4="olej opałowy",'Wskaźniki emisji 2010r'!$B$10,IF(D4="biomasa",'Wskaźniki emisji 2010r'!$B$11,IF(D4="LPG",'Wskaźniki emisji 2010r'!$B$14,IF(D4="energia elektryczna",'Wskaźniki emisji 2010r'!$B$15,)))))) -> 13.296 | J4: =H4*I4 -> 131.35608 | K4: =IF(D4="węgiel kamienny",'Wskaźniki emisji 2010r'!$D$8,IF(D4="gaz ziemny",'Wskaźniki emisji 2010r'!$D$9,IF(D4="olej opałowy",'Wskaźniki emisji 2010r'!$D$10,IF(D4="biomasa",'Wskaźniki emisji 2010r'!$D$11,IF(D4="LPG",'Wskaźniki emisji 2010r'!$D$14,IF(D4="energia elektryczna",'Wskaźniki emisji 2010r'!$D$15,)))))) -> 0.24590308 | L4: =J4*K4 -> 32.300864 | M4: 7.459 | N4: =M4*'Wskaźniki emisji 2010r'!$D$15 -> 6.056708 | O4: =N4+L4 -> 38.357572 | P4: wymieniono okna 2010r.
A5: 3 | B5: Urząd Gminy Kamienica Polska | C5: ul. M.Konopnickiej 12, 42-260 Kamienica Polska | D5: gaz ziemny | E5: 26620 | F5: m3 | G5: =IF(D5="gaz ziemny",'Wskaźniki emisji 2015r'!$B$22,IF(D5="olej opałowy",'Wskaźniki emisji 2015r'!$B$18,IF(D5="LPG",'Wskaźniki emisji 2015r'!$B$21,))) -> 0.716 | H5: =IF(G5=0,E5,E5*G5/1000) -> 19.05992 | I5: =IF(D5="węgiel kamienny",'Wskaźniki emisji 2010r'!$B$8,IF(D5="gaz ziemny",'Wskaźniki emisji 2010r'!$B$9,IF(D5="olej opałowy",'Wskaźniki emisji 2010r'!$B$10,IF(D5="biomasa",'Wskaźniki emisji 2010r'!$B$11,IF(D5="LPG",'Wskaźniki emisji 2010r'!$B$14,IF(D5="energia elektryczna",'Wskaźniki emisji 2010r'!$B$15,)))))) -> 13.296 | J5: =H5*I5 -> 253.4207 | K5: =IF(D5="węgiel kamienny",'Wskaźniki emisji 2010r'!$D$8,IF(D5="gaz ziemny",'Wskaźniki emisji 2010r'!$D$9,IF(D5="olej opałowy",'Wskaźniki emisji 2010r'!$D$10,IF(D5="biomasa",'Wskaźniki emisji 2010r'!$D$11,IF(D5="LPG",'Wskaźniki emisji 2010r'!$D$14,IF(D5="energia elektryczna",'Wskaźniki emisji 2010r'!$D$15,)))))) -> 0.24590308 | L5: =J5*K5 -> 62.316931 | M5: 32.5 | N5: =M5*'Wskaźniki emisji 2010r'!$D$15 -> 26.39 | O5: =N5+L5 -> 88.706931 | P5: ocieplono stropodach 2015r.
A6: 4 | B6: Budynek Hali Sportowej | C6: ul. Konopnickiej 12B, 42-260 Kamienica Polska | D6: gaz ziemny | E6: 9957 | F6: m3 | G6: =IF(D6="gaz ziemny",'Wskaźniki emisji 2015r'!$B$22,IF(D6="olej opałowy",'Wskaźniki emisji 2015r'!$B$18,IF(D6="LPG",'Wskaźniki emisji 2015r'!$B$21,))) -> 0.716 | H6: =IF(G6=0,E6,E6*G6/1000) -> 7.129212 | I6: =IF(D6="węgiel kamienny",'Wskaźniki emisji 2010r'!$B$8,IF(D6="gaz ziemny",'Wskaźniki emisji 2010r'!$B$9,IF(D6="olej opałowy",'Wskaźniki emisji 2010r'!$B$10,IF(D6="biomasa",'Wskaźniki emisji 2010r'!$B$11,IF(D6="LPG",'Wskaźniki emisji 2010r'!$B$14,IF(D6="energia elektryczna",'Wskaźniki emisji 2010r'!$B$15,)))))) -> 13.296 | J6: =H6*I6 -> 94.790003 | K6: =IF(D6="węgiel kamienny",'Wskaźniki emisji 2010r'!$D$8,IF(D6="gaz ziemny",'Wskaźniki emisji 2010r'!$D$9,IF(D6="olej opałowy",'Wskaźniki emisji 2010r'!$D$10,IF(D6="biomasa",'Wskaźniki emisji 2010r'!$D$11,IF(D6="LPG",'Wskaźniki emisji 2010r'!$D$14,IF(D6="energia elektryczna",'Wskaźniki emisji 2010r'!$D$15,)))))) -> 0.24590308 | L6: =J6*K6 -> 23.309154 | M6: 10.587 | N6: =M6*'Wskaźniki emisji 2010r'!$D$15 -> 8.596644 | O6: =N6+L6 -> 31.905798
A7: 5 | B7: Muzeum Regionalne | C7: ul. Konopnickiej 189, 42-260 Kamienica Polska | D7: gaz ziemny | E7: 3242 | F7: m3 | G7: =IF(D7="gaz ziemny",'Wskaźniki emisji 2015r'!$B$22,IF(D7="olej opałowy",'Wskaźniki emisji 2015r'!$B$18,IF(D7="LPG",'Wskaźniki emisji 2015r'!$B$21,))) -> 0.716 | H7: =IF(G7=0,E7,E7*G7/1000) -> 2.321272 | I7: =IF(D7="węgiel kamienny",'Wskaźniki emisji 2010r'!$B$8,IF(D7="gaz ziemny",'Wskaźniki emisji 2010r'!$B$9,IF(D7="olej opałowy",'Wskaźniki emisji 2010r'!$B$10,IF(D7="biomasa",'Wskaźniki emisji 2010r'!$B$11,IF(D7="LPG",'Wskaźniki emisji 2010r'!$B$14,IF(D7="energia elektryczna",'Wskaźniki emisji 2010r'!$B$15,)))))) -> 13.296 | J7: =H7*I7 -> 30.863633 | K7: =IF(D7="węgiel kamienny",'Wskaźniki emisji 2010r'!$D$8,IF(D7="gaz ziemny",'Wskaźniki emisji 2010r'!$D$9,IF(D7="olej opałowy",'Wskaźniki emisji 2010r'!$D$10,IF(D7="biomasa",'Wskaźniki emisji 2010r'!$D$11,IF(D7="LPG",'Wskaźniki emisji 2010r'!$D$14,IF(D7="energia elektryczna",'Wskaźniki emisji 2010r'!$D$15,)))))) -> 0.24590308 | L7: =J7*K7 -> 7.5894624 | M7: 2.193 | N7: =M7*'Wskaźniki emisji 2010r'!$D$15 -> 1.780716 | O7: =N7+L7 -> 9.3701784
A8: 6 | B8: Szkoła Podstawowa im. H. Sienkiewicza w Zespole Szkół w kamienicy Polskiej | C8: ul.A. Ferensa 12A, 42-260 Kamienica Polska | D8: gaz ziemny | E8: 50134 | F8: m3 | G8: =IF(D8="gaz ziemny",'Wskaźniki emisji 2015r'!$B$22,IF(D8="olej opałowy",'Wskaźniki emisji 2015r'!$B$18,IF(D8="LPG",'Wskaźniki emisji 2015r'!$B$21,))) -> 0.716 | H8: =IF(G8=0,E8,E8*G8/1000) -> 35.895944 | I8: =IF(D8="węgiel kamienny",'Wskaźniki emisji 2010r'!$B$8,IF(D8="gaz ziemny",'Wskaźniki emisji 2010r'!$B$9,IF(D8="olej opałowy",'Wskaźniki emisji 2010r'!$B$10,IF(D8="biomasa",'Wskaźniki emisji 2010r'!$B$11,IF(D8="LPG",'Wskaźniki emisji 2010r'!$B$14,IF(D8="energia elektryczna",'Wskaźniki emisji 2010r'!$B$15,)))))) -> 13.296 | J8: =H8*I8 -> 477.27247 | K8: =IF(D8="węgiel kamienny",'Wskaźniki emisji 2010r'!$D$8,IF(D8="gaz ziemny",'Wskaźniki emisji 2010r'!$D$9,IF(D8="olej opałowy",'Wskaźniki emisji 2010r'!$D$10,IF(D8="biomasa",'Wskaźniki emisji 2010r'!$D$11,IF(D8="LPG",'Wskaźniki emisji 2010r'!$D$14,IF(D8="energia elektryczna",'Wskaźniki emisji 2010r'!$D$15,)))))) -> 0.24590308 | L8: =J8*K8 -> 117.36277 | M8: 71.258 | N8: =M8*'Wskaźniki emisji 2010r'!$D$15 -> 57.861496 | O8: =N8+L8 -> 175.22427 | P8: ocieplono ściany w 2006 r. oraz wyminiono okna w 2005r.
A9: 7 | B9: Szkoła Podstawowa | C9: ul. Konopnickiej 226, 42-260 Kamienica Polska | D9: gaz ziemny | E9: 2000 | F9: m3 | G9: =IF(D9="gaz ziemny",'Wskaźniki emisji 2015r'!$B$22,IF(D9="olej opałowy",'Wskaźniki emisji 2015r'!$B$18,IF(D9="LPG",'Wskaźniki emisji 2015r'!$B$21,))) -> 0.716 | H9: =IF(G9=0,E9,E9*G9/1000) -> 1.432 | I9: =IF(D9="węgiel kamienny",'Wskaźniki emisji 2010r'!$B$8,IF(D9="gaz ziemny",'Wskaźniki emisji 2010r'!$B$9,IF(D9="olej opałowy",'Wskaźniki emisji 2010r'!$B$10,IF(D9="biomasa",'Wskaźniki emisji 2010r'!$B$11,IF(D9="LPG",'Wskaźniki emisji 2010r'!$B$14,IF(D9="energia elektryczna",'Wskaźniki emisji 2010r'!$B$15,)))))) -> 13.296 | J9: =H9*I9 -> 19.039872 | K9: =IF(D9="węgiel kamienny",'Wskaźniki emisji 2010r'!$D$8,IF(D9="gaz ziemny",'Wskaźniki emisji 2010r'!$D$9,IF(D9="olej opałowy",'Wskaźniki emisji 2010r'!$D$10,IF(D9="biomasa",'Wskaźniki emisji 2010r'!$D$11,IF(D9="LPG",'Wskaźniki emisji 2010r'!$D$14,IF(D9="energia elektryczna",'Wskaźniki emisji 2010r'!$D$15,)))))) -> 0.24590308 | L9: =J9*K9 -> 4.6819632 | M9: 7.7 | N9: =M9*'Wskaźniki emisji 2010r'!$D$15 -> 6.2524 | O9: =N9+L9 -> 10.934363
A10: 8 | B10: Przedszkole | C10: ul. Konopnickiej 11a, 42-260 Kamienica Polska | D10: gaz ziemny | E10: 1800 | F10: m3 | G10: =IF(D10="gaz ziemny",'Wskaźniki emisji 2015r'!$B$22,IF(D10="olej opałowy",'Wskaźniki emisji 2015r'!$B$18,IF(D10="LPG",'Wskaźniki emisji 2015r'!$B$21,))) -> 0.716 | H10: =IF(G10=0,E10,E10*G10/1000) -> 1.2888 | I10: =IF(D10="węgiel kamienny",'Wskaźniki emisji 2010r'!$B$8,IF(D10="gaz ziemny",'Wskaźniki emisji 2010r'!$B$9,IF(D10="olej opałowy",'Wskaźniki emisji 2010r'!$B$10,IF(D10="biomasa",'Wskaźniki emisji 2010r'!$B$11,IF(D10="LPG",'Wskaźniki emisji 2010r'!$B$14,IF(D10="energia elektryczna",'Wskaźniki emisji 2010r'!$B$15,)))))) -> 13.296 | J10: =H10*I10 -> 17.135885 | K10: =IF(D10="węgiel kamienny",'Wskaźniki emisji 2010r'!$D$8,IF(D10="gaz ziemny",'Wskaźniki emisji 2010r'!$D$9,IF(D10="olej opałowy",'Wskaźniki emisji 2010r'!$D$10,IF(D10="biomasa",'Wskaźniki emisji 2010r'!$D$11,IF(D10="LPG",'Wskaźniki emisji 2010r'!$D$14,IF(D10="energia elektryczna",'Wskaźniki emisji 2010r'!$D$15,)))))) -> 0.24590308 | L10: =J10*K10 -> 4.2137669 | M10: 23 | N10: =M10*'Wskaźniki emisji 2010r'!$D$15 -> 18.676 | O10: =N10+L10 -> 22.889767
A11: 9 | B11: Przedszkole | C11: ul. Słoneczna 186, Rudnik Wielki | D11: gaz ziemny | E11: 1800 | F11: m3 | G11: =IF(D11="gaz ziemny",'Wskaźniki emisji 2015r'!$B$22,IF(D11="olej opałowy",'Wskaźniki emisji 2015r'!$B$18,IF(D11="LPG",'Wskaźniki emisji 2015r'!$B$21,))) -> 0.716 | H11: =IF(G11=0,E11,E11*G11/1000) -> 1.2888 | I11: =IF(D11="węgiel kamienny",'Wskaźniki emisji 2010r'!$B$8,IF(D11="gaz ziemny",'Wskaźniki emisji 2010r'!$B$9,IF(D11="olej opałowy",'Wskaźniki emisji 2010r'!$B$10,IF(D11="biomasa",'Wskaźniki emisji 2010r'!$B$11,IF(D11="LPG",'Wskaźniki emisji 2010r'!$B$14,IF(D11="energia elektryczna",'Wskaźniki emisji 2010r'!$B$15,)))))) -> 13.296 | J11: =H11*I11 -> 17.135885 | K11: =IF(D11="węgiel kamienny",'Wskaźniki emisji 2010r'!$D$8,IF(D11="gaz ziemny",'Wskaźniki emisji 2010r'!$D$9,IF(D11="olej opałowy",'Wskaźniki emisji 2010r'!$D$10,IF(D11="biomasa",'Wskaźniki emisji 2010r'!$D$11,IF(D11="LPG",'Wskaźniki emisji 2010r'!$D$14,IF(D11="energia elektryczna",'Wskaźniki emisji 2010r'!$D$15,)))))) -> 0.24590308 | L11: =J11*K11 -> 4.2137669 | M11: 3.6 | N11: =M11*'Wskaźniki emisji 2010r'!$D$15 -> 2.9232 | O11: =N11+L11 -> 7.1369669
A12: 10 | B12: Przedszkole | C12: ul. Zawisna 69 | D12: gaz ziemny | E12: 1800 | F12: m3 | G12: =IF(D12="gaz ziemny",'Wskaźniki emisji 2015r'!$B$22,IF(D12="olej opałowy",'Wskaźniki emisji 2015r'!$B$18,IF(D12="LPG",'Wskaźniki emisji 2015r'!$B$21,))) -> 0.716 | H12: =IF(G12=0,E12,E12*G12/1000) -> 1.2888 | I12: =IF(D12="węgiel kamienny",'Wskaźniki emisji 2010r'!$B$8,IF(D12="gaz ziemny",'Wskaźniki emisji 2010r'!$B$9,IF(D12="olej opałowy",'Wskaźniki emisji 2010r'!$B$10,IF(D12="biomasa",'Wskaźniki emisji 2010r'!$B$11,IF(D12="LPG",'Wskaźniki emisji 2010r'!$B$14,IF(D12="energia elektryczna",'Wskaźniki emisji 2010r'!$B$15,)))))) -> 13.296 | J12: =H12*I12 -> 17.135885 | K12: =IF(D12="węgiel kamienny",'Wskaźniki emisji 2010r'!$D$8,IF(D12="gaz ziemny",'Wskaźniki emisji 2010r'!$D$9,IF(D12="olej opałowy",'Wskaźniki emisji 2010r'!$D$10,IF(D12="biomasa",'Wskaźniki emisji 2010r'!$D$11,IF(D12="LPG",'Wskaźniki emisji 2010r'!$D$14,IF(D12="energia elektryczna",'Wskaźniki emisji 2010r'!$D$15,)))))) -> 0.24590308 | L12: =J12*K12 -> 4.2137669 | M12: 1.2 | N12: =M12*'Wskaźniki emisji 2010r'!$D$15 -> 0.9744 | O12: =N12+L12 -> 5.1881669

Sheet Obiekty publiczne 2015r
A1: Lp. | B1: Podmiot | C1: Adres | D1: Stosowane paliwo | E1: Ilość zużywanego paliwa | F1: Jednostka | G1: Gęstość paliwa | H1: Ilość zużywanego paliwa | I1: Wartość opałowa | J1: Zużycie energii ze spalanego paliwa | K1: Wskaźnik emisji | L1: Emisja CO2 ze spalnego paliwa | M1: Zużycie energii elektrycznej | N1: Emisja CO2 z energii elektrycznej | O1: Łączna emisja CO2
H2: Mg | J2: MWh | K2: Mg/MWh | L2: Mg | M2: MWh | N2: Mg | O2: Mg
A3: 1 | B3: Gminny Ośrodek Kultury, Sportu i Rekreacji | C3: ul. M.Konopnickiej 135A, 42-260 Kamienica Polska | D3: gaz ziemny | E3: 5722 | F3: Mg | G3: =IF(D3="gaz ziemny",'Wskaźniki emisji 2015r'!$B$22,IF(D3="olej opałowy",'Wskaźniki emisji 2015r'!$B$18,IF(D3="LPG",'Wskaźniki emisji 2015r'!$B$21,))) -> 0.716 | H3: =IF(G3=0,E3,E3*G3/1000) -> 4.096952 | I3: =IF(D3="węgiel kamienny",'Wskaźniki emisji 2015r'!$B$8,IF(D3="gaz ziemny",'Wskaźniki emisji 2015r'!$B$9,IF(D3="olej opałowy",'Wskaźniki emisji 2015r'!$B$10,IF(D3="biomasa",'Wskaźniki emisji 2015r'!$B$11,IF(D3="LPG",'Wskaźniki emisji 2015r'!$B$14,IF(D3="energia elektryczna",'Wskaźniki emisji 2015r'!$B$15,)))))) -> 13.296 | J3: =H3*I3 -> 54.473074 | K3: =IF(D3="węgiel kamienny",'Wskaźniki emisji 2015r'!$D$8,IF(D3="gaz ziemny",'Wskaźniki emisji 2015r'!$D$9,IF(D3="olej opałowy",'Wskaźniki emisji 2015r'!$D$10,IF(D3="biomasa",'Wskaźniki emisji 2015r'!$D$11,IF(D3="LPG",'Wskaźniki emisji 2015r'!$D$14,IF(D3="energia elektryczna",'Wskaźniki emisji 2015r'!$D$15,)))))) -> 0.20151625 | L3: =J3*K3 -> 10.977209 | M3: 15.65 | N3: =M3*'Wskaźniki emisji 2015r'!$D$15 -> 12.7078 | O3: =N3+L3 -> 23.685009
A4: 2 | B4: Filia w Osinach Szkoły Podstawowej im. H. Sienkiewicza w Zespole Szkół w Kamienicy Polskiej | C4: Osiny, ul. Częstochowska 165, 42-260 Kamienica Polska | D4: gaz ziemny | E4: 13149 | F4: Mg | G4: =IF(D4="gaz ziemny",'Wskaźniki emisji 2015r'!$B$22,IF(D4="olej opałowy",'Wskaźniki emisji 2015r'!$B$18,IF(D4="LPG",'Wskaźniki emisji 2015r'!$B$21,))) -> 0.716 | H4: =IF(G4=0,E4,E4*G4/1000) -> 9.414684 | I4: =IF(D4="węgiel kamienny",'Wskaźniki emisji 2015r'!$B$8,IF(D4="gaz ziemny",'Wskaźniki emisji 2015r'!$B$9,IF(D4="olej opałowy",'Wskaźniki emisji 2015r'!$B$10,IF(D4="biomasa",'Wskaźniki emisji 2015r'!$B$11,IF(D4="LPG",'Wskaźniki emisji 2015r'!$B$14,IF(D4="energia elektryczna",'Wskaźniki emisji 2015r'!$B$15,)))))) -> 13.296 | J4: =H4*I4 -> 125.17764 | K4: =IF(D4="węgiel kamienny",'Wskaźniki emisji 2015r'!$D$8,IF(D4="gaz ziemny",'Wskaźniki emisji 2015r'!$D$9,IF(D4="olej opałowy",'Wskaźniki emisji 2015r'!$D$10,IF(D4="biomasa",'Wskaźniki emisji 2015r'!$D$11,IF(D4="LPG",'Wskaźniki emisji 2015r'!$D$14,IF(D4="energia elektryczna",'Wskaźniki emisji 2015r'!$D$15,)))))) -> 0.20151625 | L4: =J4*K4 -> 25.225328 | M4: 10.248 | N4: =M4*'Wskaźniki emisji 2015r'!$D$15 -> 8.321376 | O4: =N4+L4 -> 33.546704
A5: 3 | B5: Urząd Gminy Kamienica Polska | C5: ul. M.Konopnickiej 12, 42-260 Kamienica Polska | D5: gaz ziemny | E5: 17081 | F5: Mg | G5: =IF(D5="gaz ziemny",'Wskaźniki emisji 2015r'!$B$22,IF(D5="olej opałowy",'Wskaźniki emisji 2015r'!$B$18,IF(D5="LPG",'Wskaźniki emisji 2015r'!$B$21,))) -> 0.716 | H5: =IF(G5=0,E5,E5*G5/1000) -> 12.229996 | I5: =IF(D5="węgiel kamienny",'Wskaźniki emisji 2015r'!$B$8,IF(D5="gaz ziemny",'Wskaźniki emisji 2015r'!$B$9,IF(D5="olej opałowy",'Wskaźniki emisji 2015r'!$B$10,IF(D5="biomasa",'Wskaźniki emisji 2015r'!$B$11,IF(D5="LPG",'Wskaźniki emisji 2015r'!$B$14,IF(D5="energia elektryczna",'Wskaźniki emisji 2015r'!$B$15,)))))) -> 13.296 | J5: =H5*I5 -> 162.61003 | K5: =IF(D5="węgiel kamienny",'Wskaźniki emisji 2015r'!$D$8,IF(D5="gaz ziemny",'Wskaźniki emisji 2015r'!$D$9,IF(D5="olej opałowy",'Wskaźniki emisji 2015r'!$D$10,IF(D5="biomasa",'Wskaźniki emisji 2015r'!$D$11,IF(D5="LPG",'Wskaźniki emisji 2015r'!$D$14,IF(D5="energia elektryczna",'Wskaźniki emisji 2015r'!$D$15,)))))) -> 0.20151625 | L5: =J5*K5 -> 32.768562 | M5: 26.762 | N5: =M5*'Wskaźniki emisji 2015r'!$D$15 -> 21.730744 | O5: =N5+L5 -> 54.499306
A6: 4 | B6: Budynek Hali Sportowej | C6: ul. Konopnickiej 12B, 42-260 Kamienica Polska | D6: gaz ziemny | E6: 9957 | F6: Mg | G6: =IF(D6="gaz ziemny",'Wskaźniki emisji 2015r'!$B$22,IF(D6="olej opałowy",'Wskaźniki emisji 2015r'!$B$18,IF(D6="LPG",'Wskaźniki emisji 2015r'!$B$21,))) -> 0.716 | H6: =IF(G6=0,E6,E6*G6/1000) -> 7.129212 | I6: =IF(D6="węgiel kamienny",'Wskaźniki emisji 2015r'!$B$8,IF(D6="gaz ziemny",'Wskaźniki emisji 2015r'!$B$9,IF(D6="olej opałowy",'Wskaźniki emisji 2015r'!$B$10,IF(D6="biomasa",'Wskaźniki emisji 2015r'!$B$11,IF(D6="LPG",'Wskaźniki emisji 2015r'!$B$14,IF(D6="energia elektryczna",'Wskaźniki emisji 2015r'!$B$15,)))))) -> 13.296 | J6: =H6*I6 -> 94.790003 | K6: =IF(D6="węgiel kamienny",'Wskaźniki emisji 2015r'!$D$8,IF(D6="gaz ziemny",'Wskaźniki emisji 2015r'!$D$9,IF(D6="olej opałowy",'Wskaźniki emisji 2015r'!$D$10,IF(D6="biomasa",'Wskaźniki emisji 2015r'!$D$11,IF(D6="LPG",'Wskaźniki emisji 2015r'!$D$14,IF(D6="energia elektryczna",'Wskaźniki emisji 2015r'!$D$15,)))))) -> 0.20151625 | L6: =J6*K6 -> 19.101725 | M6: 10.587 | N6: =M6*'Wskaźniki emisji 2015r'!$D$15 -> 8.596644 | O6: =N6+L6 -> 27.698369
A7: 5 | B7: Muzeum Regionalne | C7: ul. Konopnickiej 189, 42-260 Kamienica Polska | D7: gaz ziemny | E7: 3242 | F7: Mg | G7: =IF(D7="gaz ziemny",'Wskaźniki emisji 2015r'!$B$22,IF(D7="olej opałowy",'Wskaźniki emisji 2015r'!$B$18,IF(D7="LPG",'Wskaźniki emisji 2015r'!$B$21,))) -> 0.716 | H7: =IF(G7=0,E7,E7*G7/1000) -> 2.321272 | I7: =IF(D7="węgiel kamienny",'Wskaźniki emisji 2015r'!$B$8,IF(D7="gaz ziemny",'Wskaźniki emisji 2015r'!$B$9,IF(D7="olej opałowy",'Wskaźniki emisji 2015r'!$B$10,IF(D7="biomasa",'Wskaźniki emisji 2015r'!$B$11,IF(D7="LPG",'Wskaźniki emisji 2015r'!$B$14,IF(D7="energia elektryczna",'Wskaźniki emisji 2015r'!$B$15,)))))) -> 13.296 | J7: =H7*I7 -> 30.863633 | K7: =IF(D7="węgiel kamienny",'Wskaźniki emisji 2015r'!$D$8,IF(D7="gaz ziemny",'Wskaźniki emisji 2015r'!$D$9,IF(D7="olej opałowy",'Wskaźniki emisji 2015r'!$D$10,IF(D7="biomasa",'Wskaźniki emisji 2015r'!$D$11,IF(D7="LPG",'Wskaźniki emisji 2015r'!$D$14,IF(D7="energia elektryczna",'Wskaźniki emisji 2015r'!$D$15,)))))) -> 0.20151625 | L7: =J7*K7 -> 6.2195233 | M7: 2.193 | N7: =M7*'Wskaźniki emisji 2015r'!$D$15 -> 1.780716 | O7: =N7+L7 -> 8.0002393
A8: 5 | B8: Szkoła Podstawowa im. H. Sienkiewicza w Zespole Szkół w kamienicy Polskiej | C8: ul.A. Ferensa 12A, 42-260 Kamienica Polska | D8: gaz ziemny | E8: 47128 | F8: Mg | G8: =IF(D8="gaz ziemny",'Wskaźniki emisji 2015r'!$B$22,IF(D8="olej opałowy",'Wskaźniki emisji 2015r'!$B$18,IF(D8="LPG",'Wskaźniki emisji 2015r'!$B$21,))) -> 0.716 | H8: =IF(G8=0,E8,E8*G8/1000) -> 33.743648 | I8: =IF(D8="węgiel kamienny",'Wskaźniki emisji 2015r'!$B$8,IF(D8="gaz ziemny",'Wskaźniki emisji 2015r'!$B$9,IF(D8="olej opałowy",'Wskaźniki emisji 2015r'!$B$10,IF(D8="biomasa",'Wskaźniki emisji 2015r'!$B$11,IF(D8="LPG",'Wskaźniki emisji 2015r'!$B$14,IF(D8="energia elektryczna",'Wskaźniki emisji 2015r'!$B$15,)))))) -> 13.296 | J8: =H8*I8 -> 448.65554 | K8: =IF(D8="węgiel kamienny",'Wskaźniki emisji 2015r'!$D$8,IF(D8="gaz ziemny",'Wskaźniki emisji 2015r'!$D$9,IF(D8="olej opałowy",'Wskaźniki emisji 2015r'!$D$10,IF(D8="biomasa",'Wskaźniki emisji 2015r'!$D$11,IF(D8="LPG",'Wskaźniki emisji 2015r'!$D$14,IF(D8="energia elektryczna",'Wskaźniki emisji 2015r'!$D$15,)))))) -> 0.20151625 | L8: =J8*K8 -> 90.411381 | M8: 75.403 | N8: =M8*'Wskaźniki emisji 2015r'!$D$15 -> 61.227236 | O8: =N8+L8 -> 151.63862
A9: 6 | B9: Szkoła Podstawowa | C9: ul. Konopnickiej 226, 42-260 Kamienica Polska | D9: gaz ziemny | E9: ='Obiekty publiczne 2010r'!E9 -> 2000 | F9: Mg | G9: =IF(D9="gaz ziemny",'Wskaźniki emisji 2015r'!$B$22,IF(D9="olej opałowy",'Wskaźniki emisji 2015r'!$B$18,IF(D9="LPG",'Wskaźniki emisji 2015r'!$B$21,))) -> 0.716 | H9: =IF(G9=0,E9,E9*G9/1000) -> 1.432 | I9: =IF(D9="węgiel kamienny",'Wskaźniki emisji 2015r'!$B$8,IF(D9="gaz ziemny",'Wskaźniki emisji 2015r'!$B$9,IF(D9="olej opałowy",'Wskaźniki emisji 2015r'!$B$10,IF(D9="biomasa",'Wskaźniki emisji 2015r'!$B$11,IF(D9="LPG",'Wskaźniki emisji 2015r'!$B$14,IF(D9="energia elektryczna",'Wskaźniki emisji 2015r'!$B$15,)))))) -> 13.296 | J9: =H9*I9 -> 19.039872 | K9: =IF(D9="węgiel kamienny",'Wskaźniki emisji 2015r'!$D$8,IF(D9="gaz ziemny",'Wskaźniki emisji 2015r'!$D$9,IF(D9="olej opałowy",'Wskaźniki emisji 2015r'!$D$10,IF(D9="biomasa",'Wskaźniki emisji 2015r'!$D$11,IF(D9="LPG",'Wskaźniki emisji 2015r'!$D$14,IF(D9="energia elektryczna",'Wskaźniki emisji 2015r'!$D$15,)))))) -> 0.20151625 | L9: =J9*K9 -> 3.8368435 | M9: 4.8 | N9: =M9*'Wskaźniki emisji 2015r'!$D$15 -> 3.8976 | O9: =N9+L9 -> 7.7344435
A10: 7 | B10: Przedszkole | C10: ul. Konopnickiej 11a, 42-260 Kamienica Polska | D10: gaz ziemny | E10: ='Obiekty publiczne 2010r'!E10 -> 1800 | F10: Mg | G10: =IF(D10="gaz ziemny",'Wskaźniki emisji 2015r'!$B$22,IF(D10="olej opałowy",'Wskaźniki emisji 2015r'!$B$18,IF(D10="LPG",'Wskaźniki emisji 2015r'!$B$21,))) -> 0.716 | H10: =IF(G10=0,E10,E10*G10/1000) -> 1.2888 | I10: =IF(D10="węgiel kamienny",'Wskaźniki emisji 2015r'!$B$8,IF(D10="gaz ziemny",'Wskaźniki emisji 2015r'!$B$9,IF(D10="olej opałowy",'Wskaźniki emisji 2015r'!$B$10,IF(D10="biomasa",'Wskaźniki emisji 2015r'!$B$11,IF(D10="LPG",'Wskaźniki emisji 2015r'!$B$14,IF(D10="energia elektryczna",'Wskaźniki emisji 2015r'!$B$15,)))))) -> 13.296 | J10: =H10*I10 -> 17.135885 | K10: =IF(D10="węgiel kamienny",'Wskaźniki emisji 2015r'!$D$8,IF(D10="gaz ziemny",'Wskaźniki emisji 2015r'!$D$9,IF(D10="olej opałowy",'Wskaźniki emisji 2015r'!$D$10,IF(D10="biomasa",'Wskaźniki emisji 2015r'!$D$11,IF(D10="LPG",'Wskaźniki emisji 2015r'!$D$14,IF(D10="energia elektryczna",'Wskaźniki emisji 2015r'!$D$15,)))))) -> 0.20151625 | L10: =J10*K10 -> 3.4531592 | M10: =0.6+4.8 -> 5.4 | N10: =M10*'Wskaźniki emisji 2015r'!$D$15 -> 4.3848 | O10: =N10+L10 -> 7.8379592
A11: 8 | B11: Przedszkole | C11: ul. Słoneczna 186, Rudnik Wielki | D11: gaz ziemny | E11: ='Obiekty publiczne 2010r'!E11 -> 1800 | F11: Mg | G11: =IF(D11="gaz ziemny",'Wskaźniki emisji 2015r'!$B$22,IF(D11="olej opałowy",'Wskaźniki emisji 2015r'!$B$18,IF(D11="LPG",'Wskaźniki emisji 2015r'!$B$21,))) -> 0.716 | H11: =IF(G11=0,E11,E11*G11/1000) -> 1.2888 | I11: =IF(D11="węgiel kamienny",'Wskaźniki emisji 2015r'!$B$8,IF(D11="gaz ziemny",'Wskaźniki emisji 2015r'!$B$9,IF(D11="olej opałowy",'Wskaźniki emisji 2015r'!$B$10,IF(D11="biomasa",'Wskaźniki emisji 2015r'!$B$11,IF(D11="LPG",'Wskaźniki emisji 2015r'!$B$14,IF(D11="energia elektryczna",'Wskaźniki emisji 2015r'!$B$15,)))))) -> 13.296 | J11: =H11*I11 -> 17.135885 | K11: =IF(D11="węgiel kamienny",'Wskaźniki emisji 2015r'!$D$8,IF(D11="gaz ziemny",'Wskaźniki emisji 2015r'!$D$9,IF(D11="olej opałowy",'Wskaźniki emisji 2015r'!$D$10,IF(D11="biomasa",'Wskaźniki emisji 2015r'!$D$11,IF(D11="LPG",'Wskaźniki emisji 2015r'!$D$14,IF(D11="energia elektryczna",'Wskaźniki emisji 2015r'!$D$15,)))))) -> 0.20151625 | L11: =J11*K11 -> 3.4531592 | M11: 10.8 | N11: =M11*'Wskaźniki emisji 2015r'!$D$15 -> 8.7696 | O11: =N11+L11 -> 12.222759
A12: 9 | B12: Przedszkole | C12: ul. Zawisna 69 | D12: gaz ziemny | E12: ='Obiekty publiczne 2010r'!E12 -> 1800 | F12: Mg | G12: =IF(D12="gaz ziemny",'Wskaźniki emisji 2015r'!$B$22,IF(D12="olej opałowy",'Wskaźniki emisji 2015r'!$B$18,IF(D12="LPG",'Wskaźniki emisji 2015r'!$B$21,))) -> 0.716 | H12: =IF(G12=0,E12,E12*G12/1000) -> 1.2888 | I12: =IF(D12="węgiel kamienny",'Wskaźniki emisji 2015r'!$B$8,IF(D12="gaz ziemny",'Wskaźniki emisji 2015r'!$B$9,IF(D12="olej opałowy",'Wskaźniki emisji 2015r'!$B$10,IF(D12="biomasa",'Wskaźniki emisji 2015r'!$B$11,IF(D12="LPG",'Wskaźniki emisji 2015r'!$B$14,IF(D12="energia elektryczna",'Wskaźniki emisji 2015r'!$B$15,)))))) -> 13.296 | J12: =H12*I12 -> 17.135885 | K12: =IF(D12="węgiel kamienny",'Wskaźniki emisji 2015r'!$D$8,IF(D12="gaz ziemny",'Wskaźniki emisji 2015r'!$D$9,IF(D12="olej opałowy",'Wskaźniki emisji 2015r'!$D$10,IF(D12="biomasa",'Wskaźniki emisji 2015r'!$D$11,IF(D12="LPG",'Wskaźniki emisji 2015r'!$D$14,IF(D12="energia elektryczna",'Wskaźniki emisji 2015r'!$D$15,)))))) -> 0.20151625 | L12: =J12*K12 -> 3.4531592 | M12: 2.4 | N12: =M12*'Wskaźniki emisji 2015r'!$D$15 -> 1.9488 | O12: =N12+L12 -> 5.4019592

Sheet Podsumowanie- Obiekty publiczne
A1: Bilans energetyczny w sektorze Obiektów Publicznych:
A2: Obiekty publiczne | B2: 2010 rok | C2: Zużycie energii
C3: MWh
C4: Węgiel kamienny | D4: Gaz ziemny | E4: Olej opałowy | F4: Drewno opałowe | G4: Energia elektryczna | H4: SUMA
C5: =SUMIF('Obiekty publiczne 2010r'!$D$3:$D$12,"węgiel kamienny",'Obiekty publiczne 2010r'!$J$3:$J$12) -> 0 | D5: =SUMIF('Obiekty publiczne 2010r'!$D$3:$D$12,"gaz ziemny",'Obiekty publiczne 2010r'!$J$3:$J$12) -> 1149.0372 | E5: =SUMIF('Obiekty publiczne 2010r'!$D$3:$D$12,"olej opałowy",'Obiekty publiczne 2010r'!$J$3:$J$12) -> 0 | F5: =SUMIF('Obiekty publiczne 2010r'!$D$3:$D$12,"drewno opałowe",'Obiekty publiczne 2010r'!$J$3:$J$12) -> 0 | G5: =SUM('Obiekty publiczne 2010r'!M3:M12) -> 176.952 | H5: =C5+D5+E5+G5+F5 -> 1325.9892
B6: 2015 rok | C6: Zużycie energii
C7: MWh
C8: Węgiel kamienny | D8: Gaz ziemny | E8: Olej opałowy | F8: Drewno opałowe | G8: Energia elektryczna | H8: SUMA
C9: =SUMIF('Obiekty publiczne 2015r'!$D$3:$D$12,"węgiel kamienny",'Obiekty publiczne 2015r'!$J$3:$J$12) -> 0 | D9: =SUMIF('Obiekty publiczne 2015r'!$D$3:$D$12,"gaz ziemny",'Obiekty publiczne 2015r'!$J$3:$J$12) -> 987.01744 | E9: =SUMIF('Obiekty publiczne 2015r'!$D$3:$D$12,"olej opałowy",'Obiekty publiczne 2015r'!$J$3:$J$12) -> 0 | F9: =SUMIF('Obiekty publiczne 2015r'!$D$3:$D$12,"drewno opałowe",'Obiekty publiczne 2015r'!$J$3:$J$12) -> 0 | G9: =SUM('Obiekty publiczne 2015r'!M3:M12) -> 164.243 | H9: =C9+D9+E9+G9+F9 -> 1151.2604
B10: =B2 -> 2010 rok | C10: Emisja CO2
C11: Mg
C12: =C4 -> Węgiel kamienny | D12: =D4 -> Gaz ziemny | E12: =E4 -> Olej opałowy | F12: =F4 -> Drewno opałowe | G12: =G4 -> Energia elektryczna | H12: SUMA
C13: =C5*'Wskaźniki emisji 2010r'!D8 -> 0 | D13: =D5*'Wskaźniki emisji 2010r'!D9 -> 282.5518 | E13: =E5*'Wskaźniki emisji 2010r'!D10 -> 0 | F13: =F5*'Wskaźniki emisji 2010r'!D11 -> 0 | G13: =G5*'Wskaźniki emisji 2010r'!D15 -> 143.68502 | H13: =SUM(C13:G13) -> 426.23682
B14: =B6 -> 2015 rok | C14: Emisja CO2 | K14: =60/#REF! -> #REF!
C15: Mg
C16: =C8 -> Węgiel kamienny | D16: =D8 -> Gaz ziemny | E16: =E8 -> Olej opałowy | F16: =F8 -> Drewno opałowe | G16: =G8 -> Energia elektryczna | H16: SUMA
C17: =C9*'Wskaźniki emisji 2015r'!D8 -> 0 | D17: =D9*'Wskaźniki emisji 2015r'!D9 -> 198.90005 | E17: =E9*'Wskaźniki emisji 2015r'!D10 -> 0 | F17: =F9*'Wskaźniki emisji 2015r'!D15 -> 0 | G17: =G9*'Wskaźniki emisji 2015r'!D15 -> 133.36532 | H17: =SUM(C17:G17) -> 332.26537

Sheet Transport- rok bazowy 
A1: Bilans energetyczny w sektorze Transportu Lokalnego: | M1: Rodzaj pojazdu | N1: Rodzaj paliwa
N2: Benzyna | O2: Olej napędowy | P2: LPG | Q2: Razem
M3: Samochody osobowe | N3: ='Prognoza transport lokalny'!C3 -> 1021.9666 | O3: ='Prognoza transport lokalny'!D3 -> 349.39347 | P3: ='Prognoza transport lokalny'!E3 -> 211.41322 | Q3: =SUM(N3:P3) -> 1582.7733 | R3: =Q3/R$8 -> 0.7526197
M4: Motocykle | N4: ='Prognoza transport lokalny'!C4 -> 161.13812 | O4: ='Prognoza transport lokalny'!D4 -> 1.3937024 | P4: ='Prognoza transport lokalny'!E4 -> 8.43738 | Q4: =SUM(N4:P4) -> 170.9692 | R4: =Q4/R$8 -> 0.081297041
M5: Samochody ciężarowe | N5: ='Prognoza transport lokalny'!C5 -> 113.60921 | O5: ='Prognoza transport lokalny'!D5 -> 164.20786 | P5: ='Prognoza transport lokalny'!E5 -> 15.044702 | Q5: =SUM(N5:P5) -> 292.86177 | R5: =Q5/R$8 -> 0.1392578
M6: Autobusy | N6: ='Prognoza transport lokalny'!C6 -> 2.4426729 | O6: ='Prognoza transport lokalny'!D6 -> 45.337885 | P6: ='Prognoza transport lokalny'!E6 -> 0.0989569 | Q6: =SUM(N6:P6) -> 47.879515 | R6: =Q6/R$8 -> 0.022767041
M7: Ciągniki rolnicze | N7: ='Prognoza transport lokalny'!C7 -> 0.15421066 | O7: ='Prognoza transport lokalny'!D7 -> 8.3506131 | P7: ='Prognoza transport lokalny'!E7 -> 0.030102767 | Q7: =SUM(N7:P7) -> 8.5349265 | R7: =Q7/R$8 -> 0.0040584168
R8: =Q6+Q5+Q4+Q3+Q7 -> 2103.0187
M9: Rodzaj pojazdu | N9: Rodzaj paliwa
N10: Benzyna | O10: Olej napędowy | P10: LPG | Q10: Razem
M11: Samochody osobowe | N11: =N3/Q3 -> 0.64568098 | O11: =O3/Q3 -> 0.22074764 | P11: =P3/Q3 -> 0.13357138 | Q11: =N11+O11+P11 -> 1
M12: Motocykle | N12: =N4/Q4 -> 0.94249793 | O12: =O4/Q4 -> 0.0081517747 | P12: =P4/Q4 -> 0.049350292 | Q12: =N12+O12+P12 -> 1
M13: Samochody ciężarowe | N13: =N5/Q5 -> 0.38792776 | O13: =O5/Q5 -> 0.5607009 | P13: =P5/Q5 -> 0.051371341 | Q13: =N13+O13+P13 -> 1
M14: Autobusy | N14: =N6/Q6 -> 0.051017078 | O14: =O6/Q6 -> 0.94691613 | P14: =P6/Q6 -> 0.0020667899 | Q14: =N14+O14+P14 -> 1
M15: Ciągniki rolnicze | N15: =N7/Q7 -> 0.018068189 | O15: =O7/Q7 -> 0.9784048 | P15: =P7/Q7 -> 0.0035270095 | Q15: =N15+O15+P15 -> 1
M17: Rodzaj drogi | N17: Długość [km]
M18: Wojewódzka | N18: 2.2 | O18: UG
M19: Powiatowa | N19: 11.5 | O19: UG
M20: Gminna | N20: 37 | O20: UG
M21: Krajowe | N21: 6.4 | O21: UG
N22: =N20/(N18+N19+N20+N21) -> 0.64798599
M24: Średnia liczba pokonywanych kilometrów przez ankietowanych: | Q24: =SUM('Obiekty prywatne'!N3:N133)*12 -> 1081200 | R24: km/rok
M25: Średnia liczba pokonywanych kilometrów przez mieszkańców: | Q25: =Q24*(Q3+Q4+Q5+Q6+Q7)/Q26 -> 21655084 | R25: km/rok/gminę
M26: Liczba pojazdów poddanych ankiecie: | Q26: =SUM('Obiekty prywatne'!L3:L133) -> 105
A33: TRANSPORT LOKALNY-2010r. | B33: Zastosowane paliwo | C33: Samochody osobowe | D33: Motocykle | E33: Samochody Ciężarowe | F33: Autobusy | G33: Ciągniki rolnicze | H33: Suma | N33: Mg/l | O33: MWh/l
C34: Liczba przejechanych kilometrów (mln km) | M34: Benzyna | N34: ='Wskaźniki emisji 2010r'!B20/1000 -> 0.0007 | O34: =N34*'Wskaźniki emisji 2015r'!B13 -> 0.00868672
C35: Razem | H35: =Q25/1000000 -> 21.655084 | M35: Olej napędowy | N35: ='Wskaźniki emisji 2010r'!B19/1000 -> 0.00083 | O35: =N35*'Wskaźniki emisji 2015r'!B12 -> 0.0099620003
C36: Rozkład pojazdów (%ogólnej liczby przejechanych kilometrów) ustalonych na etapie gromadzenia danych | M36: LPG | N36: ='Wskaźniki emisji 2010r'!B21/1000 -> 0.0006 | O36: =N36*'Wskaźniki emisji 2015r'!B14 -> 0.007862922
B37: Ogółem | C37: =R3 -> 0.7526197 | D37: =R4 -> 0.081297041 | E37: =R5 -> 0.1392578 | F37: =R6 -> 0.022767041 | G37: =R7 -> 0.0040584168 | H37: =SUM(C37:G37) -> 1
B38: Benzyna | C38: =C37*N11 -> 0.48595223 | D38: =D37*N12 -> 0.076622293 | E38: =E37*N13 -> 0.054021967 | F38: =F37*N14 -> 0.0011615079 | G38: =G37*N15 -> 7.3328241e-05 | H38: =SUM(C38:G38) -> 0.61783132
B39: Olej napędowy | C39: =C37*O11 -> 0.16613902 | D39: =D37*O12 -> 0.00066271516 | E39: =E37*O13 -> 0.078081976 | F39: =F37*O14 -> 0.021558479 | G39: =G37*O15 -> 0.0039707745 | H39: =SUM(C39:G39) -> 0.27041296 | M39: Udziały w uzyciu rodzaju paliwa | N39: Osobowy | O39: Cezarowy | P39: motocykl | Q39: Autobus
B40: LPG | C40: =C37*P11 -> 0.10052845 | D40: =D37*P12 -> 0.0040120327 | E40: =E37*P13 -> 0.0071538601 | F40: =F37*P14 -> 4.7054692e-05 | G40: =G37*P15 -> 1.4314074e-05 | H40: =SUM(C40:G40) -> 0.11175571 | M40: Benzyna | N40: =N11/Q11 -> 0.64568098 | O40: =N13/Q13 -> 0.38792776
C41: Średnie zużycie paliwa (l/km) ustalone na etapie gromadzenia danych | M41: Olej napędowy | N41: =O11/Q11 -> 0.22074764 | O41: =O13/Q13 -> 0.5607009
B42: Benzyna | C42: 0.08 | D42: 0.04 | E42: 0.13 | M42: LPG | N42: =P11/Q11 -> 0.13357138
B43: Olej napędowy | C43: 0.071 | E43: 0.298 | F43: 0.292
B44: LPG | C44: 0.102 | N44: =C53 -> Wyliczone zużycie paliwa (MWh)
C45: Wyliczona liczba przejechanych kilometrów (mln km) | M45: =B50 -> Benzyna | N45: =H54 -> 9210.685
B46: Benzyna | C46: =C38*$H$35 -> 10.523336 | D46: =D38*$H$35 -> 1.6592622 | E46: =E38*$H$35 -> 1.1698503 | F46: =F38*$H$35 -> 0.025152552 | H46: =SUM(C46:F46) -> 13.377601 | M46: =B51 -> Olej napędowy | N46: =H55 -> 8922.3735
B47: Olej napędowy | C47: =C39*$H$35 -> 3.5977545 | D47: =D39*$H$35 -> 0.014351153 | E47: =E39*$H$35 -> 1.6908718 | F47: =F39*$H$35 -> 0.46685068 | H47: =SUM(C47:F47) -> 5.7698281 | M47: =B52 -> LPG | N47: =H56 -> 1745.9549
B48: LPG | C48: =C40*$H$35 -> 2.1769521 | D48: =D40*$H$35 -> 0.086880907 | E48: =E40*$H$35 -> 0.15491744 | F48: =F40*$H$35 -> 0.0010189733 | H48: =SUM(C48:F48) -> 2.4197694
C49: Wyliczone zużycie paliwa (mln l)
B50: Benzyna | C50: =C42*C46 -> 0.84186692 | D50: =D42*D46 -> 0.066370489 | E50: =E42*E46 -> 0.15208053
B51: Olej napędowy | C51: =C43*C47 -> 0.25544057 | E51: =E43*E47 -> 0.50387979 | F51: =F43*F47 -> 0.1363204
B52: LPG | C52: =C44*C48 -> 0.22204911
C53: Wyliczone zużycie paliwa (MWh)
B54: Benzyna | C54: =C50*1000000*$O$34 -> 7313.0622 | D54: =D50*1000000*$O$34 -> 576.54185 | E54: =E50*1000000*$O$34 -> 1321.081 | H54: =SUM(C54:F54) -> 9210.685
B55: Olej napędowy | C55: =C51*1000000*$O$35 -> 2544.699 | E55: =E51*1000000*$O$35 -> 5019.6506 | F55: =F51*1000000*$O$35 -> 1358.0238 | H55: =SUM(C55:F55) -> 8922.3735
B56: LPG | C56: =C52*1000000*$O$36 -> 1745.9549 | H56: =SUM(C56:F56) -> 1745.9549
C57: Wyliczona emisja CO2 (Mg)
B58: Benzyna | C58: =C54*'Wskaźniki emisji 2010r'!$D$13 -> 2210.3489 | D58: =D54*'Wskaźniki emisji 2010r'!$D$13 -> 174.25787 | E58: =E54*'Wskaźniki emisji 2010r'!$D$13 -> 399.29237 | H58: =SUM(C58:F58) -> 2783.8991
B59: Olej napędowy | C59: =C55*'Wskaźniki emisji 2010r'!$D$12 -> 822.03868 | E59: =E55*'Wskaźniki emisji 2010r'!$D$12 -> 1621.5462 | F59: =F55*'Wskaźniki emisji 2010r'!$D$12 -> 438.69554 | H59: =SUM(C59:F59) -> 2882.2804
B60: LPG | C60: =C56*'Wskaźniki emisji 2010r'!D14 -> 480.25296 | H60: =SUM(C60:F60) -> 480.25296
D61: Suma zużytego paliwa | F61: =H56+H55+H54 -> 19879.013 | H61: MWh
D62: Suma Emisji CO2 Mg | F62: =H60+H59+H58 -> 6146.4325 | H62: Mg CO2

Sheet Transport- rok kontrolny
M1: Rodzaj pojazdu | N1: Rodzaj paliwa
N2: Benzyna | O2: Olej napędowy | P2: LPG | Q2: Razem
M3: Samochody osobowe | N3: ='Prognoza transport lokalny'!C33 -> 1448.9081 | O3: ='Prognoza transport lokalny'!D33 -> 495.3577 | P3: ='Prognoza transport lokalny'!E33 -> 299.73417 | Q3: =SUM(N3:P3) -> 2244 | R3: =Q3/R$8 -> 0.77889622
M4: Motocykle | N4: ='Prognoza transport lokalny'!C34 -> 210.17704 | O4: ='Prognoza transport lokalny'!D34 -> 1.8178458 | P4: ='Prognoza transport lokalny'!E34 -> 11.005115 | Q4: =SUM(N4:P4) -> 223 | R4: =Q4/R$8 -> 0.077403679
M5: Samochody ciężarowe | N5: ='Prognoza transport lokalny'!C35 -> 132.67129 | O5: ='Prognoza transport lokalny'!D35 -> 191.75971 | P5: ='Prognoza transport lokalny'!E35 -> 17.568999 | Q5: =SUM(N5:P5) -> 342 | R5: =Q5/R$8 -> 0.11870878
M6: Autobusy | N6: ='Prognoza transport lokalny'!C36 -> 2.8059393 | O6: ='Prognoza transport lokalny'!D36 -> 52.080387 | P6: ='Prognoza transport lokalny'!E36 -> 0.11367345 | Q6: =SUM(N6:P6) -> 55 | R6: =Q6/R$8 -> 0.019090594
M7: Ciągniki rolnicze | N7: ='Prognoza transport lokalny'!C37 -> 0.30715921 | O7: ='Prognoza transport lokalny'!D37 -> 16.632882 | P7: ='Prognoza transport lokalny'!E37 -> 0.059959161 | Q7: =SUM(N7:P7) -> 17 | R7: =Q7/R$8 -> 0.0059007289
R8: =Q6+Q5+Q4+Q3+Q7 -> 2881
M9: Rodzaj pojazdu | N9: Rodzaj paliwa
N10: Benzyna | O10: Olej napędowy | P10: LPG | Q10: Razem
M11: Samochody osobowe | N11: =N3/Q3 -> 0.64568098 | O11: =O3/Q3 -> 0.22074764 | P11: =P3/Q3 -> 0.13357138 | Q11: =N11+O11+P11 -> 1
M12: Motocykle | N12: =N4/Q4 -> 0.94249793 | O12: =O4/Q4 -> 0.0081517747 | P12: =P4/Q4 -> 0.049350292 | Q12: =N12+O12+P12 -> 1
M13: Samochody ciężarowe | N13: =N5/Q5 -> 0.38792776 | O13: =O5/Q5 -> 0.5607009 | P13: =P5/Q5 -> 0.051371341 | Q13: =N13+O13+P13 -> 1
M14: Autobusy | N14: =N6/Q6 -> 0.051017078 | O14: =O6/Q6 -> 0.94691613 | P14: =P6/Q6 -> 0.0020667899 | Q14: =N14+O14+P14 -> 1
M15: Ciągniki rolnicze | N15: =N7/Q7 -> 0.018068189 | O15: =O7/Q7 -> 0.9784048 | P15: =P7/Q7 -> 0.0035270095 | Q15: =N15+O15+P15 -> 1
M17: Rodzaj drogi | N17: Długość [km]
M18: Wojewódzka | N18: 0 | O18: UG
M19: Powiatowa | N19: 34.13 | O19: UG
M20: Gminna | N20: 111 | O20: UG
M21: Krajowe | N21: 14.2 | O21: UG
N22: =N20/(N18+N19+N20+N21) -> 0.69666729
A33: TRANSPORT LOKALNY-2015r. | B33: Zastosowane paliwo | C33: Samochody osobowe | D33: Motocykle | E33: Samochody Ciężarowe | F33: Autobusy | G33: Ciągniki rolnicze | H33: Suma | N33: Mg/l | O33: MWh/l
C34: Liczba przejechanych kilometrów (mln km) | M34: Benzyna | N34: ='Wskaźniki emisji 2010r'!B20/1000 -> 0.0007 | O34: =N34*'Wskaźniki emisji 2015r'!B13 -> 0.00868672
C35: Razem | H35: ='Transport- rok bazowy '!H35*'Prognoza transport lokalny'!F38/'Prognoza transport lokalny'!F32 -> 23.072625 | M35: Olej napędowy | N35: ='Wskaźniki emisji 2010r'!B19/1000 -> 0.00083 | O35: =N35*'Wskaźniki emisji 2015r'!B12 -> 0.0099620003
C36: Rozkład pojazdów (%ogólnej liczby przejechanych kilometrów) ustalonych na etapie gromadzenia danych | M36: LPG | N36: ='Wskaźniki emisji 2010r'!B21/1000 -> 0.0006 | O36: =N36*'Wskaźniki emisji 2015r'!B14 -> 0.007862922
B37: Ogółem | C37: =R3 -> 0.77889622 | D37: =R4 -> 0.077403679 | E37: =R5 -> 0.11870878 | F37: =R6 -> 0.019090594 | G37: =R7 -> 0.0059007289 | H37: =SUM(C37:G37) -> 1
B38: Benzyna | C38: =C37*N11 -> 0.50291848 | D38: =D37*N12 -> 0.072952808 | E38: =E37*N13 -> 0.046050431 | F38: =F37*N14 -> 0.0009739463 | G38: =G37*N15 -> 0.00010661548 | H38: =SUM(C38:G38) -> 0.62300228
B39: Olej napędowy | C39: =C37*O11 -> 0.1719395 | D39: =D37*O12 -> 0.00063097736 | E39: =E37*O13 -> 0.066560121 | F39: =F37*O14 -> 0.018077191 | G39: =G37*O15 -> 0.0057733015 | H39: =SUM(C39:G39) -> 0.26298109 | M39: Udziały w uzyciu rodzaju paliwa | N39: Osobowy | O39: Cezarowy | P39: motocykl | Q39: Autobus
B40: LPG | C40: =C37*P11 -> 0.10403824 | D40: =D37*P12 -> 0.0038198942 | E40: =E37*P13 -> 0.0060982293 | F40: =F37*P14 -> 3.9456247e-05 | G40: =G37*P15 -> 2.0811927e-05 | H40: =SUM(C40:G40) -> 0.11401663 | M40: Benzyna | N40: =N11/Q11 -> 0.64568098 | O40: =N13/Q13 -> 0.38792776
C41: Średnie zużycie paliwa (l/km) ustalone na etapie gromadzenia danych | M41: Olej napędowy | N41: =O11/Q11 -> 0.22074764 | O41: =O13/Q13 -> 0.5607009
B42: Benzyna | C42: 0.08 | D42: 0.04 | E42: 0.13 | M42: LPG | N42: =P11/Q11 -> 0.13357138
B43: Olej napędowy | C43: 0.071 | E43: 0.298 | F43: 0.292
B44: LPG | C44: 0.102 | N44: =C53 -> Wyliczone zużycie paliwa (MWh)
C45: Wyliczona liczba przejechanych kilometrów (mln km) | M45: =B50 -> Benzyna | N45: =H54 -> 9848.5344
B46: Benzyna | C46: =C38*$H$35 -> 11.60365 | D46: =D38*$H$35 -> 1.6832128 | E46: =E38*$H$35 -> 1.0625043 | F46: =F38*$H$35 -> 0.022471498 | H46: =SUM(C46:F46) -> 14.371838 | M46: =B51 -> Olej napędowy | N46: =H55 -> 8578.2501
B47: Olej napędowy | C47: =C39*$H$35 -> 3.9670957 | D47: =D39*$H$35 -> 0.014558304 | E47: =E39*$H$35 -> 1.5357167 | F47: =F39*$H$35 -> 0.41708826 | H47: =SUM(C47:F47) -> 5.934459 | M47: =B52 -> LPG | N47: =H56 -> 1925.1925
B48: LPG | C48: =C40*$H$35 -> 2.4004354 | D48: =D40*$H$35 -> 0.088134988 | E48: =E40*$H$35 -> 0.14070216 | F48: =F40*$H$35 -> 0.0009103592 | H48: =SUM(C48:F48) -> 2.6301829
C49: Wyliczone zużycie paliwa (mln l)
B50: Benzyna | C50: =C42*C46 -> 0.92829197 | D50: =D42*D46 -> 0.067328512 | E50: =E42*E46 -> 0.13812557
B51: Olej napędowy | C51: =C43*C47 -> 0.28166379 | E51: =E43*E47 -> 0.45764359 | F51: =F43*F47 -> 0.12178977
B52: LPG | C52: =C44*C48 -> 0.24484441
C53: Wyliczone zużycie paliwa (MWh)
B54: Benzyna | C54: =C50*1000000*$O$34 -> 8063.8124 | D54: =D50*1000000*$O$34 -> 584.86393 | E54: =E50*1000000*$O$34 -> 1199.8581 | H54: =SUM(C54:F54) -> 9848.5344
B55: Olej napędowy | C55: =C51*1000000*$O$35 -> 2805.9348 | E55: =E51*1000000*$O$35 -> 4559.0456 | F55: =F51*1000000*$O$35 -> 1213.2697 | H55: =SUM(C55:F55) -> 8578.2501
B56: LPG | C56: =C52*1000000*$O$36 -> 1925.1925 | H56: =SUM(C56:F56) -> 1925.1925
C57: Wyliczona emisja CO2 (Mg)
B58: Benzyna | C58: =C54*'Wskaźniki emisji 2015r'!$D$13 -> 1997.3219 | D58: =D54*'Wskaźniki emisji 2015r'!$D$13 -> 144.86467 | E58: =E54*'Wskaźniki emisji 2015r'!$D$13 -> 297.19229 | H58: =SUM(C58:F58) -> 2439.3789
B59: Olej napędowy | C59: =C55*'Wskaźniki emisji 2015r'!$D$12 -> 742.81299 | E59: =E55*'Wskaźniki emisji 2015r'!$D$12 -> 1206.9127 | F59: =F55*'Wskaźniki emisji 2015r'!$D$12 -> 321.18798 | H59: =SUM(C59:F59) -> 2270.9136
B60: LPG | C60: =C56*'Wskaźniki emisji 2015r'!D14 -> 433.96758 | H60: =SUM(C60:F60) -> 433.96758
D61: Suma zużytego paliwa | F61: =H56+H55+H54 -> 20351.977 | H61: MWh
D62: Suma Emisji CO2 Mg | F62: =H60+H59+H58 -> 5144.2601 | H62: Mg CO2

Sheet Owietlenie uliczne
A1: Bilans energetyczny w sektorze Oświetlenia:
A2: Lp. | B2: Własność | C2: Rodzaj opraw | D2: Zainstalowana moc opraw | E2: Ilość opraw | F2: Czas świecenia | G2: Zużycie energii | H2: Emisji CO2
D3: W | E3: szt. | F3: h | G3: MWh | H3: Mg
A4: 1 | B4: TAURON Dystrybucja | C4: SGS lampy sodowe | D4: 70 | E4: 10 | F4: 4024 | G4: =D4*F4*E4/1000000 -> 2.8168 | H4: ='Wskaźniki emisji 2015r'!$D$15*G4 -> 2.2872416 | J4: =G4+G5 -> 159.7528 | M4: =D4*E4 -> 700
D5: 100 | E5: 390 | F5: 4024 | G5: =D5*F5*E5/1000000 -> 156.936 | H5: ='Wskaźniki emisji 2015r'!$D$15*G5 -> 127.43203 | M5: =D5*E5 -> 39000
D6: 150 | E6: 147 | F6: 4024 | G6: =D6*F6*E6/1000000 -> 88.7292 | H6: ='Wskaźniki emisji 2015r'!$D$15*G6 -> 72.04811 | J6: =G6+G7+G8+#REF! -> #REF! | M6: =D6*E6 -> 22050
D7: 250 | E7: 19 | F7: 4024 | G7: =D7*F7*E7/1000000 -> 19.114 | H7: ='Wskaźniki emisji 2015r'!$D$15*G7 -> 15.520568 | M7: =D7*E7 -> 4750
D8: 400 | E8: 8 | F8: 4024 | G8: =D8*F8*E8/1000000 -> 12.8768 | H8: ='Wskaźniki emisji 2015r'!$D$15*G8 -> 10.455962 | M8: =D8*E8 -> 3200
A9: Suma | E9: =SUM(E4:E8) -> 574 | G9: =SUM(G4:G8) -> 280.4728 | H9: =SUM(H4:H8) -> 227.74391 | M9: =SUM(M4:M8)/1000 -> 69.7
A10: OGÓŁEM: | E10: =E9 -> 574 | G10: =G9 -> 280.4728 | H10: =H9 -> 227.74391

Sheet Obiekty prywatne
A1: Lp. | B1: Miejscowość | C1: Ulica | D1: Nr domu | E1: Charakterystyka budynku | L1: Liczba samochodów w gospodarstwie | M1: Paliwo | N1: Średnia ilość pokonywanej trasy | O1: Przeprowadzone modernizacje do 2015 roku | P1: Planowana modernizacja do 2020 roku | Q1: Zużycie energii elektrycznej | S1: Wartość opałowa | T1: Zużycie paliwa | U1: Wkaźniki emisji | V1: Wielkość energii kotły | W1: Wielkość emisji kotły
E2: Budynek | F2: Rok budowy | G2: Powierzchnia ogrzewana [m2] | H2: Stosowne paliwo | I2: Zużycie paliwa | J2: Jednostka | K2: Sposób przygotowania cwu | L2: szt. | M2: typ | N2: km/m-c | Q2: kWh | R2: gęstoś | S2: MWh/t | T2: Mg | U2: t/MWh | V2: MWh | W2: Mg
A3: 1 | B3: Kamienica Polska | C3: Konopnickiej | E3: wolnostojący | F3: 1977 | G3: 90 | H3: węgiel kamienny | I3: 4.5 | J3: Mg | K3: kocioł | L3: 1 | M3: olej napędowy | N3: 300 | O3: termomodernizacja | P3: modernizacja kotłowni | Q3: 3000 | R3: =IF(H3="gaz ziemny",'Wskaźniki emisji 2015r'!$B$22,0) -> 0 | S3: =IF(H3="węgiel kamienny",'Wskaźniki emisji 2015r'!$B$8,IF(H3="gaz ziemny",'Wskaźniki emisji 2015r'!$B$9,IF(H3="drewno opałowe",'Wskaźniki emisji 2015r'!$B$11,IF(H3="olej opałowy",'Wskaźniki emisji 2015r'!$B$10,)))) -> 7.33773 | T3: =IF(R3=0,I3,I3*R3/1000) -> 4.5 | U3: =IF(H3="węgiel kamienny",'Wskaźniki emisji 2015r'!$D$8,IF(H3="gaz ziemny",'Wskaźniki emisji 2015r'!$D$9,IF(H3="olej opałowy",'Wskaźniki emisji 2015r'!$D$10,IF(H3="drewno opałowe",'Wskaźniki emisji 2015r'!$D$11,IF(H3="energia elektryczna",'Wskaźniki emisji 2015r'!$D$15))))) -> 0.33920578 | V3: =S3*T3 -> 33.019785 | W3: =V3*U3 -> 11.200502
O4: wymiana okien | S4: =IF(H4="węgiel kamienny",'Wskaźniki emisji 2015r'!$B$8,IF(H4="gaz ziemny",'Wskaźniki emisji 2015r'!$B$9,IF(H4="drewno opałowe",'Wskaźniki emisji 2015r'!$B$11,IF(H4="olej opałowy",'Wskaźniki emisji 2015r'!$B$10,)))) -> 0 | T4: =IF(R4=0,I4,I4*R4/1000) -> 0 | U4: =IF(H4="węgiel kamienny",'Wskaźniki emisji 2015r'!$D$8,IF(H4="gaz ziemny",'Wskaźniki emisji 2015r'!$D$9,IF(H4="olej opałowy",'Wskaźniki emisji 2015r'!$D$10,IF(H4="drewno opałowe",'Wskaźniki emisji 2015r'!$D$11,IF(H4="energia elektryczna",'Wskaźniki emisji 2015r'!$D$15))))) -> FALSE | V4: =S4*T4 -> 0 | W4: =V4*U4 -> 0
A5: 2 | B5: Kamienica Polska | C5: Konopnickiej | E5: wolnostojący | F5: 1939 | G5: 60 | H5: węgiel kamienny | I5: 7 | J5: Mg | K5: kocioł | L5: 1 | M5: benzyna | N5: 300 | O5: termomodernizacja | P5: ocieplenie stropu | Q5: 2400 | R5: =IF(H5="gaz ziemny",'Wskaźniki emisji 2015r'!$B$22,0) -> 0 | S5: =IF(H5="węgiel kamienny",'Wskaźniki emisji 2015r'!$B$8,IF(H5="gaz ziemny",'Wskaźniki emisji 2015r'!$B$9,IF(H5="drewno opałowe",'Wskaźniki emisji 2015r'!$B$11,IF(H5="olej opałowy",'Wskaźniki emisji 2015r'!$B$10,)))) -> 7.33773 | T5: =IF(R5=0,I5,I5*R5/1000) -> 7 | U5: =IF(H5="węgiel kamienny",'Wskaźniki emisji 2015r'!$D$8,IF(H5="gaz ziemny",'Wskaźniki emisji 2015r'!$D$9,IF(H5="olej opałowy",'Wskaźniki emisji 2015r'!$D$10,IF(H5="drewno opałowe",'Wskaźniki emisji 2015r'!$D$11,IF(H5="energia elektryczna",'Wskaźniki emisji 2015r'!$D$15))))) -> 0.33920578 | V5: =S5*T5 -> 51.36411 | W5: =V5*U5 -> 17.423003
O6: wymiana okien | S6: =IF(H6="węgiel kamienny",'Wskaźniki emisji 2015r'!$B$8,IF(H6="gaz ziemny",'Wskaźniki emisji 2015r'!$B$9,IF(H6="drewno opałowe",'Wskaźniki emisji 2015r'!$B$11,IF(H6="olej opałowy",'Wskaźniki emisji 2015r'!$B$10,)))) -> 0 | T6: =IF(R6=0,I6,I6*R6/1000) -> 0 | U6: =IF(H6="węgiel kamienny",'Wskaźniki emisji 2015r'!$D$8,IF(H6="gaz ziemny",'Wskaźniki emisji 2015r'!$D$9,IF(H6="olej opałowy",'Wskaźniki emisji 2015r'!$D$10,IF(H6="drewno opałowe",'Wskaźniki emisji 2015r'!$D$11,IF(H6="energia elektryczna",'Wskaźniki emisji 2015r'!$D$15))))) -> FALSE | V6: =S6*T6 -> 0 | W6: =V6*U6 -> 0
A7: 3 | B7: Kamienica Polska | C7: Kopalniania | E7: wolnostojący | F7: 2007 | G7: 130 | H7: gaz ziemny | J7: Mg | K7: kocioł | L7: 2 | M7: olej napędowy | N7: 1500 | R7: =IF(H7="gaz ziemny",'Wskaźniki emisji 2015r'!$B$22,0) -> 0.716 | S7: =IF(H7="węgiel kamienny",'Wskaźniki emisji 2015r'!$B$8,IF(H7="gaz ziemny",'Wskaźniki emisji 2015r'!$B$9,IF(H7="drewno opałowe",'Wskaźniki emisji 2015r'!$B$11,IF(H7="olej opałowy",'Wskaźniki emisji 2015r'!$B$10,)))) -> 13.296 | T7: =IF(R7=0,I7,I7*R7/1000) -> 0 | U7: =IF(H7="węgiel kamienny",'Wskaźniki emisji 2015r'!$D$8,IF(H7="gaz ziemny",'Wskaźniki emisji 2015r'!$D$9,IF(H7="olej opałowy",'Wskaźniki emisji 2015r'!$D$10,IF(H7="drewno opałowe",'Wskaźniki emisji 2015r'!$D$11,IF(H7="energia elektryczna",'Wskaźniki emisji 2015r'!$D$15))))) -> 0.20151625 | V7: =S7*T7 -> 0 | W7: =V7*U7 -> 0
A8: 4 | B8: Kamienica Polska | C8: Konopnickiej | E8: wolnostojący | F8: 1935 | G8: 70 | H8: gaz ziemny | J8: Mg | K8: kocioł | L8: 1 | M8: benzyna | O8: termomodernizacja | R8: =IF(H8="gaz ziemny",'Wskaźniki emisji 2015r'!$B$22,0) -> 0.716 | S8: =IF(H8="węgiel kamienny",'Wskaźniki emisji 2015r'!$B$8,IF(H8="gaz ziemny",'Wskaźniki emisji 2015r'!$B$9,IF(H8="drewno opałowe",'Wskaźniki emisji 2015r'!$B$11,IF(H8="olej opałowy",'Wskaźniki emisji 2015r'!$B$10,)))) -> 13.296 | T8: =IF(R8=0,I8,I8*R8/1000) -> 0 | U8: =IF(H8="węgiel kamienny",'Wskaźniki emisji 2015r'!$D$8,IF(H8="gaz ziemny",'Wskaźniki emisji 2015r'!$D$9,IF(H8="olej opałowy",'Wskaźniki emisji 2015r'!$D$10,IF(H8="drewno opałowe",'Wskaźniki emisji 2015r'!$D$11,IF(H8="energia elektryczna",'Wskaźniki emisji 2015r'!$D$15))))) -> 0.20151625 | V8: =S8*T8 -> 0 | W8: =V8*U8 -> 0
O9: wymiana okien | S9: =IF(H9="węgiel kamienny",'Wskaźniki emisji 2015r'!$B$8,IF(H9="gaz ziemny",'Wskaźniki emisji 2015r'!$B$9,IF(H9="drewno opałowe",'Wskaźniki emisji 2015r'!$B$11,IF(H9="olej opałowy",'Wskaźniki emisji 2015r'!$B$10,)))) -> 0 | T9: =IF(R9=0,I9,I9*R9/1000) -> 0 | U9: =IF(H9="węgiel kamienny",'Wskaźniki emisji 2015r'!$D$8,IF(H9="gaz ziemny",'Wskaźniki emisji 2015r'!$D$9,IF(H9="olej opałowy",'Wskaźniki emisji 2015r'!$D$10,IF(H9="drewno opałowe",'Wskaźniki emisji 2015r'!$D$11,IF(H9="energia elektryczna",'Wskaźniki emisji 2015r'!$D$15))))) -> FALSE | V9: =S9*T9 -> 0 | W9: =V9*U9 -> 0
A10: 5 | B10: Zawada | C10: Botaniczna | E10: bliźniak | F10: 1983 | G10: 220 | H10: węgiel kamienny | I10: 7 | J10: Mg | K10: kocioł | L10: 1 | M10: benzyna | N10: 400 | O10: wymiana okien | R10: =IF(H10="gaz ziemny",'Wskaźniki emisji 2015r'!$B$22,0) -> 0 | S10: =IF(H10="węgiel kamienny",'Wskaźniki emisji 2015r'!$B$8,IF(H10="gaz ziemny",'Wskaźniki emisji 2015r'!$B$9,IF(H10="drewno opałowe",'Wskaźniki emisji 2015r'!$B$11,IF(H10="olej opałowy",'Wskaźniki emisji 2015r'!$B$10,)))) -> 7.33773 | T10: =IF(R10=0,I10,I10*R10/1000) -> 7 | U10: =IF(H10="węgiel kamienny",'Wskaźniki emisji 2015r'!$D$8,IF(H10="gaz ziemny",'Wskaźniki emisji 2015r'!$D$9,IF(H10="olej opałowy",'Wskaźniki emisji 2015r'!$D$10,IF(H10="drewno opałowe",'Wskaźniki emisji 2015r'!$D$11,IF(H10="energia elektryczna",'Wskaźniki emisji 2015r'!$D$15))))) -> 0.33920578 | V10: =S10*T10 -> 51.36411 | W10: =V10*U10 -> 17.423003
O11: ocieplenie stropu | S11: =IF(H11="węgiel kamienny",'Wskaźniki emisji 2015r'!$B$8,IF(H11="gaz ziemny",'Wskaźniki emisji 2015r'!$B$9,IF(H11="drewno opałowe",'Wskaźniki emisji 2015r'!$B$11,IF(H11="olej opałowy",'Wskaźniki emisji 2015r'!$B$10,)))) -> 0 | T11: =IF(R11=0,I11,I11*R11/1000) -> 0 | U11: =IF(H11="węgiel kamienny",'Wskaźniki emisji 2015r'!$D$8,IF(H11="gaz ziemny",'Wskaźniki emisji 2015r'!$D$9,IF(H11="olej opałowy",'Wskaźniki emisji 2015r'!$D$10,IF(H11="drewno opałowe",'Wskaźniki emisji 2015r'!$D$11,IF(H11="energia elektryczna",'Wskaźniki emisji 2015r'!$D$15))))) -> FALSE | V11: =S11*T11 -> 0 | W11: =V11*U11 -> 0
A12: 6 | B12: Zawada | C12: Długa | E12: bd | F12: 1950 | G12: 150 | H12: węgiel kamienny | I12: 10 | J12: Mg | K12: kocioł | L12: 1 | M12: benzyna | N12: 400 | O12: wymiana okien | P12: termomodernizacja | Q12: 2000 | R12: =IF(H12="gaz ziemny",'Wskaźniki emisji 2015r'!$B$22,0) -> 0 | S12: =IF(H12="węgiel kamienny",'Wskaźniki emisji 2015r'!$B$8,IF(H12="gaz ziemny",'Wskaźniki emisji 2015r'!$B$9,IF(H12="drewno opałowe",'Wskaźniki emisji 2015r'!$B$11,IF(H12="olej opałowy",'Wskaźniki emisji 2015r'!$B$10,)))) -> 7.33773 | T12: =IF(R12=0,I12,I12*R12/1000) -> 10 | U12: =IF(H12="węgiel kamienny",'Wskaźniki emisji 2015r'!$D$8,IF(H12="gaz ziemny",'Wskaźniki emisji 2015r'!$D$9,IF(H12="olej opałowy",'Wskaźniki emisji 2015r'!$D$10,IF(H12="drewno opałowe",'Wskaźniki emisji 2015r'!$D$11,IF(H12="energia elektryczna",'Wskaźniki emisji 2015r'!$D$15))))) -> 0.33920578 | V12: =S12*T12 -> 73.3773 | W12: =V12*U12 -> 24.890004
A13: 7 | B13: Kamienica Polska | C13: bd | E13: wolnostojący | F13: 1985 | G13: 190 | H13: węgiel kamienny | I13: 10 | J13: Mg | K13: kocioł | L13: 1 | M13: olej napędowy | N13: 1000 | O13: wymiana okien | P13: termomodernizacja | Q13: 2400 | R13: =IF(H13="gaz ziemny",'Wskaźniki emisji 2015r'!$B$22,0) -> 0 | S13: =IF(H13="węgiel kamienny",'Wskaźniki emisji 2015r'!$B$8,IF(H13="gaz ziemny",'Wskaźniki emisji 2015r'!$B$9,IF(H13="drewno opałowe",'Wskaźniki emisji 2015r'!$B$11,IF(H13="olej opałowy",'Wskaźniki emisji 2015r'!$B$10,)))) -> 7.33773 | T13: =IF(R13=0,I13,I13*R13/1000) -> 10 | U13: =IF(H13="węgiel kamienny",'Wskaźniki emisji 2015r'!$D$8,IF(H13="gaz ziemny",'Wskaźniki emisji 2015r'!$D$9,IF(H13="olej opałowy",'Wskaźniki emisji 2015r'!$D$10,IF(H13="drewno opałowe",'Wskaźniki emisji 2015r'!$D$11,IF(H13="energia elektryczna",'Wskaźniki emisji 2015r'!$D$15))))) -> 0.33920578 | V13: =S13*T13 -> 73.3773 | W13: =V13*U13 -> 24.890004
O14: ocieplenie stropu | S14: =IF(H14="węgiel kamienny",'Wskaźniki emisji 2015r'!$B$8,IF(H14="gaz ziemny",'Wskaźniki emisji 2015r'!$B$9,IF(H14="drewno opałowe",'Wskaźniki emisji 2015r'!$B$11,IF(H14="olej opałowy",'Wskaźniki emisji 2015r'!$B$10,)))) -> 0 | T14: =IF(R14=0,I14,I14*R14/1000) -> 0 | U14: =IF(H14="węgiel kamienny",'Wskaźniki emisji 2015r'!$D$8,IF(H14="gaz ziemny",'Wskaźniki emisji 2015r'!$D$9,IF(H14="olej opałowy",'Wskaźniki emisji 2015r'!$D$10,IF(H14="drewno opałowe",'Wskaźniki emisji 2015r'!$D$11,IF(H14="energia elektryczna",'Wskaźniki emisji 2015r'!$D$15))))) -> FALSE | V14: =S14*T14 -> 0 | W14: =V14*U14 -> 0
A15: 8 | B15: Zawisna | C15: bd | E15: bd | F15: 1983 | G15: 111 | H15: węgiel kamienny | I15: 8 | J15: Mg | K15: kocioł | L15: 2 | M15: olej napędowy | N15: 1800 | O15: termomodernizacja | P15: wymiana okien | R15: =IF(H15="gaz ziemny",'Wskaźniki emisji 2015r'!$B$22,0) -> 0 | S15: =IF(H15="węgiel kamienny",'Wskaźniki emisji 2015r'!$B$8,IF(H15="gaz ziemny",'Wskaźniki emisji 2015r'!$B$9,IF(H15="drewno opałowe",'Wskaźniki emisji 2015r'!$B$11,IF(H15="olej opałowy",'Wskaźniki emisji 2015r'!$B$10,)))) -> 7.33773 | T15: =IF(R15=0,I15,I15*R15/1000) -> 8 | U15: =IF(H15="węgiel kamienny",'Wskaźniki emisji 2015r'!$D$8,IF(H15="gaz ziemny",'Wskaźniki emisji 2015r'!$D$9,IF(H15="olej opałowy",'Wskaźniki emisji 2015r'!$D$10,IF(H15="drewno opałowe",'Wskaźniki emisji 2015r'!$D$11,IF(H15="energia elektryczna",'Wskaźniki emisji 2015r'!$D$15))))) -> 0.33920578 | V15: =S15*T15 -> 58.70184 | W15: =V15*U15 -> 19.912003
M16: benzyna | R16: =IF(H16="gaz ziemny",'Wskaźniki emisji 2015r'!$B$22,0) -> 0 | S16: =IF(H16="węgiel kamienny",'Wskaźniki emisji 2015r'!$B$8,IF(H16="gaz ziemny",'Wskaźniki emisji 2015r'!$B$9,IF(H16="drewno opałowe",'Wskaźniki emisji 2015r'!$B$11,IF(H16="olej opałowy",'Wskaźniki emisji 2015r'!$B$10,)))) -> 0 | T16: =IF(R16=0,I16,I16*R16/1000) -> 0 | U16: =IF(H16="węgiel kamienny",'Wskaźniki emisji 2015r'!$D$8,IF(H16="gaz ziemny",'Wskaźniki emisji 2015r'!$D$9,IF(H16="olej opałowy",'Wskaźniki emisji 2015r'!$D$10,IF(H16="drewno opałowe",'Wskaźniki emisji 2015r'!$D$11,IF(H16="energia elektryczna",'Wskaźniki emisji 2015r'!$D$15))))) -> FALSE | V16: =S16*T16 -> 0 | W16: =V16*U16 -> 0
A17: 9 | B17: Kamienica Polska | C17: Domagalska | E17: wolnostojący | F17: 1986 | G17: 140 | H17: węgiel kamienny | I17: 8 | J17: Mg | K17: kocioł | O17: termomodernizacja | R17: =IF(H17="gaz ziemny",'Wskaźniki emisji 2015r'!$B$22,0) -> 0 | S17: =IF(H17="węgiel kamienny",'Wskaźniki emisji 2015r'!$B$8,IF(H17="gaz ziemny",'Wskaźniki emisji 2015r'!$B$9,IF(H17="drewno opałowe",'Wskaźniki emisji 2015r'!$B$11,IF(H17="olej opałowy",'Wskaźniki emisji 2015r'!$B$10,)))) -> 7.33773 | T17: =IF(R17=0,I17,I17*R17/1000) -> 8 | U17: =IF(H17="węgiel kamienny",'Wskaźniki emisji 2015r'!$D$8,IF(H17="gaz ziemny",'Wskaźniki emisji 2015r'!$D$9,IF(H17="olej opałowy",'Wskaźniki emisji 2015r'!$D$10,IF(H17="drewno opałowe",'Wskaźniki emisji 2015r'!$D$11,IF(H17="energia elektryczna",'Wskaźniki emisji 2015r'!$D$15))))) -> 0.33920578 | V17: =S17*T17 -> 58.70184 | W17: =V17*U17 -> 19.912003
A18: 10 | B18: Kamienica Polska | C18: Konopnickiej | E18: wolnostojący | F18: 2000 | G18: 100 | H18: węgiel kamienny | I18: 4 | J18: Mg | K18: kocioł | O18: termomodernizacja | P18: modernizacja kotłowni | R18: =IF(H18="gaz ziemny",'Wskaźniki emisji 2015r'!$B$22,0) -> 0 | S18: =IF(H18="węgiel kamienny",'Wskaźniki emisji 2015r'!$B$8,IF(H18="gaz ziemny",'Wskaźniki emisji 2015r'!$B$9,IF(H18="drewno opałowe",'Wskaźniki emisji 2015r'!$B$11,IF(H18="olej opałowy",'Wskaźniki emisji 2015r'!$B$10,)))) -> 7.33773 | T18: =IF(R18=0,I18,I18*R18/1000) -> 4 | U18: =IF(H18="węgiel kamienny",'Wskaźniki emisji 2015r'!$D$8,IF(H18="gaz ziemny",'Wskaźniki emisji 2015r'!$D$9,IF(H18="olej opałowy",'Wskaźniki emisji 2015r'!$D$10,IF(H18="drewno opałowe",'Wskaźniki emisji 2015r'!$D$11,IF(H18="energia elektryczna",'Wskaźniki emisji 2015r'!$D$15))))) -> 0.33920578 | V18: =S18*T18 -> 29.35092 | W18: =V18*U18 -> 9.9560016
A19: 11 | B19: Kamienica Polska | C19: Konopnickiej | E19: bd | F19: 1935 | G19: 123 | H19: węgiel kamienny | I19: 7 | J19: Mg | K19: kocioł | L19: 1 | M19: benzyna | N19: 600 | O19: wymiana okien | P19: termomodernizacja | R19: =IF(H19="gaz ziemny",'Wskaźniki emisji 2015r'!$B$22,0) -> 0 | S19: =IF(H19="węgiel kamienny",'Wskaźniki emisji 2015r'!$B$8,IF(H19="gaz ziemny",'Wskaźniki emisji 2015r'!$B$9,IF(H19="drewno opałowe",'Wskaźniki emisji 2015r'!$B$11,IF(H19="olej opałowy",'Wskaźniki emisji 2015r'!$B$10,)))) -> 7.33773 | T19: =IF(R19=0,I19,I19*R19/1000) -> 7 | U19: =IF(H19="węgiel kamienny",'Wskaźniki emisji 2015r'!$D$8,IF(H19="gaz ziemny",'Wskaźniki emisji 2015r'!$D$9,IF(H19="olej opałowy",'Wskaźniki emisji 2015r'!$D$10,IF(H19="drewno opałowe",'Wskaźniki emisji 2015r'!$D$11,IF(H19="energia elektryczna",'Wskaźniki emisji 2015r'!$D$15))))) -> 0.33920578 | V19: =S19*T19 -> 51.36411 | W19: =V19*U19 -> 17.423003
A20: 12 | B20: Rudnik Wielki | C20: Słoneczna | E20: wolnostojący | F20: 1990 | G20: 160 | H20: węgiel kamienny | I20: 7 | J20: Mg | K20: kocioł | L20: 2 | M20: benzyna | N20: 800 | Q20: 4000 | R20: =IF(H20="gaz ziemny",'Wskaźniki emisji 2015r'!$B$22,0) -> 0 | S20: =IF(H20="węgiel kamienny",'Wskaźniki emisji 2015r'!$B$8,IF(H20="gaz ziemny",'Wskaźniki emisji 2015r'!$B$9,IF(H20="drewno opałowe",'Wskaźniki emisji 2015r'!$B$11,IF(H20="olej opałowy",'Wskaźniki emisji 2015r'!$B$10,)))) -> 7.33773 | T20: =IF(R20=0,I20,I20*R20/1000) -> 7 | U20: =IF(H20="węgiel kamienny",'Wskaźniki emisji 2015r'!$D$8,IF(H20="gaz ziemny",'Wskaźniki emisji 2015r'!$D$9,IF(H20="olej opałowy",'Wskaźniki emisji 2015r'!$D$10,IF(H20="drewno opałowe",'Wskaźniki emisji 2015r'!$D$11,IF(H20="energia elektryczna",'Wskaźniki emisji 2015r'!$D$15))))) -> 0.33920578 | V20: =S20*T20 -> 51.36411 | W20: =V20*U20 -> 17.423003
M21: olej napędowy | S21: =IF(H21="węgiel kamienny",'Wskaźniki emisji 2015r'!$B$8,IF(H21="gaz ziemny",'Wskaźniki emisji 2015r'!$B$9,IF(H21="drewno opałowe",'Wskaźniki emisji 2015r'!$B$11,IF(H21="olej opałowy",'Wskaźniki emisji 2015r'!$B$10,)))) -> 0 | T21: =IF(R21=0,I21,I21*R21/1000) -> 0 | U21: =IF(H21="węgiel kamienny",'Wskaźniki emisji 2015r'!$D$8,IF(H21="gaz ziemny",'Wskaźniki emisji 2015r'!$D$9,IF(H21="olej opałowy",'Wskaźniki emisji 2015r'!$D$10,IF(H21="drewno opałowe",'Wskaźniki emisji 2015r'!$D$11,IF(H21="energia elektryczna",'Wskaźniki emisji 2015r'!$D$15))))) -> FALSE | V21: =S21*T21 -> 0 | W21: =V21*U21 -> 0
A22: 13 | B22: Zawada | C22: Botaniczna | E22: wolnostojący | F22: 1950 | G22: 110 | H22: węgiel kamienny | I22: 6 | J22: Mg | K22: kocioł | L22: 2 | M22: benzyna | N22: 1000 | O22: termomodernizacja | P22: kolektory słoneczne | Q22: 2000 | R22: =IF(H22="gaz ziemny",'Wskaźniki emisji 2015r'!$B$22,0) -> 0 | S22: =IF(H22="węgiel kamienny",'Wskaźniki emisji 2015r'!$B$8,IF(H22="gaz ziemny",'Wskaźniki emisji 2015r'!$B$9,IF(H22="drewno opałowe",'Wskaźniki emisji 2015r'!$B$11,IF(H22="olej opałowy",'Wskaźniki emisji 2015r'!$B$10,)))) -> 7.33773 | T22: =IF(R22=0,I22,I22*R22/1000) -> 6 | U22: =IF(H22="węgiel kamienny",'Wskaźniki emisji 2015r'!$D$8,IF(H22="gaz ziemny",'Wskaźniki emisji 2015r'!$D$9,IF(H22="olej opałowy",'Wskaźniki emisji 2015r'!$D$10,IF(H22="drewno opałowe",'Wskaźniki emisji 2015r'!$D$11,IF(H22="energia elektryczna",'Wskaźniki emisji 2015r'!$D$15))))) -> 0.33920578 | V22: =S22*T22 -> 44.02638 | W22: =V22*U22 -> 14.934002
M23: olej napędowy | O23: wymiana okien | P23: panele fotowoltaiczne | S23: =IF(H23="węgiel kamienny",'Wskaźniki emisji 2015r'!$B$8,IF(H23="gaz ziemny",'Wskaźniki emisji 2015r'!$B$9,IF(H23="drewno opałowe",'Wskaźniki emisji 2015r'!$B$11,IF(H23="olej opałowy",'Wskaźniki emisji 2015r'!$B$10,)))) -> 0 | T23: =IF(R23=0,I23,I23*R23/1000) -> 0 | U23: =IF(H23="węgiel kamienny",'Wskaźniki emisji 2015r'!$D$8,IF(H23="gaz ziemny",'Wskaźniki emisji 2015r'!$D$9,IF(H23="olej opałowy",'Wskaźniki emisji 2015r'!$D$10,IF(H23="drewno opałowe",'Wskaźniki emisji 2015r'!$D$11,IF(H23="energia elektryczna",'Wskaźniki emisji 2015r'!$D$15))))) -> FALSE | V23: =S23*T23 -> 0 | W23: =V23*U23 -> 0
P24: pompa ciepła | S24: =IF(H24="węgiel kamienny",'Wskaźniki emisji 2015r'!$B$8,IF(H24="gaz ziemny",'Wskaźniki emisji 2015r'!$B$9,IF(H24="drewno opałowe",'Wskaźniki emisji 2015r'!$B$11,IF(H24="olej opałowy",'Wskaźniki emisji 2015r'!$B$10,)))) -> 0 | T24: =IF(R24=0,I24,I24*R24/1000) -> 0 | U24: =IF(H24="węgiel kamienny",'Wskaźniki emisji 2015r'!$D$8,IF(H24="gaz ziemny",'Wskaźniki emisji 2015r'!$D$9,IF(H24="olej opałowy",'Wskaźniki emisji 2015r'!$D$10,IF(H24="drewno opałowe",'Wskaźniki emisji 2015r'!$D$11,IF(H24="energia elektryczna",'Wskaźniki emisji 2015r'!$D$15))))) -> FALSE | V24: =S24*T24 -> 0 | W24: =V24*U24 -> 0
A25: 14 | B25: Kamienica Polska | C25: Magazynowa | E25: wolnostojący | F25: 2014 | G25: 120 | H25: węgiel kamienny | I25: 4 | J25: Mg | K25: Kocioł | L25: 1 | M25: benzyna | N25: 400 | R25: =IF(H25="gaz ziemny",'Wskaźniki emisji 2015r'!$B$22,0) -> 0 | S25: =IF(H25="węgiel kamienny",'Wskaźniki emisji 2015r'!$B$8,IF(H25="gaz ziemny",'Wskaźniki emisji 2015r'!$B$9,IF(H25="drewno opałowe",'Wskaźniki emisji 2015r'!$B$11,IF(H25="olej opałowy",'Wskaźniki emisji 2015r'!$B$10,)))) -> 7.33773 | T25: =IF(R25=0,I25,I25*R25/1000) -> 4 | U25: =IF(H25="węgiel kamienny",'Wskaźniki emisji 2015r'!$D$8,IF(H25="gaz ziemny",'Wskaźniki emisji 2015r'!$D$9,IF(H25="olej opałowy",'Wskaźniki emisji 2015r'!$D$10,IF(H25="drewno opałowe",'Wskaźniki emisji 2015r'!$D$11,IF(H25="energia elektryczna",'Wskaźniki emisji 2015r'!$D$15))))) -> 0.33920578 | V25: =S25*T25 -> 29.35092 | W25: =V25*U25 -> 9.9560016
A26: 15 | B26: Wanaty | C26: Warszawska | E26: wolnostojący | F26: 1961 | G26: 91.2 | H26: węgiel kamienny | I26: 9 | J26: Mg | K26: Kocioł | L26: 2 | M26: benzyna | N26: 300 | O26: wymiana okien | P26: modernizacja kotłowni | Q26: 4000 | R26: =IF(H26="gaz ziemny",'Wskaźniki emisji 2015r'!$B$22,0) -> 0 | S26: =IF(H26="węgiel kamienny",'Wskaźniki emisji 2015r'!$B$8,IF(H26="gaz ziemny",'Wskaźniki emisji 2015r'!$B$9,IF(H26="drewno opałowe",'Wskaźniki emisji 2015r'!$B$11,IF(H26="olej opałowy",'Wskaźniki emisji 2015r'!$B$10,)))) -> 7.33773 | T26: =IF(R26=0,I26,I26*R26/1000) -> 9 | U26: =IF(H26="węgiel kamienny",'Wskaźniki emisji 2015r'!$D$8,IF(H26="gaz ziemny",'Wskaźniki emisji 2015r'!$D$9,IF(H26="olej opałowy",'Wskaźniki emisji 2015r'!$D$10,IF(H26="drewno opałowe",'Wskaźniki emisji 2015r'!$D$11,IF(H26="energia elektryczna",'Wskaźniki emisji 2015r'!$D$15))))) -> 0.33920578 | V26: =S26*T26 -> 66.03957 | W26: =V26*U26 -> 22.401004
O27: termomodernizacja | P27: wymiana okien | R27: =IF(H27="gaz ziemny",'Wskaźniki emisji 2015r'!$B$22,0) -> 0 | S27: =IF(H27="węgiel kamienny",'Wskaźniki emisji 2015r'!$B$8,IF(H27="gaz ziemny",'Wskaźniki emisji 2015r'!$B$9,IF(H27="drewno opałowe",'Wskaźniki emisji 2015r'!$B$11,IF(H27="olej opałowy",'Wskaźniki emisji 2015r'!$B$10,)))) -> 0 | T27: =IF(R27=0,I27,I27*R27/1000) -> 0 | U27: =IF(H27="węgiel kamienny",'Wskaźniki emisji 2015r'!$D$8,IF(H27="gaz ziemny",'Wskaźniki emisji 2015r'!$D$9,IF(H27="olej opałowy",'Wskaźniki emisji 2015r'!$D$10,IF(H27="drewno opałowe",'Wskaźniki emisji 2015r'!$D$11,IF(H27="energia elektryczna",'Wskaźniki emisji 2015r'!$D$15))))) -> FALSE | V27: =S27*T27 -> 0 | W27: =V27*U27 -> 0
A28: 16 | B28: Zawada | C28: Botaniczna | E28: wolnostojący | F28: 1958 | G28: 149 | H28: drewno opałowe | J28: Mg | K28: Kocioł | L28: 2 | M28: benzyna | N28: 3000 | O28: wymiana okien | Q28: 1450 | R28: =IF(H28="gaz ziemny",'Wskaźniki emisji 2015r'!$B$22,0) -> 0 | S28: =IF(H28="węgiel kamienny",'Wskaźniki emisji 2015r'!$B$8,IF(H28="gaz ziemny",'Wskaźniki emisji 2015r'!$B$9,IF(H28="drewno opałowe",'Wskaźniki emisji 2015r'!$B$11,IF(H28="olej opałowy",'Wskaźniki emisji 2015r'!$B$10,)))) -> 4.3212 | T28: =IF(R28=0,I28,I28*R28/1000) -> 0 | U28: =IF(H28="węgiel kamienny",'Wskaźniki emisji 2015r'!$D$8,IF(H28="gaz ziemny",'Wskaźniki emisji 2015r'!$D$9,IF(H28="olej opałowy",'Wskaźniki emisji 2015r'!$D$10,IF(H28="drewno opałowe",'Wskaźniki emisji 2015r'!$D$11,IF(H28="energia elektryczna",'Wskaźniki emisji 2015r'!$D$15))))) -> 0 | V28: =S28*T28 -> 0 | W28: =V28*U28 -> 0
M29: LPG | O29: termomodernizacja | S29: =IF(H29="węgiel kamienny",'Wskaźniki emisji 2015r'!$B$8,IF(H29="gaz ziemny",'Wskaźniki emisji 2015r'!$B$9,IF(H29="drewno opałowe",'Wskaźniki emisji 2015r'!$B$11,IF(H29="olej opałowy",'Wskaźniki emisji 2015r'!$B$10,)))) -> 0 | T29: =IF(R29=0,I29,I29*R29/1000) -> 0 | U29: =IF(H29="węgiel kamienny",'Wskaźniki emisji 2015r'!$D$8,IF(H29="gaz ziemny",'Wskaźniki emisji 2015r'!$D$9,IF(H29="olej opałowy",'Wskaźniki emisji 2015r'!$D$10,IF(H29="drewno opałowe",'Wskaźniki emisji 2015r'!$D$11,IF(H29="energia elektryczna",'Wskaźniki emisji 2015r'!$D$15))))) -> FALSE | V29: =S29*T29 -> 0 | W29: =V29*U29 -> 0
A30: 17 | B30: Wanaty | C30: Wierzbowa | E30: wolnostojący | F30: 2014 | G30: 140 | H30: węgiel kamienny | I30: 4 | J30: Mg | K30: Kocioł | L30: 2 | M30: LPG | N30: 3000 | Q30: 2800 | R30: =IF(H30="gaz ziemny",'Wskaźniki emisji 2015r'!$B$22,0) -> 0 | S30: =IF(H30="węgiel kamienny",'Wskaźniki emisji 2015r'!$B$8,IF(H30="gaz ziemny",'Wskaźniki emisji 2015r'!$B$9,IF(H30="drewno opałowe",'Wskaźniki emisji 2015r'!$B$11,IF(H30="olej opałowy",'Wskaźniki emisji 2015r'!$B$10,)))) -> 7.33773 | T30: =IF(R30=0,I30,I30*R30/1000) -> 4 | U30: =IF(H30="węgiel kamienny",'Wskaźniki emisji 2015r'!$D$8,IF(H30="gaz ziemny",'Wskaźniki emisji 2015r'!$D$9,IF(H30="olej opałowy",'Wskaźniki emisji 2015r'!$D$10,IF(H30="drewno opałowe",'Wskaźniki emisji 2015r'!$D$11,IF(H30="energia elektryczna",'Wskaźniki emisji 2015r'!$D$15))))) -> 0.33920578 | V30: =S30*T30 -> 29.35092 | W30: =V30*U30 -> 9.9560016
A31: 18 | B31: Wanaty | C31: Karoliny | E31: Wolnostojący | F31: 1956 | G31: 160 | H31: węgiel kamienny | I31: 8 | J31: Mg | K31: Kocioł | L31: 3 | M31: LPG | N31: 2500 | O31: wymiana okien | P31: termomodernizacja | Q31: 1500 | R31: =IF(H31="gaz ziemny",'Wskaźniki emisji 2015r'!$B$22,0) -> 0 | S31: =IF(H31="węgiel kamienny",'Wskaźniki emisji 2015r'!$B$8,IF(H31="gaz ziemny",'Wskaźniki emisji 2015r'!$B$9,IF(H31="drewno opałowe",'Wskaźniki emisji 2015r'!$B$11,IF(H31="olej opałowy",'Wskaźniki emisji 2015r'!$B$10,)))) -> 7.33773 | T31: =IF(R31=0,I31,I31*R31/1000) -> 8 | U31: =IF(H31="węgiel kamienny",'Wskaźniki emisji 2015r'!$D$8,IF(H31="gaz ziemny",'Wskaźniki emisji 2015r'!$D$9,IF(H31="olej opałowy",'Wskaźniki emisji 2015r'!$D$10,IF(H31="drewno opałowe",'Wskaźniki emisji 2015r'!$D$11,IF(H31="energia elektryczna",'Wskaźniki emisji 2015r'!$D$15))))) -> 0.33920578 | V31: =S31*T31 -> 58.70184 | W31: =V31*U31 -> 19.912003
P32: panele fotowoltaiczne | S32: =IF(H32="węgiel kamienny",'Wskaźniki emisji 2015r'!$B$8,IF(H32="gaz ziemny",'Wskaźniki emisji 2015r'!$B$9,IF(H32="drewno opałowe",'Wskaźniki emisji 2015r'!$B$11,IF(H32="olej opałowy",'Wskaźniki emisji 2015r'!$B$10,)))) -> 0 | T32: =IF(R32=0,I32,I32*R32/1000) -> 0 | U32: =IF(H32="węgiel kamienny",'Wskaźniki emisji 2015r'!$D$8,IF(H32="gaz ziemny",'Wskaźniki emisji 2015r'!$D$9,IF(H32="olej opałowy",'Wskaźniki emisji 2015r'!$D$10,IF(H32="drewno opałowe",'Wskaźniki emisji 2015r'!$D$11,IF(H32="energia elektryczna",'Wskaźniki emisji 2015r'!$D$15))))) -> FALSE | V32: =S32*T32 -> 0 | W32: =V32*U32 -> 0
A33: 19 | B33: Kamienica Polska | C33: Magazynowa | E33: Wolnostojący | F33: 1985 | G33: 100 | H33: węgiel kamienny | I33: 7 | J33: Mg | K33: Kocioł | L33: 1 | M33: benzyna | N33: 350 | O33: termomodernizacja | P33: ocieplenie stropu | Q33: 3800 | R33: =IF(H33="gaz ziemny",'Wskaźniki emisji 2015r'!$B$22,0) -> 0 | S33: =IF(H33="węgiel kamienny",'Wskaźniki emisji 2015r'!$B$8,IF(H33="gaz ziemny",'Wskaźniki emisji 2015r'!$B$9,IF(H33="drewno opałowe",'Wskaźniki emisji 2015r'!$B$11,IF(H33="olej opałowy",'Wskaźniki emisji 2015r'!$B$10,)))) -> 7.33773 | T33: =IF(R33=0,I33,I33*R33/1000) -> 7 | U33: =IF(H33="węgiel kamienny",'Wskaźniki emisji 2015r'!$D$8,IF(H33="gaz ziemny",'Wskaźniki emisji 2015r'!$D$9,IF(H33="olej opałowy",'Wskaźniki emisji 2015r'!$D$10,IF(H33="drewno opałowe",'Wskaźniki emisji 2015r'!$D$11,IF(H33="energia elektryczna",'Wskaźniki emisji 2015r'!$D$15))))) -> 0.33920578 | V33: =S33*T33 -> 51.36411 | W33: =V33*U33 -> 17.423003
A34: 20 | B34: Kamienica Polska | C34: Konopnickiej | D34: 40 | E34: Wolnostojący | F34: 1962 | G34: 110 | H34: węgiel kamienny | I34: 5 | J34: Mg | K34: Kocioł | L34: 1 | M34: benzyna | N34: 200 | O34: wymiana okien | Q34: =117*12/0.6 -> 2340 | R34: =IF(H34="gaz ziemny",'Wskaźniki emisji 2015r'!$B$22,0) -> 0 | S34: =IF(H34="węgiel kamienny",'Wskaźniki emisji 2015r'!$B$8,IF(H34="gaz ziemny",'Wskaźniki emisji 2015r'!$B$9,IF(H34="drewno opałowe",'Wskaźniki emisji 2015r'!$B$11,IF(H34="olej opałowy",'Wskaźniki emisji 2015r'!$B$10,)))) -> 7.33773 | T34: =IF(R34=0,I34,I34*R34/1000) -> 5 | U34: =IF(H34="węgiel kamienny",'Wskaźniki emisji 2015r'!$D$8,IF(H34="gaz ziemny",'Wskaźniki emisji 2015r'!$D$9,IF(H34="olej opałowy",'Wskaźniki emisji 2015r'!$D$10,IF(H34="drewno opałowe",'Wskaźniki emisji 2015r'!$D$11,IF(H34="energia elektryczna",'Wskaźniki emisji 2015r'!$D$15))))) -> 0.33920578 | V34: =S34*T34 -> 36.68865 | W34: =V34*U34 -> 12.445002
O35: termomodernizacja | R35: =IF(H35="gaz ziemny",'Wskaźniki emisji 2015r'!$B$22,0) -> 0 | S35: =IF(H35="węgiel kamienny",'Wskaźniki emisji 2015r'!$B$8,IF(H35="gaz ziemny",'Wskaźniki emisji 2015r'!$B$9,IF(H35="drewno opałowe",'Wskaźniki emisji 2015r'!$B$11,IF(H35="olej opałowy",'Wskaźniki emisji 2015r'!$B$10,)))) -> 0 | T35: =IF(R35=0,I35,I35*R35/1000) -> 0 | U35: =IF(H35="węgiel kamienny",'Wskaźniki emisji 2015r'!$D$8,IF(H35="gaz ziemny",'Wskaźniki emisji 2015r'!$D$9,IF(H35="olej opałowy",'Wskaźniki emisji 2015r'!$D$10,IF(H35="drewno opałowe",'Wskaźniki emisji 2015r'!$D$11,IF(H35="energia elektryczna",'Wskaźniki emisji 2015r'!$D$15))))) -> FALSE | V35: =S35*T35 -> 0 | W35: =V35*U35 -> 0
A36: 21 | B36: Kamienica Polska | C36: Konopnickiej | E36: Wolnostojący | F36: 1950 | G36: 60 | H36: węgiel kamienny | I36: 4.5 | J36: Mg | K36: Kocioł | L36: 1 | M36: benzyna | N36: 600 | Q36: =110*12/0.6 -> 2200 | R36: =IF(H36="gaz ziemny",'Wskaźniki emisji 2015r'!$B$22,0) -> 0 | S36: =IF(H36="węgiel kamienny",'Wskaźniki emisji 2015r'!$B$8,IF(H36="gaz ziemny",'Wskaźniki emisji 2015r'!$B$9,IF(H36="drewno opałowe",'Wskaźniki emisji 2015r'!$B$11,IF(H36="olej opałowy",'Wskaźniki emisji 2015r'!$B$10,)))) -> 7.33773 | T36: =IF(R36=0,I36,I36*R36/1000) -> 4.5 | U36: =IF(H36="węgiel kamienny",'Wskaźniki emisji 2015r'!$D$8,IF(H36="gaz ziemny",'Wskaźniki emisji 2015r'!$D$9,IF(H36="olej opałowy",'Wskaźniki emisji 2015r'!$D$10,IF(H36="drewno opałowe",'Wskaźniki emisji 2015r'!$D$11,IF(H36="energia elektryczna",'Wskaźniki emisji 2015r'!$D$15))))) -> 0.33920578 | V36: =S36*T36 -> 33.019785 | W36: =V36*U36 -> 11.200502
A37: 22 | B37: Kamienica Polska | C37: Konopnickiej | D37: 16 | E37: Wolnostojący | F37: 1954 | G37: 100 | H37: węgiel kamienny | I37: 1.5 | J37: Mg | K37: Kocioł | L37: 2 | M37: benzyna | N37: 2800 | O37: wymiana okien | Q37: =60*12/0.6 -> 1200 | R37: =IF(H37="gaz ziemny",'Wskaźniki emisji 2015r'!$B$22,0) -> 0 | S37: =IF(H37="węgiel kamienny",'Wskaźniki emisji 2015r'!$B$8,IF(H37="gaz ziemny",'Wskaźniki emisji 2015r'!$B$9,IF(H37="drewno opałowe",'Wskaźniki emisji 2015r'!$B$11,IF(H37="olej opałowy",'Wskaźniki emisji 2015r'!$B$10,)))) -> 7.33773 | T37: =IF(R37=0,I37,I37*R37/1000) -> 1.5 | U37: =IF(H37="węgiel kamienny",'Wskaźniki emisji 2015r'!$D$8,IF(H37="gaz ziemny",'Wskaźniki emisji 2015r'!$D$9,IF(H37="olej opałowy",'Wskaźniki emisji 2015r'!$D$10,IF(H37="drewno opałowe",'Wskaźniki emisji 2015r'!$D$11,IF(H37="energia elektryczna",'Wskaźniki emisji 2015r'!$D$15))))) -> 0.33920578 | V37: =S37*T37 -> 11.006595 | W37: =V37*U37 -> 3.7335006
H38: gaz ziemny | I38: =230*6/0.25 -> 5520 | J38: Mg | K38: Kocioł | M38: olej napędowy | O38: termomodernizacja | R38: =IF(H38="gaz ziemny",'Wskaźniki emisji 2015r'!$B$22,0) -> 0.716 | S38: =IF(H38="węgiel kamienny",'Wskaźniki emisji 2015r'!$B$8,IF(H38="gaz ziemny",'Wskaźniki emisji 2015r'!$B$9,IF(H38="drewno opałowe",'Wskaźniki emisji 2015r'!$B$11,IF(H38="olej opałowy",'Wskaźniki emisji 2015r'!$B$10,)))) -> 13.296 | T38: =IF(R38=0,I38,I38*R38/1000) -> 3.95232 | U38: =IF(H38="węgiel kamienny",'Wskaźniki emisji 2015r'!$D$8,IF(H38="gaz ziemny",'Wskaźniki emisji 2015r'!$D$9,IF(H38="olej opałowy",'Wskaźniki emisji 2015r'!$D$10,IF(H38="drewno opałowe",'Wskaźniki emisji 2015r'!$D$11,IF(H38="energia elektryczna",'Wskaźniki emisji 2015r'!$D$15))))) -> 0.20151625 | V38: =S38*T38 -> 52.550047 | W38: =V38*U38 -> 10.589688
A39: 23 | B39: Kamienica Polska | C39: Konopnickiej | E39: Wolnostojący | F39: 1920 | G39: 90 | H39: węgiel kamienny | I39: 2 | J39: Mg | K39: Kocioł | L39: 2 | M39: olej napędowy | N39: 3000 | O39: wymiana okien | Q39: =130*12/0.6 -> 2600 | R39: =IF(H39="gaz ziemny",'Wskaźniki emisji 2015r'!$B$22,0) -> 0 | S39: =IF(H39="węgiel kamienny",'Wskaźniki emisji 2015r'!$B$8,IF(H39="gaz ziemny",'Wskaźniki emisji 2015r'!$B$9,IF(H39="drewno opałowe",'Wskaźniki emisji 2015r'!$B$11,IF(H39="olej opałowy",'Wskaźniki emisji 2015r'!$B$10,)))) -> 7.33773 | T39: =IF(R39=0,I39,I39*R39/1000) -> 2 | U39: =IF(H39="węgiel kamienny",'Wskaźniki emisji 2015r'!$D$8,IF(H39="gaz ziemny",'Wskaźniki emisji 2015r'!$D$9,IF(H39="olej opałowy",'Wskaźniki emisji 2015r'!$D$10,IF(H39="drewno opałowe",'Wskaźniki emisji 2015r'!$D$11,IF(H39="energia elektryczna",'Wskaźniki emisji 2015r'!$D$15))))) -> 0.33920578 | V39: =S39*T39 -> 14.67546 | W39: =V39*U39 -> 4.9780008
O40: termomodernizacja | S40: =IF(H40="węgiel kamienny",'Wskaźniki emisji 2015r'!$B$8,IF(H40="gaz ziemny",'Wskaźniki emisji 2015r'!$B$9,IF(H40="drewno opałowe",'Wskaźniki emisji 2015r'!$B$11,IF(H40="olej opałowy",'Wskaźniki emisji 2015r'!$B$10,)))) -> 0 | T40: =IF(R40=0,I40,I40*R40/1000) -> 0 | U40: =IF(H40="węgiel kamienny",'Wskaźniki emisji 2015r'!$D$8,IF(H40="gaz ziemny",'Wskaźniki emisji 2015r'!$D$9,IF(H40="olej opałowy",'Wskaźniki emisji 2015r'!$D$10,IF(H40="drewno opałowe",'Wskaźniki emisji 2015r'!$D$11,IF(H40="energia elektryczna",'Wskaźniki emisji 2015r'!$D$15))))) -> FALSE | V40: =S40*T40 -> 0 | W40: =V40*U40 -> 0
A41: 24 | B41: Kamienica Polska | C41: Konopnickiej | E41: Wolnostojący | F41: 1960 | G41: 100 | H41: węgiel kamienny | I41: 3 | J41: Mg | K41: Kocioł | L41: 1 | M41: benzyna | N41: 3000 | O41: wymiana okien | P41: termomodernizacja | Q41: =130*12/0.6 -> 2600 | R41: =IF(H41="gaz ziemny",'Wskaźniki emisji 2015r'!$B$22,0) -> 0 | S41: =IF(H41="węgiel kamienny",'Wskaźniki emisji 2015r'!$B$8,IF(H41="gaz ziemny",'Wskaźniki emisji 2015r'!$B$9,IF(H41="drewno opałowe",'Wskaźniki emisji 2015r'!$B$11,IF(H41="olej opałowy",'Wskaźniki emisji 2015r'!$B$10,)))) -> 7.33773 | T41: =IF(R41=0,I41,I41*R41/1000) -> 3 | U41: =IF(H41="węgiel kamienny",'Wskaźniki emisji 2015r'!$D$8,IF(H41="gaz ziemny",'Wskaźniki emisji 2015r'!$D$9,IF(H41="olej opałowy",'Wskaźniki emisji 2015r'!$D$10,IF(H41="drewno opałowe",'Wskaźniki emisji 2015r'!$D$11,IF(H41="energia elektryczna",'Wskaźniki emisji 2015r'!$D$15))))) -> 0.33920578 | V41: =S41*T41 -> 22.01319 | W41: =V41*U41 -> 7.4670012
H42: drewno opałowe | I42: =10 -> 10 | J42: Mg | K42: kocioł | P42: modernizacja kotłowni | R42: =IF(H42="gaz ziemny",'Wskaźniki emisji 2015r'!$B$22,0) -> 0 | S42: =IF(H42="węgiel kamienny",'Wskaźniki emisji 2015r'!$B$8,IF(H42="gaz ziemny",'Wskaźniki emisji 2015r'!$B$9,IF(H42="drewno opałowe",'Wskaźniki emisji 2015r'!$B$11,IF(H42="olej opałowy",'Wskaźniki emisji 2015r'!$B$10,)))) -> 4.3212 | T42: =IF(R42=0,I42,I42*R42/1000) -> 10 | U42: =IF(H42="węgiel kamienny",'Wskaźniki emisji 2015r'!$D$8,IF(H42="gaz ziemny",'Wskaźniki emisji 2015r'!$D$9,IF(H42="olej opałowy",'Wskaźniki emisji 2015r'!$D$10,IF(H42="drewno opałowe",'Wskaźniki emisji 2015r'!$D$11,IF(H42="energia elektryczna",'Wskaźniki emisji 2015r'!$D$15))))) -> 0 | V42: =S42*T42 -> 43.212 | W42: =V42*U42 -> 0
A43: 25 | B43: Kamienica Polska | C43: Konopnickiej | E43: Wolnostojący | F43: 1936 | G43: 60 | H43: węgiel kamienny | I43: 0.5 | J43: Mg | K43: kocioł | O43: termomodernizacja | P43: wymiana okien | Q43: =100*12/0.6 -> 2000 | R43: =IF(H43="gaz ziemny",'Wskaźniki emisji 2015r'!$B$22,0) -> 0 | S43: =IF(H43="węgiel kamienny",'Wskaźniki emisji 2015r'!$B$8,IF(H43="gaz ziemny",'Wskaźniki emisji 2015r'!$B$9,IF(H43="drewno opałowe",'Wskaźniki emisji 2015r'!$B$11,IF(H43="olej opałowy",'Wskaźniki emisji 2015r'!$B$10,)))) -> 7.33773 | T43: =IF(R43=0,I43,I43*R43/1000) -> 0.5 | U43: =IF(H43="węgiel kamienny",'Wskaźniki emisji 2015r'!$D$8,IF(H43="gaz ziemny",'Wskaźniki emisji 2015r'!$D$9,IF(H43="olej opałowy",'Wskaźniki emisji 2015r'!$D$10,IF(H43="drewno opałowe",'Wskaźniki emisji 2015r'!$D$11,IF(H43="energia elektryczna",'Wskaźniki emisji 2015r'!$D$15))))) -> 0.33920578 | V43: =S43*T43 -> 3.668865 | W43: =V43*U43 -> 1.2445002
H44: drewno opałowe | I44: 10 | J44: Mg | K44: kociol | S44: =IF(H44="węgiel kamienny",'Wskaźniki emisji 2015r'!$B$8,IF(H44="gaz ziemny",'Wskaźniki emisji 2015r'!$B$9,IF(H44="drewno opałowe",'Wskaźniki emisji 2015r'!$B$11,IF(H44="olej opałowy",'Wskaźniki emisji 2015r'!$B$10,)))) -> 4.3212 | T44: =IF(R44=0,I44,I44*R44/1000) -> 10 | U44: =IF(H44="węgiel kamienny",'Wskaźniki emisji 2015r'!$D$8,IF(H44="gaz ziemny",'Wskaźniki emisji 2015r'!$D$9,IF(H44="olej opałowy",'Wskaźniki emisji 2015r'!$D$10,IF(H44="drewno opałowe",'Wskaźniki emisji 2015r'!$D$11,IF(H44="energia elektryczna",'Wskaźniki emisji 2015r'!$D$15))))) -> 0 | V44: =S44*T44 -> 43.212 | W44: =V44*U44 -> 0
A45: 26 | B45: Kamienica Polska | C45: Konopnickiej | E45: Wolnostojący | F45: 1968 | G45: 120 | H45: węgiel kamienny | I45: 4 | J45: Mg | K45: kocioł | L45: 1 | M45: olej napędowy | N45: 250 | O45: wymiana okien | Q45: =130*12/0.6 -> 2600 | R45: =IF(H45="gaz ziemny",'Wskaźniki emisji 2015r'!$B$22,0) -> 0 | S45: =IF(H45="węgiel kamienny",'Wskaźniki emisji 2015r'!$B$8,IF(H45="gaz ziemny",'Wskaźniki emisji 2015r'!$B$9,IF(H45="drewno opałowe",'Wskaźniki emisji 2015r'!$B$11,IF(H45="olej opałowy",'Wskaźniki emisji 2015r'!$B$10,)))) -> 7.33773 | T45: =IF(R45=0,I45,I45*R45/1000) -> 4 | U45: =IF(H45="węgiel kamienny",'Wskaźniki emisji 2015r'!$D$8,IF(H45="gaz ziemny",'Wskaźniki emisji 2015r'!$D$9,IF(H45="olej opałowy",'Wskaźniki emisji 2015r'!$D$10,IF(H45="drewno opałowe",'Wskaźniki emisji 2015r'!$D$11,IF(H45="energia elektryczna",'Wskaźniki emisji 2015r'!$D$15))))) -> 0.33920578 | V45: =S45*T45 -> 29.35092 | W45: =V45*U45 -> 9.9560016
O46: termomodernizacja | S46: =IF(H46="węgiel kamienny",'Wskaźniki emisji 2015r'!$B$8,IF(H46="gaz ziemny",'Wskaźniki emisji 2015r'!$B$9,IF(H46="drewno opałowe",'Wskaźniki emisji 2015r'!$B$11,IF(H46="olej opałowy",'Wskaźniki emisji 2015r'!$B$10,)))) -> 0 | T46: =IF(R46=0,I46,I46*R46/1000) -> 0 | U46: =IF(H46="węgiel kamienny",'Wskaźniki emisji 2015r'!$D$8,IF(H46="gaz ziemny",'Wskaźniki emisji 2015r'!$D$9,IF(H46="olej opałowy",'Wskaźniki emisji 2015r'!$D$10,IF(H46="drewno opałowe",'Wskaźniki emisji 2015r'!$D$11,IF(H46="energia elektryczna",'Wskaźniki emisji 2015r'!$D$15))))) -> FALSE | V46: =S46*T46 -> 0 | W46: =V46*U46 -> 0
A47: 27 | B47: Kamienica Polska | C47: Magazynowa | D47: 19a | E47: Wolnostojący | F47: 2002 | G47: 145 | H47: gaz ziemny | I47: =(500*12/0.25)*'Wskaźniki emisji 2010r'!B22/1000 -> 17.184 | J47: Mg | K47: kocioł | L47: 2 | M47: LPG | N47: 1000 | Q47: =250*12/0.6 -> 5000 | R47: =IF(H47="gaz ziemny",'Wskaźniki emisji 2015r'!$B$22,0) -> 0.716 | S47: =IF(H47="węgiel kamienny",'Wskaźniki emisji 2015r'!$B$8,IF(H47="gaz ziemny",'Wskaźniki emisji 2015r'!$B$9,IF(H47="drewno opałowe",'Wskaźniki emisji 2015r'!$B$11,IF(H47="olej opałowy",'Wskaźniki emisji 2015r'!$B$10,)))) -> 13.296 | T47: =IF(R47=0,I47,I47*R47/1000) -> 0.012303744 | U47: =IF(H47="węgiel kamienny",'Wskaźniki emisji 2015r'!$D$8,IF(H47="gaz ziemny",'Wskaźniki emisji 2015r'!$D$9,IF(H47="olej opałowy",'Wskaźniki emisji 2015r'!$D$10,IF(H47="drewno opałowe",'Wskaźniki emisji 2015r'!$D$11,IF(H47="energia elektryczna",'Wskaźniki emisji 2015r'!$D$15))))) -> 0.20151625 | V47: =S47*T47 -> 0.16359058 | W47: =V47*U47 -> 0.03296616
A48: 28 | B48: Kamienica Polska | C48: Magazynowa | E48: Wolnostojący | F48: 1970 | G48: 100 | H48: węgiel kamienny | I48: 3 | J48: Mg | K48: Kocioł | L48: 1 | M48: LPG | N48: 500 | O48: termomodernizacja | P48: kolektory słoneczne | Q48: =250*12/0.6 -> 5000 | R48: =IF(H48="gaz ziemny",'Wskaźniki emisji 2015r'!$B$22,0) -> 0 | S48: =IF(H48="węgiel kamienny",'Wskaźniki emisji 2015r'!$B$8,IF(H48="gaz ziemny",'Wskaźniki emisji 2015r'!$B$9,IF(H48="drewno opałowe",'Wskaźniki emisji 2015r'!$B$11,IF(H48="olej opałowy",'Wskaźniki emisji 2015r'!$B$10,)))) -> 7.33773 | T48: =IF(R48=0,I48,I48*R48/1000) -> 3 | U48: =IF(H48="węgiel kamienny",'Wskaźniki emisji 2015r'!$D$8,IF(H48="gaz ziemny",'Wskaźniki emisji 2015r'!$D$9,IF(H48="olej opałowy",'Wskaźniki emisji 2015r'!$D$10,IF(H48="drewno opałowe",'Wskaźniki emisji 2015r'!$D$11,IF(H48="energia elektryczna",'Wskaźniki emisji 2015r'!$D$15))))) -> 0.33920578 | V48: =S48*T48 -> 22.01319 | W48: =V48*U48 -> 7.4670012
H49: drewno opałowe | I49: 10 | J49: Mg | K49: Kocioł | O49: wymiana okien | S49: =IF(H49="węgiel kamienny",'Wskaźniki emisji 2015r'!$B$8,IF(H49="gaz ziemny",'Wskaźniki emisji 2015r'!$B$9,IF(H49="drewno opałowe",'Wskaźniki emisji 2015r'!$B$11,IF(H49="olej opałowy",'Wskaźniki emisji 2015r'!$B$10,)))) -> 4.3212 | T49: =IF(R49=0,I49,I49*R49/1000) -> 10 | U49: =IF(H49="węgiel kamienny",'Wskaźniki emisji 2015r'!$D$8,IF(H49="gaz ziemny",'Wskaźniki emisji 2015r'!$D$9,IF(H49="olej opałowy",'Wskaźniki emisji 2015r'!$D$10,IF(H49="drewno opałowe",'Wskaźniki emisji 2015r'!$D$11,IF(H49="energia elektryczna",'Wskaźniki emisji 2015r'!$D$15))))) -> 0 | V49: =S49*T49 -> 43.212 | W49: =V49*U49 -> 0
A50: 29 | B50: Kamienica Polska | C50: Magazynowa | E50: wolnostojący | F50: 1994 | G50: 90 | H50: węgiel kamienny | I50: 3 | J50: Mg | K50: kocioł | L50: 2 | M50: benzyna | N50: 1000 | O50: termomodernizacja | Q50: =200*12/0.6 -> 4000 | R50: =IF(H50="gaz ziemny",'Wskaźniki emisji 2015r'!$B$22,0) -> 0 | S50: =IF(H50="węgiel kamienny",'Wskaźniki emisji 2015r'!$B$8,IF(H50="gaz ziemny",'Wskaźniki emisji 2015r'!$B$9,IF(H50="drewno opałowe",'Wskaźniki emisji 2015r'!$B$11,IF(H50="olej opałowy",'Wskaźniki emisji 2015r'!$B$10,)))) -> 7.33773 | T50: =IF(R50=0,I50,I50*R50/1000) -> 3 | U50: =IF(H50="węgiel kamienny",'Wskaźniki emisji 2015r'!$D$8,IF(H50="gaz ziemny",'Wskaźniki emisji 2015r'!$D$9,IF(H50="olej opałowy",'Wskaźniki emisji 2015r'!$D$10,IF(H50="drewno opałowe",'Wskaźniki emisji 2015r'!$D$11,IF(H50="energia elektryczna",'Wskaźniki emisji 2015r'!$D$15))))) -> 0.33920578 | V50: =S50*T50 -> 22.01319 | W50: =V50*U50 -> 7.4670012
A51: 30 | B51: Wanaty | C51: Świętej Karoliny | E51: wolnostojący | F51: 1967 | G51: 120 | H51: węgiel kamienny | I51: 4 | J51: Mg | K51: kocioł | O51: wymiana okien | P51: modernizacja kotłowni | Q51: =100*12/0.6 -> 2000 | R51: =IF(H51="gaz ziemny",'Wskaźniki emisji 2015r'!$B$22,0) -> 0 | S51: =IF(H51="węgiel kamienny",'Wskaźniki emisji 2015r'!$B$8,IF(H51="gaz ziemny",'Wskaźniki emisji 2015r'!$B$9,IF(H51="drewno opałowe",'Wskaźniki emisji 2015r'!$B$11,IF(H51="olej opałowy",'Wskaźniki emisji 2015r'!$B$10,)))) -> 7.33773 | T51: =IF(R51=0,I51,I51*R51/1000) -> 4 | U51: =IF(H51="węgiel kamienny",'Wskaźniki emisji 2015r'!$D$8,IF(H51="gaz ziemny",'Wskaźniki emisji 2015r'!$D$9,IF(H51="olej opałowy",'Wskaźniki emisji 2015r'!$D$10,IF(H51="drewno opałowe",'Wskaźniki emisji 2015r'!$D$11,IF(H51="energia elektryczna",'Wskaźniki emisji 2015r'!$D$15))))) -> 0.33920578 | V51: =S51*T51 -> 29.35092 | W51: =V51*U51 -> 9.9560016
H52: drewno opałowe | I52: 5 | J52: Mg | S52: =IF(H52="węgiel kamienny",'Wskaźniki emisji 2015r'!$B$8,IF(H52="gaz ziemny",'Wskaźniki emisji 2015r'!$B$9,IF(H52="drewno opałowe",'Wskaźniki emisji 2015r'!$B$11,IF(H52="olej opałowy",'Wskaźniki emisji 2015r'!$B$10,)))) -> 4.3212 | T52: =IF(R52=0,I52,I52*R52/1000) -> 5 | U52: =IF(H52="węgiel kamienny",'Wskaźniki emisji 2015r'!$D$8,IF(H52="gaz ziemny",'Wskaźniki emisji 2015r'!$D$9,IF(H52="olej opałowy",'Wskaźniki emisji 2015r'!$D$10,IF(H52="drewno opałowe",'Wskaźniki emisji 2015r'!$D$11,IF(H52="energia elektryczna",'Wskaźniki emisji 2015r'!$D$15))))) -> 0 | V52: =S52*T52 -> 21.606 | W52: =V52*U52 -> 0
A53: 31 | B53: Wanaty | C53: Świętej Karoliny | E53: wolnostojący | F53: 1965 | G53: 80 | H53: węgiel kamienny | I53: 12 | J53: Mg | K53: kocioł | L53: 2 | M53: olej napędowy | N53: 1500 | O53: wymiana okien | P53: termomodernizacja | Q53: =150*12/0.6 -> 3000 | R53: =IF(H53="gaz ziemny",'Wskaźniki emisji 2015r'!$B$22,0) -> 0 | S53: =IF(H53="węgiel kamienny",'Wskaźniki emisji 2015r'!$B$8,IF(H53="gaz ziemny",'Wskaźniki emisji 2015r'!$B$9,IF(H53="drewno opałowe",'Wskaźniki emisji 2015r'!$B$11,IF(H53="olej opałowy",'Wskaźniki emisji 2015r'!$B$10,)))) -> 7.33773 | T53: =IF(R53=0,I53,I53*R53/1000) -> 12 | U53: =IF(H53="węgiel kamienny",'Wskaźniki emisji 2015r'!$D$8,IF(H53="gaz ziemny",'Wskaźniki emisji 2015r'!$D$9,IF(H53="olej opałowy",'Wskaźniki emisji 2015r'!$D$10,IF(H53="drewno opałowe",'Wskaźniki emisji 2015r'!$D$11,IF(H53="energia elektryczna",'Wskaźniki emisji 2015r'!$D$15))))) -> 0.33920578 | V53: =S53*T53 -> 88.05276 | W53: =V53*U53 -> 29.868005
A54: 32 | B54: Wanaty | C54: Świętej Karoliny | E54: Wolnostojący | F54: 2013 | G54: 135 | H54: węgiel kamienny | I54: 0 | J54: Mg | K54: kocioł | L54: 4 | M54: olej napędowy | N54: 2000 | Q54: =100*12/0.6 -> 2000 | R54: =IF(H54="gaz ziemny",'Wskaźniki emisji 2015r'!$B$22,0) -> 0 | S54: =IF(H54="węgiel kamienny",'Wskaźniki emisji 2015r'!$B$8,IF(H54="gaz ziemny",'Wskaźniki emisji 2015r'!$B$9,IF(H54="drewno opałowe",'Wskaźniki emisji 2015r'!$B$11,IF(H54="olej opałowy",'Wskaźniki emisji 2015r'!$B$10,)))) -> 7.33773 | T54: =IF(R54=0,I54,I54*R54/1000) -> 0 | U54: =IF(H54="węgiel kamienny",'Wskaźniki emisji 2015r'!$D$8,IF(H54="gaz ziemny",'Wskaźniki emisji 2015r'!$D$9,IF(H54="olej opałowy",'Wskaźniki emisji 2015r'!$D$10,IF(H54="drewno opałowe",'Wskaźniki emisji 2015r'!$D$11,IF(H54="energia elektryczna",'Wskaźniki emisji 2015r'!$D$15))))) -> 0.33920578 | V54: =S54*T54 -> 0 | W54: =V54*U54 -> 0
H55: gaz ziemny | I55: 0 | J55: Mg | S55: =IF(H55="węgiel kamienny",'Wskaźniki emisji 2015r'!$B$8,IF(H55="gaz ziemny",'Wskaźniki emisji 2015r'!$B$9,IF(H55="drewno opałowe",'Wskaźniki emisji 2015r'!$B$11,IF(H55="olej opałowy",'Wskaźniki emisji 2015r'!$B$10,)))) -> 13.296 | T55: =IF(R55=0,I55,I55*R55/1000) -> 0 | U55: =IF(H55="węgiel kamienny",'Wskaźniki emisji 2015r'!$D$8,IF(H55="gaz ziemny",'Wskaźniki emisji 2015r'!$D$9,IF(H55="olej opałowy",'Wskaźniki emisji 2015r'!$D$10,IF(H55="drewno opałowe",'Wskaźniki emisji 2015r'!$D$11,IF(H55="energia elektryczna",'Wskaźniki emisji 2015r'!$D$15))))) -> 0.20151625 | V55: =S55*T55 -> 0 | W55: =V55*U55 -> 0
A56: 33 | B56: Kamienica Polska | C56: Magazynowa | D56: 2 | E56: wolnostojący | F56: 1950 | G56: 50 | H56: węgiel kamienny | I56: 4 | J56: Mg | K56: kocioł | L56: 3 | M56: LPG | N56: 1500 | P56: modernizacja kotłowni | Q56: =110*12/0.6 -> 2200 | R56: =IF(H56="gaz ziemny",'Wskaźniki emisji 2015r'!$B$22,0) -> 0 | S56: =IF(H56="węgiel kamienny",'Wskaźniki emisji 2015r'!$B$8,IF(H56="gaz ziemny",'Wskaźniki emisji 2015r'!$B$9,IF(H56="drewno opałowe",'Wskaźniki emisji 2015r'!$B$11,IF(H56="olej opałowy",'Wskaźniki emisji 2015r'!$B$10,)))) -> 7.33773 | T56: =IF(R56=0,I56,I56*R56/1000) -> 4 | U56: =IF(H56="węgiel kamienny",'Wskaźniki emisji 2015r'!$D$8,IF(H56="gaz ziemny",'Wskaźniki emisji 2015r'!$D$9,IF(H56="olej opałowy",'Wskaźniki emisji 2015r'!$D$10,IF(H56="drewno opałowe",'Wskaźniki emisji 2015r'!$D$11,IF(H56="energia elektryczna",'Wskaźniki emisji 2015r'!$D$15))))) -> 0.33920578 | V56: =S56*T56 -> 29.35092 | W56: =V56*U56 -> 9.9560016
M57: benzyna | R57: =IF(H57="gaz ziemny",'Wskaźniki emisji 2015r'!$B$22,0) -> 0 | S57: =IF(H57="węgiel kamienny",'Wskaźniki emisji 2015r'!$B$8,IF(H57="gaz ziemny",'Wskaźniki emisji 2015r'!$B$9,IF(H57="drewno opałowe",'Wskaźniki emisji 2015r'!$B$11,IF(H57="olej opałowy",'Wskaźniki emisji 2015r'!$B$10,)))) -> 0 | T57: =IF(R57=0,I57,I57*R57/1000) -> 0 | U57: =IF(H57="węgiel kamienny",'Wskaźniki emisji 2015r'!$D$8,IF(H57="gaz ziemny",'Wskaźniki emisji 2015r'!$D$9,IF(H57="olej opałowy",'Wskaźniki emisji 2015r'!$D$10,IF(H57="drewno opałowe",'Wskaźniki emisji 2015r'!$D$11,IF(H57="energia elektryczna",'Wskaźniki emisji 2015r'!$D$15))))) -> FALSE | V57: =S57*T57 -> 0 | W57: =V57*U57 -> 0
A58: 34 | B58: Kamienica Polska | C58: Magazynowa | D58: 6 | E58: Wolnostojący | F58: 1970 | G58: 100 | H58: węgiel kamienny | I58: 3 | J58: Mg | K58: kocioł | L58: 1 | M58: olej napędowy | N58: 500 | O58: wymiana okien | P58: termomodernizacja | Q58: =300*12/0.6 -> 6000 | R58: =IF(H58="gaz ziemny",'Wskaźniki emisji 2015r'!$B$22,0) -> 0 | S58: =IF(H58="węgiel kamienny",'Wskaźniki emisji 2015r'!$B$8,IF(H58="gaz ziemny",'Wskaźniki emisji 2015r'!$B$9,IF(H58="drewno opałowe",'Wskaźniki emisji 2015r'!$B$11,IF(H58="olej opałowy",'Wskaźniki emisji 2015r'!$B$10,)))) -> 7.33773 | T58: =IF(R58=0,I58,I58*R58/1000) -> 3 | U58: =IF(H58="węgiel kamienny",'Wskaźniki emisji 2015r'!$D$8,IF(H58="gaz ziemny",'Wskaźniki emisji 2015r'!$D$9,IF(H58="olej opałowy",'Wskaźniki emisji 2015r'!$D$10,IF(H58="drewno opałowe",'Wskaźniki emisji 2015r'!$D$11,IF(H58="energia elektryczna",'Wskaźniki emisji 2015r'!$D$15))))) -> 0.33920578 | V58: =S58*T58 -> 22.01319 | W58: =V58*U58 -> 7.4670012
A59: 35 | B59: Zawada | C59: Konopnickiej | E59: Wolnostojący | F59: 1956 | G59: 120 | H59: węgiel kamienny | I59: 7.5 | J59: Mg | K59: kocioł | L59: 1 | M59: LPG | N59: 10000 | Q59: =270*12/0.6 -> 5400 | R59: =IF(H59="gaz ziemny",'Wskaźniki emisji 2015r'!$B$22,0) -> 0 | S59: =IF(H59="węgiel kamienny",'Wskaźniki emisji 2015r'!$B$8,IF(H59="gaz ziemny",'Wskaźniki emisji 2015r'!$B$9,IF(H59="drewno opałowe",'Wskaźniki emisji 2015r'!$B$11,IF(H59="olej opałowy",'Wskaźniki emisji 2015r'!$B$10,)))) -> 7.33773 | T59: =IF(R59=0,I59,I59*R59/1000) -> 7.5 | U59: =IF(H59="węgiel kamienny",'Wskaźniki emisji 2015r'!$D$8,IF(H59="gaz ziemny",'Wskaźniki emisji 2015r'!$D$9,IF(H59="olej opałowy",'Wskaźniki emisji 2015r'!$D$10,IF(H59="drewno opałowe",'Wskaźniki emisji 2015r'!$D$11,IF(H59="energia elektryczna",'Wskaźniki emisji 2015r'!$D$15))))) -> 0.33920578 | V59: =S59*T59 -> 55.032975 | W59: =V59*U59 -> 18.667503
A60: 36 | B60: Kamienica Polska | C60: Konopnickiej | E60: wolnostojący | F60: 1950 | G60: 100 | H60: węgiel kamienny | I60: 6 | J60: Mg | K60: kocioł | L60: 2 | M60: benzyna | N60: 2000 | O60: wymiana okien | Q60: =120*12/0.6 -> 2400 | R60: =IF(H60="gaz ziemny",'Wskaźniki emisji 2015r'!$B$22,0) -> 0 | S60: =IF(H60="węgiel kamienny",'Wskaźniki emisji 2015r'!$B$8,IF(H60="gaz ziemny",'Wskaźniki emisji 2015r'!$B$9,IF(H60="drewno opałowe",'Wskaźniki emisji 2015r'!$B$11,IF(H60="olej opałowy",'Wskaźniki emisji 2015r'!$B$10,)))) -> 7.33773 | T60: =IF(R60=0,I60,I60*R60/1000) -> 6 | U60: =IF(H60="węgiel kamienny",'Wskaźniki emisji 2015r'!$D$8,IF(H60="gaz ziemny",'Wskaźniki emisji 2015r'!$D$9,IF(H60="olej opałowy",'Wskaźniki emisji 2015r'!$D$10,IF(H60="drewno opałowe",'Wskaźniki emisji 2015r'!$D$11,IF(H60="energia elektryczna",'Wskaźniki emisji 2015r'!$D$15))))) -> 0.33920578 | V60: =S60*T60 -> 44.02638 | W60: =V60*U60 -> 14.934002
M61: olej napędowy | O61: termomodernizacja | R61: =IF(H61="gaz ziemny",'Wskaźniki emisji 2015r'!$B$22,0) -> 0 | S61: =IF(H61="węgiel kamienny",'Wskaźniki emisji 2015r'!$B$8,IF(H61="gaz ziemny",'Wskaźniki emisji 2015r'!$B$9,IF(H61="drewno opałowe",'Wskaźniki emisji 2015r'!$B$11,IF(H61="olej opałowy",'Wskaźniki emisji 2015r'!$B$10,)))) -> 0 | T61: =IF(R61=0,I61,I61*R61/1000) -> 0 | U61: =IF(H61="węgiel kamienny",'Wskaźniki emisji 2015r'!$D$8,IF(H61="gaz ziemny",'Wskaźniki emisji 2015r'!$D$9,IF(H61="olej opałowy",'Wskaźniki emisji 2015r'!$D$10,IF(H61="drewno opałowe",'Wskaźniki emisji 2015r'!$D$11,IF(H61="energia elektryczna",'Wskaźniki emisji 2015r'!$D$15))))) -> FALSE | V61: =S61*T61 -> 0 | W61: =V61*U61 -> 0
A62: 37 | B62: Kamienica Polska | C62: Konopnickiej | E62: Wolnostojący | F62: 1938 | G62: 180 | H62: węgiel kamienny | I62: 7 | J62: Mg | K62: Kocioł | L62: 1 | M62: benzyna | N62: 1500 | O62: wymiana okien | R62: =IF(H62="gaz ziemny",'Wskaźniki emisji 2015r'!$B$22,0) -> 0 | S62: =IF(H62="węgiel kamienny",'Wskaźniki emisji 2015r'!$B$8,IF(H62="gaz ziemny",'Wskaźniki emisji 2015r'!$B$9,IF(H62="drewno opałowe",'Wskaźniki emisji 2015r'!$B$11,IF(H62="olej opałowy",'Wskaźniki emisji 2015r'!$B$10,)))) -> 7.33773 | T62: =IF(R62=0,I62,I62*R62/1000) -> 7 | U62: =IF(H62="węgiel kamienny",'Wskaźniki emisji 2015r'!$D$8,IF(H62="gaz ziemny",'Wskaźniki emisji 2015r'!$D$9,IF(H62="olej opałowy",'Wskaźniki emisji 2015r'!$D$10,IF(H62="drewno opałowe",'Wskaźniki emisji 2015r'!$D$11,IF(H62="energia elektryczna",'Wskaźniki emisji 2015r'!$D$15))))) -> 0.33920578 | V62: =S62*T62 -> 51.36411 | W62: =V62*U62 -> 17.423003
O63: termomodernizacja | R63: =IF(H63="gaz ziemny",'Wskaźniki emisji 2015r'!$B$22,0) -> 0 | S63: =IF(H63="węgiel kamienny",'Wskaźniki emisji 2015r'!$B$8,IF(H63="gaz ziemny",'Wskaźniki emisji 2015r'!$B$9,IF(H63="drewno opałowe",'Wskaźniki emisji 2015r'!$B$11,IF(H63="olej opałowy",'Wskaźniki emisji 2015r'!$B$10,)))) -> 0 | T63: =IF(R63=0,I63,I63*R63/1000) -> 0 | U63: =IF(H63="węgiel kamienny",'Wskaźniki emisji 2015r'!$D$8,IF(H63="gaz ziemny",'Wskaźniki emisji 2015r'!$D$9,IF(H63="olej opałowy",'Wskaźniki emisji 2015r'!$D$10,IF(H63="drewno opałowe",'Wskaźniki emisji 2015r'!$D$11,IF(H63="energia elektryczna",'Wskaźniki emisji 2015r'!$D$15))))) -> FALSE | V63: =S63*T63 -> 0 | W63: =V63*U63 -> 0
A64: 38 | B64: Kamienica Polska | C64: Konopnickiej | E64: Wolnostojący | F64: bd | G64: 60 | H64: węgiel kamienny | J64: Mg | K64: kocioł | L64: 1 | M64: olej napędowy | N64: 200 | O64: wymiana okien | Q64: =50*12/0.6 -> 1000 | R64: =IF(H64="gaz ziemny",'Wskaźniki emisji 2015r'!$B$22,0) -> 0 | S64: =IF(H64="węgiel kamienny",'Wskaźniki emisji 2015r'!$B$8,IF(H64="gaz ziemny",'Wskaźniki emisji 2015r'!$B$9,IF(H64="drewno opałowe",'Wskaźniki emisji 2015r'!$B$11,IF(H64="olej opałowy",'Wskaźniki emisji 2015r'!$B$10,)))) -> 7.33773 | T64: =IF(R64=0,I64,I64*R64/1000) -> 0 | U64: =IF(H64="węgiel kamienny",'Wskaźniki emisji 2015r'!$D$8,IF(H64="gaz ziemny",'Wskaźniki emisji 2015r'!$D$9,IF(H64="olej opałowy",'Wskaźniki emisji 2015r'!$D$10,IF(H64="drewno opałowe",'Wskaźniki emisji 2015r'!$D$11,IF(H64="energia elektryczna",'Wskaźniki emisji 2015r'!$D$15))))) -> 0.33920578 | V64: =S64*T64 -> 0 | W64: =V64*U64 -> 0
O65: termomodernizacja | S65: =IF(H65="węgiel kamienny",'Wskaźniki emisji 2015r'!$B$8,IF(H65="gaz ziemny",'Wskaźniki emisji 2015r'!$B$9,IF(H65="drewno opałowe",'Wskaźniki emisji 2015r'!$B$11,IF(H65="olej opałowy",'Wskaźniki emisji 2015r'!$B$10,)))) -> 0 | T65: =IF(R65=0,I65,I65*R65/1000) -> 0 | U65: =IF(H65="węgiel kamienny",'Wskaźniki emisji 2015r'!$D$8,IF(H65="gaz ziemny",'Wskaźniki emisji 2015r'!$D$9,IF(H65="olej opałowy",'Wskaźniki emisji 2015r'!$D$10,IF(H65="drewno opałowe",'Wskaźniki emisji 2015r'!$D$11,IF(H65="energia elektryczna",'Wskaźniki emisji 2015r'!$D$15))))) -> FALSE | V65: =S65*T65 -> 0 | W65: =V65*U65 -> 0
A66: 39 | B66: Kamienica Polska | C66: Konopnickiej | E66: wolnostojący | F66: 1980 | G66: 160 | H66: węgiel kamienny | I66: 6 | J66: Mg | K66: kocioł | L66: 2 | M66: benzyna | N66: 1000 | O66: wymiana okien | Q66: 4579 | R66: =IF(H66="gaz ziemny",'Wskaźniki emisji 2015r'!$B$22,0) -> 0 | S66: =IF(H66="węgiel kamienny",'Wskaźniki emisji 2015r'!$B$8,IF(H66="gaz ziemny",'Wskaźniki emisji 2015r'!$B$9,IF(H66="drewno opałowe",'Wskaźniki emisji 2015r'!$B$11,IF(H66="olej opałowy",'Wskaźniki emisji 2015r'!$B$10,)))) -> 7.33773 | T66: =IF(R66=0,I66,I66*R66/1000) -> 6 | U66: =IF(H66="węgiel kamienny",'Wskaźniki emisji 2015r'!$D$8,IF(H66="gaz ziemny",'Wskaźniki emisji 2015r'!$D$9,IF(H66="olej opałowy",'Wskaźniki emisji 2015r'!$D$10,IF(H66="drewno opałowe",'Wskaźniki emisji 2015r'!$D$11,IF(H66="energia elektryczna",'Wskaźniki emisji 2015r'!$D$15))))) -> 0.33920578 | V66: =S66*T66 -> 44.02638 | W66: =V66*U66 -> 14.934002
H67: gaz ziemny | I67: =8720*'Wskaźniki emisji 2010r'!B22/1000 -> 6.24352 | J67: Mg | M67: olej napędowy | S67: =IF(H67="węgiel kamienny",'Wskaźniki emisji 2015r'!$B$8,IF(H67="gaz ziemny",'Wskaźniki emisji 2015r'!$B$9,IF(H67="drewno opałowe",'Wskaźniki emisji 2015r'!$B$11,IF(H67="olej opałowy",'Wskaźniki emisji 2015r'!$B$10,)))) -> 13.296 | T67: =IF(R67=0,I67,I67*R67/1000) -> 6.24352 | U67: =IF(H67="węgiel kamienny",'Wskaźniki emisji 2015r'!$D$8,IF(H67="gaz ziemny",'Wskaźniki emisji 2015r'!$D$9,IF(H67="olej opałowy",'Wskaźniki emisji 2015r'!$D$10,IF(H67="drewno opałowe",'Wskaźniki emisji 2015r'!$D$11,IF(H67="energia elektryczna",'Wskaźniki emisji 2015r'!$D$15))))) -> 0.20151625 | V67: =S67*T67 -> 83.013842 | W67: =V67*U67 -> 16.728638
A68: 40 | B68: Kamienica Polska | C68: Konopnickiej | E68: wolnostojący | F68: 1984 | G68: 150 | H68: węgiel kamienny | I68: 6 | J68: Mg | K68: kocioł | L68: 1 | M68: LPG | N68: 700 | O68: wymiana okien | Q68: =320*12/0.6 -> 6400 | R68: =IF(H68="gaz ziemny",'Wskaźniki emisji 2015r'!$B$22,0) -> 0 | S68: =IF(H68="węgiel kamienny",'Wskaźniki emisji 2015r'!$B$8,IF(H68="gaz ziemny",'Wskaźniki emisji 2015r'!$B$9,IF(H68="drewno opałowe",'Wskaźniki emisji 2015r'!$B$11,IF(H68="olej opałowy",'Wskaźniki emisji 2015r'!$B$10,)))) -> 7.33773 | T68: =IF(R68=0,I68,I68*R68/1000) -> 6 | U68: =IF(H68="węgiel kamienny",'Wskaźniki emisji 2015r'!$D$8,IF(H68="gaz ziemny",'Wskaźniki emisji 2015r'!$D$9,IF(H68="olej opałowy",'Wskaźniki emisji 2015r'!$D$10,IF(H68="drewno opałowe",'Wskaźniki emisji 2015r'!$D$11,IF(H68="energia elektryczna",'Wskaźniki emisji 2015r'!$D$15))))) -> 0.33920578 | V68: =S68*T68 -> 44.02638 | W68: =V68*U68 -> 14.934002
H69: drewno opałowe | I69: 0 | J69: Mg | S69: =IF(H69="węgiel kamienny",'Wskaźniki emisji 2015r'!$B$8,IF(H69="gaz ziemny",'Wskaźniki emisji 2015r'!$B$9,IF(H69="drewno opałowe",'Wskaźniki emisji 2015r'!$B$11,IF(H69="olej opałowy",'Wskaźniki emisji 2015r'!$B$10,)))) -> 4.3212 | T69: =IF(R69=0,I69,I69*R69/1000) -> 0 | U69: =IF(H69="węgiel kamienny",'Wskaźniki emisji 2015r'!$D$8,IF(H69="gaz ziemny",'Wskaźniki emisji 2015r'!$D$9,IF(H69="olej opałowy",'Wskaźniki emisji 2015r'!$D$10,IF(H69="drewno opałowe",'Wskaźniki emisji 2015r'!$D$11,IF(H69="energia elektryczna",'Wskaźniki emisji 2015r'!$D$15))))) -> 0 | V69: =S69*T69 -> 0 | W69: =V69*U69 -> 0
A70: 41 | B70: Kamienica Polska | C70: Jastrzębska | E70: wolnostojący | F70: 1960 | G70: 80 | H70: gaz ziemny | I70: =800*'Wskaźniki emisji 2015r'!B22*0.001*12/0.25 -> 27.4944 | J70: Mg | K70: kocioł | L70: 1 | M70: benzyna | N70: 900 | O70: wymiana okien | Q70: =180*12/0.6 -> 3600 | R70: =IF(H70="gaz ziemny",'Wskaźniki emisji 2015r'!$B$22,0) -> 0.716 | S70: =IF(H70="węgiel kamienny",'Wskaźniki emisji 2015r'!$B$8,IF(H70="gaz ziemny",'Wskaźniki emisji 2015r'!$B$9,IF(H70="drewno opałowe",'Wskaźniki emisji 2015r'!$B$11,IF(H70="olej opałowy",'Wskaźniki emisji 2015r'!$B$10,)))) -> 13.296 | T70: =IF(R70=0,I70,I70*R70/1000) -> 0.01968599 | U70: =IF(H70="węgiel kamienny",'Wskaźniki emisji 2015r'!$D$8,IF(H70="gaz ziemny",'Wskaźniki emisji 2015r'!$D$9,IF(H70="olej opałowy",'Wskaźniki emisji 2015r'!$D$10,IF(H70="drewno opałowe",'Wskaźniki emisji 2015r'!$D$11,IF(H70="energia elektryczna",'Wskaźniki emisji 2015r'!$D$15))))) -> 0.20151625 | V70: =S70*T70 -> 0.26174493 | W70: =V70*U70 -> 0.052745855
O71: termomodernizacja | S71: =IF(H71="węgiel kamienny",'Wskaźniki emisji 2015r'!$B$8,IF(H71="gaz ziemny",'Wskaźniki emisji 2015r'!$B$9,IF(H71="drewno opałowe",'Wskaźniki emisji 2015r'!$B$11,IF(H71="olej opałowy",'Wskaźniki emisji 2015r'!$B$10,)))) -> 0 | T71: =IF(R71=0,I71,I71*R71/1000) -> 0 | U71: =IF(H71="węgiel kamienny",'Wskaźniki emisji 2015r'!$D$8,IF(H71="gaz ziemny",'Wskaźniki emisji 2015r'!$D$9,IF(H71="olej opałowy",'Wskaźniki emisji 2015r'!$D$10,IF(H71="drewno opałowe",'Wskaźniki emisji 2015r'!$D$11,IF(H71="energia elektryczna",'Wskaźniki emisji 2015r'!$D$15))))) -> FALSE | V71: =S71*T71 -> 0 | W71: =V71*U71 -> 0
A72: 42 | B72: Kamienica Polska | C72: Jastrzębska | E72: wolnostojący | F72: 1950 | G72: 70 | H72: gaz ziemny | I72: =700*12*'Wskaźniki emisji 2015r'!B22/1000/0.25 -> 24.0576 | J72: Mg | K72: kocioł | L72: 1 | M72: benzyna | N72: 1000 | O72: wymiana okien | Q72: =150*12/0.6 -> 3000 | R72: =IF(H72="gaz ziemny",'Wskaźniki emisji 2015r'!$B$22,0) -> 0.716 | S72: =IF(H72="węgiel kamienny",'Wskaźniki emisji 2015r'!$B$8,IF(H72="gaz ziemny",'Wskaźniki emisji 2015r'!$B$9,IF(H72="drewno opałowe",'Wskaźniki emisji 2015r'!$B$11,IF(H72="olej opałowy",'Wskaźniki emisji 2015r'!$B$10,)))) -> 13.296 | T72: =IF(R72=0,I72,I72*R72/1000) -> 0.017225242 | U72: =IF(H72="węgiel kamienny",'Wskaźniki emisji 2015r'!$D$8,IF(H72="gaz ziemny",'Wskaźniki emisji 2015r'!$D$9,IF(H72="olej opałowy",'Wskaźniki emisji 2015r'!$D$10,IF(H72="drewno opałowe",'Wskaźniki emisji 2015r'!$D$11,IF(H72="energia elektryczna",'Wskaźniki emisji 2015r'!$D$15))))) -> 0.20151625 | V72: =S72*T72 -> 0.22902681 | W72: =V72*U72 -> 0.046152623
O73: termomodernizacja | S73: =IF(H73="węgiel kamienny",'Wskaźniki emisji 2015r'!$B$8,IF(H73="gaz ziemny",'Wskaźniki emisji 2015r'!$B$9,IF(H73="drewno opałowe",'Wskaźniki emisji 2015r'!$B$11,IF(H73="olej opałowy",'Wskaźniki emisji 2015r'!$B$10,)))) -> 0 | T73: =IF(R73=0,I73,I73*R73/1000) -> 0 | U73: =IF(H73="węgiel kamienny",'Wskaźniki emisji 2015r'!$D$8,IF(H73="gaz ziemny",'Wskaźniki emisji 2015r'!$D$9,IF(H73="olej opałowy",'Wskaźniki emisji 2015r'!$D$10,IF(H73="drewno opałowe",'Wskaźniki emisji 2015r'!$D$11,IF(H73="energia elektryczna",'Wskaźniki emisji 2015r'!$D$15))))) -> FALSE | V73: =S73*T73 -> 0 | W73: =V73*U73 -> 0
A74: 43 | B74: Kamienica Polska | C74: Jastrzębska | E74: wolnostojący | F74: 1950 | G74: 70 | H74: węgiel kamienny | I74: 4 | J74: Mg | K74: kocioł | Q74: =120*12/0.6 -> 2400 | R74: =IF(H74="gaz ziemny",'Wskaźniki emisji 2015r'!$B$22,0) -> 0 | S74: =IF(H74="węgiel kamienny",'Wskaźniki emisji 2015r'!$B$8,IF(H74="gaz ziemny",'Wskaźniki emisji 2015r'!$B$9,IF(H74="drewno opałowe",'Wskaźniki emisji 2015r'!$B$11,IF(H74="olej opałowy",'Wskaźniki emisji 2015r'!$B$10,)))) -> 7.33773 | T74: =IF(R74=0,I74,I74*R74/1000) -> 4 | U74: =IF(H74="węgiel kamienny",'Wskaźniki emisji 2015r'!$D$8,IF(H74="gaz ziemny",'Wskaźniki emisji 2015r'!$D$9,IF(H74="olej opałowy",'Wskaźniki emisji 2015r'!$D$10,IF(H74="drewno opałowe",'Wskaźniki emisji 2015r'!$D$11,IF(H74="energia elektryczna",'Wskaźniki emisji 2015r'!$D$15))))) -> 0.33920578 | V74: =S74*T74 -> 29.35092 | W74: =V74*U74 -> 9.9560016
A75: 44 | B75: Kamienica Polska | C75: Domagalskiej | D75: 4 | E75: wolnostojący | F75: 1973 | G75: 150 | H75: węgiel kamienny | I75: 6.5 | J75: Mg | K75: kocioł | L75: 2 | M75: benzyna | N75: 2000 | O75: wymiana okien | P75: kolektory słoneczne | Q75: =170*12/0.6 -> 3400 | R75: =IF(H75="gaz ziemny",'Wskaźniki emisji 2015r'!$B$22,0) -> 0 | S75: =IF(H75="węgiel kamienny",'Wskaźniki emisji 2015r'!$B$8,IF(H75="gaz ziemny",'Wskaźniki emisji 2015r'!$B$9,IF(H75="drewno opałowe",'Wskaźniki emisji 2015r'!$B$11,IF(H75="olej opałowy",'Wskaźniki emisji 2015r'!$B$10,)))) -> 7.33773 | T75: =IF(R75=0,I75,I75*R75/1000) -> 6.5 | U75: =IF(H75="węgiel kamienny",'Wskaźniki emisji 2015r'!$D$8,IF(H75="gaz ziemny",'Wskaźniki emisji 2015r'!$D$9,IF(H75="olej opałowy",'Wskaźniki emisji 2015r'!$D$10,IF(H75="drewno opałowe",'Wskaźniki emisji 2015r'!$D$11,IF(H75="energia elektryczna",'Wskaźniki emisji 2015r'!$D$15))))) -> 0.33920578 | V75: =S75*T75 -> 47.695245 | W75: =V75*U75 -> 16.178503
M76: olej napędowy | O76: termomodernizacja | P76: modernizacja kotłowni | S76: =IF(H76="węgiel kamienny",'Wskaźniki emisji 2015r'!$B$8,IF(H76="gaz ziemny",'Wskaźniki emisji 2015r'!$B$9,IF(H76="drewno opałowe",'Wskaźniki emisji 2015r'!$B$11,IF(H76="olej opałowy",'Wskaźniki emisji 2015r'!$B$10,)))) -> 0 | T76: =IF(R76=0,I76,I76*R76/1000) -> 0 | U76: =IF(H76="węgiel kamienny",'Wskaźniki emisji 2015r'!$D$8,IF(H76="gaz ziemny",'Wskaźniki emisji 2015r'!$D$9,IF(H76="olej opałowy",'Wskaźniki emisji 2015r'!$D$10,IF(H76="drewno opałowe",'Wskaźniki emisji 2015r'!$D$11,IF(H76="energia elektryczna",'Wskaźniki emisji 2015r'!$D$15))))) -> FALSE | V76: =S76*T76 -> 0 | W76: =V76*U76 -> 0
A77: 45 | B77: Kamienica Polska | C77: Domagalskiej | E77: wolnostojący | F77: 1994 | G77: 150 | H77: gaz ziemny | I77: =5000*'Wskaźniki emisji 2015r'!B22/1000/0.25 -> 14.32 | J77: Mg | K77: kocioł | L77: 2 | M77: olej napędowy | N77: 1000 | O77: termomodernizacja | P77: modernizacja kotłowni | Q77: =140*12/0.6 -> 2800 | R77: =IF(H77="gaz ziemny",'Wskaźniki emisji 2015r'!$B$22,0) -> 0.716 | S77: =IF(H77="węgiel kamienny",'Wskaźniki emisji 2015r'!$B$8,IF(H77="gaz ziemny",'Wskaźniki emisji 2015r'!$B$9,IF(H77="drewno opałowe",'Wskaźniki emisji 2015r'!$B$11,IF(H77="olej opałowy",'Wskaźniki emisji 2015r'!$B$10,)))) -> 13.296 | T77: =IF(R77=0,I77,I77*R77/1000) -> 0.01025312 | U77: =IF(H77="węgiel kamienny",'Wskaźniki emisji 2015r'!$D$8,IF(H77="gaz ziemny",'Wskaźniki emisji 2015r'!$D$9,IF(H77="olej opałowy",'Wskaźniki emisji 2015r'!$D$10,IF(H77="drewno opałowe",'Wskaźniki emisji 2015r'!$D$11,IF(H77="energia elektryczna",'Wskaźniki emisji 2015r'!$D$15))))) -> 0.20151625 | V77: =S77*T77 -> 0.13632548 | W77: =V77*U77 -> 0.0274718
M78: benzyna | P78: kolektory słoneczne | S78: =IF(H78="węgiel kamienny",'Wskaźniki emisji 2015r'!$B$8,IF(H78="gaz ziemny",'Wskaźniki emisji 2015r'!$B$9,IF(H78="drewno opałowe",'Wskaźniki emisji 2015r'!$B$11,IF(H78="olej opałowy",'Wskaźniki emisji 2015r'!$B$10,)))) -> 0 | T78: =IF(R78=0,I78,I78*R78/1000) -> 0 | U78: =IF(H78="węgiel kamienny",'Wskaźniki emisji 2015r'!$D$8,IF(H78="gaz ziemny",'Wskaźniki emisji 2015r'!$D$9,IF(H78="olej opałowy",'Wskaźniki emisji 2015r'!$D$10,IF(H78="drewno opałowe",'Wskaźniki emisji 2015r'!$D$11,IF(H78="energia elektryczna",'Wskaźniki emisji 2015r'!$D$15))))) -> FALSE | V78: =S78*T78 -> 0 | W78: =V78*U78 -> 0
A79: 46 | B79: Kamienica Polska | C79: Domagalskiej | E79: wolnostojący | F79: 1971 | G79: 100 | H79: węgiel kamienny | I79: 4 | J79: Mg | K79: kocioł | O79: wymiana okien | Q79: =50*12/0.6 -> 1000 | R79: =IF(H79="gaz ziemny",'Wskaźniki emisji 2015r'!$B$22,0) -> 0 | S79: =IF(H79="węgiel kamienny",'Wskaźniki emisji 2015r'!$B$8,IF(H79="gaz ziemny",'Wskaźniki emisji 2015r'!$B$9,IF(H79="drewno opałowe",'Wskaźniki emisji 2015r'!$B$11,IF(H79="olej opałowy",'Wskaźniki emisji 2015r'!$B$10,)))) -> 7.33773 | T79: =IF(R79=0,I79,I79*R79/1000) -> 4 | U79: =IF(H79="węgiel kamienny",'Wskaźniki emisji 2015r'!$D$8,IF(H79="gaz ziemny",'Wskaźniki emisji 2015r'!$D$9,IF(H79="olej opałowy",'Wskaźniki emisji 2015r'!$D$10,IF(H79="drewno opałowe",'Wskaźniki emisji 2015r'!$D$11,IF(H79="energia elektryczna",'Wskaźniki emisji 2015r'!$D$15))))) -> 0.33920578 | V79: =S79*T79 -> 29.35092 | W79: =V79*U79 -> 9.9560016
A80: 47 | B80: Kamienica Polska | C80: Domagalskiej | E80: Wolnostojący | F80: 1970 | G80: 100 | H80: gaz ziemny | I80: =2500*12*'Wskaźniki emisji 2015r'!B22/1000/0.25 -> 85.92 | J80: Mg | K80: kocioł | O80: wymiana okien | Q80: =190*12/0.6 -> 3800 | R80: =IF(H80="gaz ziemny",'Wskaźniki emisji 2015r'!$B$22,0) -> 0.716 | S80: =IF(H80="węgiel kamienny",'Wskaźniki emisji 2015r'!$B$8,IF(H80="gaz ziemny",'Wskaźniki emisji 2015r'!$B$9,IF(H80="drewno opałowe",'Wskaźniki emisji 2015r'!$B$11,IF(H80="olej opałowy",'Wskaźniki emisji 2015r'!$B$10,)))) -> 13.296 | T80: =IF(R80=0,I80,I80*R80/1000) -> 0.06151872 | U80: =IF(H80="węgiel kamienny",'Wskaźniki emisji 2015r'!$D$8,IF(H80="gaz ziemny",'Wskaźniki emisji 2015r'!$D$9,IF(H80="olej opałowy",'Wskaźniki emisji 2015r'!$D$10,IF(H80="drewno opałowe",'Wskaźniki emisji 2015r'!$D$11,IF(H80="energia elektryczna",'Wskaźniki emisji 2015r'!$D$15))))) -> 0.20151625 | V80: =S80*T80 -> 0.8179529 | W80: =V80*U80 -> 0.1648308
O81: termomodernizacja | S81: =IF(H81="węgiel kamienny",'Wskaźniki emisji 2015r'!$B$8,IF(H81="gaz ziemny",'Wskaźniki emisji 2015r'!$B$9,IF(H81="drewno opałowe",'Wskaźniki emisji 2015r'!$B$11,IF(H81="olej opałowy",'Wskaźniki emisji 2015r'!$B$10,)))) -> 0 | T81: =IF(R81=0,I81,I81*R81/1000) -> 0 | U81: =IF(H81="węgiel kamienny",'Wskaźniki emisji 2015r'!$D$8,IF(H81="gaz ziemny",'Wskaźniki emisji 2015r'!$D$9,IF(H81="olej opałowy",'Wskaźniki emisji 2015r'!$D$10,IF(H81="drewno opałowe",'Wskaźniki emisji 2015r'!$D$11,IF(H81="energia elektryczna",'Wskaźniki emisji 2015r'!$D$15))))) -> FALSE | V81: =S81*T81 -> 0 | W81: =V81*U81 -> 0
A82: 48 | B82: Wanaty | C82: Świętej Karoliny | E82: Wolnostojący | F82: 1995 | G82: 90 | H82: węgiel kamienny | I82: 3 | J82: Mg | K82: kocioł | L82: 4 | M82: benzyna | N82: 1000 | O82: wymiana okien | P82: kolektory słoneczne | Q82: =200*12/0.6 -> 4000 | R82: =IF(H82="gaz ziemny",'Wskaźniki emisji 2015r'!$B$22,0) -> 0 | S82: =IF(H82="węgiel kamienny",'Wskaźniki emisji 2015r'!$B$8,IF(H82="gaz ziemny",'Wskaźniki emisji 2015r'!$B$9,IF(H82="drewno opałowe",'Wskaźniki emisji 2015r'!$B$11,IF(H82="olej opałowy",'Wskaźniki emisji 2015r'!$B$10,)))) -> 7.33773 | T82: =IF(R82=0,I82,I82*R82/1000) -> 3 | U82: =IF(H82="węgiel kamienny",'Wskaźniki emisji 2015r'!$D$8,IF(H82="gaz ziemny",'Wskaźniki emisji 2015r'!$D$9,IF(H82="olej opałowy",'Wskaźniki emisji 2015r'!$D$10,IF(H82="drewno opałowe",'Wskaźniki emisji 2015r'!$D$11,IF(H82="energia elektryczna",'Wskaźniki emisji 2015r'!$D$15))))) -> 0.33920578 | V82: =S82*T82 -> 22.01319 | W82: =V82*U82 -> 7.4670012
M83: olej napędowy | O83: termomodernizacja | R83: =IF(H83="gaz ziemny",'Wskaźniki emisji 2015r'!$B$22,0) -> 0 | S83: =IF(H83="węgiel kamienny",'Wskaźniki emisji 2015r'!$B$8,IF(H83="gaz ziemny",'Wskaźniki emisji 2015r'!$B$9,IF(H83="drewno opałowe",'Wskaźniki emisji 2015r'!$B$11,IF(H83="olej opałowy",'Wskaźniki emisji 2015r'!$B$10,)))) -> 0 | T83: =IF(R83=0,I83,I83*R83/1000) -> 0 | U83: =IF(H83="węgiel kamienny",'Wskaźniki emisji 2015r'!$D$8,IF(H83="gaz ziemny",'Wskaźniki emisji 2015r'!$D$9,IF(H83="olej opałowy",'Wskaźniki emisji 2015r'!$D$10,IF(H83="drewno opałowe",'Wskaźniki emisji 2015r'!$D$11,IF(H83="energia elektryczna",'Wskaźniki emisji 2015r'!$D$15))))) -> FALSE | V83: =S83*T83 -> 0 | W83: =V83*U83 -> 0
A84: 49 | B84: Kamienica Polska | C84: Konopnickiej | E84: Wolnostojący | F84: 1930 | G84: 60 | H84: węgiel kamienny | I84: 2 | J84: Mg | K84: kocioł | L84: 1 | M84: olej napędowy | N84: 600 | P84: termomodernizacja | Q84: =130*12/0.6 -> 2600 | R84: =IF(H84="gaz ziemny",'Wskaźniki emisji 2015r'!$B$22,0) -> 0 | S84: =IF(H84="węgiel kamienny",'Wskaźniki emisji 2015r'!$B$8,IF(H84="gaz ziemny",'Wskaźniki emisji 2015r'!$B$9,IF(H84="drewno opałowe",'Wskaźniki emisji 2015r'!$B$11,IF(H84="olej opałowy",'Wskaźniki emisji 2015r'!$B$10,)))) -> 7.33773 | T84: =IF(R84=0,I84,I84*R84/1000) -> 2 | U84: =IF(H84="węgiel kamienny",'Wskaźniki emisji 2015r'!$D$8,IF(H84="gaz ziemny",'Wskaźniki emisji 2015r'!$D$9,IF(H84="olej opałowy",'Wskaźniki emisji 2015r'!$D$10,IF(H84="drewno opałowe",'Wskaźniki emisji 2015r'!$D$11,IF(H84="energia elektryczna",'Wskaźniki emisji 2015r'!$D$15))))) -> 0.33920578 | V84: =S84*T84 -> 14.67546 | W84: =V84*U84 -> 4.9780008
H85: drewno opałowe | I85: 0 | J85: Mg | S85: =IF(H85="węgiel kamienny",'Wskaźniki emisji 2015r'!$B$8,IF(H85="gaz ziemny",'Wskaźniki emisji 2015r'!$B$9,IF(H85="drewno opałowe",'Wskaźniki emisji 2015r'!$B$11,IF(H85="olej opałowy",'Wskaźniki emisji 2015r'!$B$10,)))) -> 4.3212 | T85: =IF(R85=0,I85,I85*R85/1000) -> 0 | U85: =IF(H85="węgiel kamienny",'Wskaźniki emisji 2015r'!$D$8,IF(H85="gaz ziemny",'Wskaźniki emisji 2015r'!$D$9,IF(H85="olej opałowy",'Wskaźniki emisji 2015r'!$D$10,IF(H85="drewno opałowe",'Wskaźniki emisji 2015r'!$D$11,IF(H85="energia elektryczna",'Wskaźniki emisji 2015r'!$D$15))))) -> 0 | V85: =S85*T85 -> 0 | W85: =V85*U85 -> 0
A86: 50 | B86: Kamienica Polska | C86: Karoliny | E86: Wolnostojący | F86: 2000 | G86: 120 | H86: węgiel kamienny | I86: 7 | J86: Mg | K86: kocioł | L86: 1 | M86: benzyna | N86: 800 | Q86: =160*12/0.6 -> 3200 | R86: =IF(H86="gaz ziemny",'Wskaźniki emisji 2015r'!$B$22,0) -> 0 | S86: =IF(H86="węgiel kamienny",'Wskaźniki emisji 2015r'!$B$8,IF(H86="gaz ziemny",'Wskaźniki emisji 2015r'!$B$9,IF(H86="drewno opałowe",'Wskaźniki emisji 2015r'!$B$11,IF(H86="olej opałowy",'Wskaźniki emisji 2015r'!$B$10,)))) -> 7.33773 | T86: =IF(R86=0,I86,I86*R86/1000) -> 7 | U86: =IF(H86="węgiel kamienny",'Wskaźniki emisji 2015r'!$D$8,IF(H86="gaz ziemny",'Wskaźniki emisji 2015r'!$D$9,IF(H86="olej opałowy",'Wskaźniki emisji 2015r'!$D$10,IF(H86="drewno opałowe",'Wskaźniki emisji 2015r'!$D$11,IF(H86="energia elektryczna",'Wskaźniki emisji 2015r'!$D$15))))) -> 0.33920578 | V86: =S86*T86 -> 51.36411 | W86: =V86*U86 -> 17.423003
M87: LPG | R87: =IF(H87="gaz ziemny",'Wskaźniki emisji 2015r'!$B$22,0) -> 0 | S87: =IF(H87="węgiel kamienny",'Wskaźniki emisji 2015r'!$B$8,IF(H87="gaz ziemny",'Wskaźniki emisji 2015r'!$B$9,IF(H87="drewno opałowe",'Wskaźniki emisji 2015r'!$B$11,IF(H87="olej opałowy",'Wskaźniki emisji 2015r'!$B$10,)))) -> 0 | T87: =IF(R87=0,I87,I87*R87/1000) -> 0 | U87: =IF(H87="węgiel kamienny",'Wskaźniki emisji 2015r'!$D$8,IF(H87="gaz ziemny",'Wskaźniki emisji 2015r'!$D$9,IF(H87="olej opałowy",'Wskaźniki emisji 2015r'!$D$10,IF(H87="drewno opałowe",'Wskaźniki emisji 2015r'!$D$11,IF(H87="energia elektryczna",'Wskaźniki emisji 2015r'!$D$15))))) -> FALSE | V87: =S87*T87 -> 0 | W87: =V87*U87 -> 0
A88: 51 | B88: Kamienica Polska | C88: Południowa | D88: 2 | E88: Wolnostojący | F88: 1994 | G88: 160 | H88: węgiel kamienny | I88: 5 | J88: Mg | K88: kocioł | L88: 1 | M88: benzyna | N88: 150 | O88: wymiana okien | Q88: =100*12/0.6 -> 2000 | R88: =IF(H88="gaz ziemny",'Wskaźniki emisji 2015r'!$B$22,0) -> 0 | S88: =IF(H88="węgiel kamienny",'Wskaźniki emisji 2015r'!$B$8,IF(H88="gaz ziemny",'Wskaźniki emisji 2015r'!$B$9,IF(H88="drewno opałowe",'Wskaźniki emisji 2015r'!$B$11,IF(H88="olej opałowy",'Wskaźniki emisji 2015r'!$B$10,)))) -> 7.33773 | T88: =IF(R88=0,I88,I88*R88/1000) -> 5 | U88: =IF(H88="węgiel kamienny",'Wskaźniki emisji 2015r'!$D$8,IF(H88="gaz ziemny",'Wskaźniki emisji 2015r'!$D$9,IF(H88="olej opałowy",'Wskaźniki emisji 2015r'!$D$10,IF(H88="drewno opałowe",'Wskaźniki emisji 2015r'!$D$11,IF(H88="energia elektryczna",'Wskaźniki emisji 2015r'!$D$15))))) -> 0.33920578 | V88: =S88*T88 -> 36.68865 | W88: =V88*U88 -> 12.445002
O89: termomodernizacja | S89: =IF(H89="węgiel kamienny",'Wskaźniki emisji 2015r'!$B$8,IF(H89="gaz ziemny",'Wskaźniki emisji 2015r'!$B$9,IF(H89="drewno opałowe",'Wskaźniki emisji 2015r'!$B$11,IF(H89="olej opałowy",'Wskaźniki emisji 2015r'!$B$10,)))) -> 0 | T89: =IF(R89=0,I89,I89*R89/1000) -> 0 | U89: =IF(H89="węgiel kamienny",'Wskaźniki emisji 2015r'!$D$8,IF(H89="gaz ziemny",'Wskaźniki emisji 2015r'!$D$9,IF(H89="olej opałowy",'Wskaźniki emisji 2015r'!$D$10,IF(H89="drewno opałowe",'Wskaźniki emisji 2015r'!$D$11,IF(H89="energia elektryczna",'Wskaźniki emisji 2015r'!$D$15))))) -> FALSE | V89: =S89*T89 -> 0 | W89: =V89*U89 -> 0
A90: 52 | B90: Kamienica Polska | C90: Południowa | D90: 10 | E90: Wolnostojący | F90: 1996 | G90: 100 | H90: węgiel kamienny | I90: 6 | J90: Mg | K90: kociol | L90: 1 | M90: benzyna | N90: 1800 | O90: wymiana okien | Q90: =180*12/0.6 -> 3600 | R90: =IF(H90="gaz ziemny",'Wskaźniki emisji 2015r'!$B$22,0) -> 0 | S90: =IF(H90="węgiel kamienny",'Wskaźniki emisji 2015r'!$B$8,IF(H90="gaz ziemny",'Wskaźniki emisji 2015r'!$B$9,IF(H90="drewno opałowe",'Wskaźniki emisji 2015r'!$B$11,IF(H90="olej opałowy",'Wskaźniki emisji 2015r'!$B$10,)))) -> 7.33773 | T90: =IF(R90=0,I90,I90*R90/1000) -> 6 | U90: =IF(H90="węgiel kamienny",'Wskaźniki emisji 2015r'!$D$8,IF(H90="gaz ziemny",'Wskaźniki emisji 2015r'!$D$9,IF(H90="olej opałowy",'Wskaźniki emisji 2015r'!$D$10,IF(H90="drewno opałowe",'Wskaźniki emisji 2015r'!$D$11,IF(H90="energia elektryczna",'Wskaźniki emisji 2015r'!$D$15))))) -> 0.33920578 | V90: =S90*T90 -> 44.02638 | W90: =V90*U90 -> 14.934002
A91: 53 | B91: Kamienica Polska | C91: Konopnickiej | D91: 30 | E91: Wolnostojący | F91: 1960 | G91: 110 | H91: węgiel kamienny | I91: 5 | J91: Mg | K91: kocioł | L91: 1 | M91: benzyna | N91: 700 | O91: wymiana okien | Q91: =200*12/0.6 -> 4000 | R91: =IF(H91="gaz ziemny",'Wskaźniki emisji 2015r'!$B$22,0) -> 0 | S91: =IF(H91="węgiel kamienny",'Wskaźniki emisji 2015r'!$B$8,IF(H91="gaz ziemny",'Wskaźniki emisji 2015r'!$B$9,IF(H91="drewno opałowe",'Wskaźniki emisji 2015r'!$B$11,IF(H91="olej opałowy",'Wskaźniki emisji 2015r'!$B$10,)))) -> 7.33773 | T91: =IF(R91=0,I91,I91*R91/1000) -> 5 | U91: =IF(H91="węgiel kamienny",'Wskaźniki emisji 2015r'!$D$8,IF(H91="gaz ziemny",'Wskaźniki emisji 2015r'!$D$9,IF(H91="olej opałowy",'Wskaźniki emisji 2015r'!$D$10,IF(H91="drewno opałowe",'Wskaźniki emisji 2015r'!$D$11,IF(H91="energia elektryczna",'Wskaźniki emisji 2015r'!$D$15))))) -> 0.33920578 | V91: =S91*T91 -> 36.68865 | W91: =V91*U91 -> 12.445002
O92: termomodernizacja | S92: =IF(H92="węgiel kamienny",'Wskaźniki emisji 2015r'!$B$8,IF(H92="gaz ziemny",'Wskaźniki emisji 2015r'!$B$9,IF(H92="drewno opałowe",'Wskaźniki emisji 2015r'!$B$11,IF(H92="olej opałowy",'Wskaźniki emisji 2015r'!$B$10,)))) -> 0 | T92: =IF(R92=0,I92,I92*R92/1000) -> 0 | U92: =IF(H92="węgiel kamienny",'Wskaźniki emisji 2015r'!$D$8,IF(H92="gaz ziemny",'Wskaźniki emisji 2015r'!$D$9,IF(H92="olej opałowy",'Wskaźniki emisji 2015r'!$D$10,IF(H92="drewno opałowe",'Wskaźniki emisji 2015r'!$D$11,IF(H92="energia elektryczna",'Wskaźniki emisji 2015r'!$D$15))))) -> FALSE | V92: =S92*T92 -> 0 | W92: =V92*U92 -> 0
A93: 54 | B93: Kamienica Polska | C93: Magazynowa | E93: Wolnostojący | F93: 1967 | G93: 80 | H93: węgiel kamienny | I93: 5 | J93: Mg | K93: kocioł | L93: 2 | M93: benzyna | N93: 800 | O93: termomodernizacja | Q93: =110*12/0.6 -> 2200 | R93: =IF(H93="gaz ziemny",'Wskaźniki emisji 2015r'!$B$22,0) -> 0 | S93: =IF(H93="węgiel kamienny",'Wskaźniki emisji 2015r'!$B$8,IF(H93="gaz ziemny",'Wskaźniki emisji 2015r'!$B$9,IF(H93="drewno opałowe",'Wskaźniki emisji 2015r'!$B$11,IF(H93="olej opałowy",'Wskaźniki emisji 2015r'!$B$10,)))) -> 7.33773 | T93: =IF(R93=0,I93,I93*R93/1000) -> 5 | U93: =IF(H93="węgiel kamienny",'Wskaźniki emisji 2015r'!$D$8,IF(H93="gaz ziemny",'Wskaźniki emisji 2015r'!$D$9,IF(H93="olej opałowy",'Wskaźniki emisji 2015r'!$D$10,IF(H93="drewno opałowe",'Wskaźniki emisji 2015r'!$D$11,IF(H93="energia elektryczna",'Wskaźniki emisji 2015r'!$D$15))))) -> 0.33920578 | V93: =S93*T93 -> 36.68865 | W93: =V93*U93 -> 12.445002
M94: LPG | O94: wymiana okien | R94: =IF(H94="gaz ziemny",'Wskaźniki emisji 2015r'!$B$22,0) -> 0 | S94: =IF(H94="węgiel kamienny",'Wskaźniki emisji 2015r'!$B$8,IF(H94="gaz ziemny",'Wskaźniki emisji 2015r'!$B$9,IF(H94="drewno opałowe",'Wskaźniki emisji 2015r'!$B$11,IF(H94="olej opałowy",'Wskaźniki emisji 2015r'!$B$10,)))) -> 0 | T94: =IF(R94=0,I94,I94*R94/1000) -> 0 | U94: =IF(H94="węgiel kamienny",'Wskaźniki emisji 2015r'!$D$8,IF(H94="gaz ziemny",'Wskaźniki emisji 2015r'!$D$9,IF(H94="olej opałowy",'Wskaźniki emisji 2015r'!$D$10,IF(H94="drewno opałowe",'Wskaźniki emisji 2015r'!$D$11,IF(H94="energia elektryczna",'Wskaźniki emisji 2015r'!$D$15))))) -> FALSE | V94: =S94*T94 -> 0 | W94: =V94*U94 -> 0
A95: 55 | B95: Kamienica Polska | C95: Magazynowa | D95: 30 | E95: Wolnostojący | F95: 1998 | G95: 80 | H95: węgiel kamienny | I95: 6 | J95: Mg | K95: kocioł | L95: 1 | M95: LPG | N95: 1500 | O95: wymiana okien | Q95: =300*12/0.6 -> 6000 | R95: =IF(H95="gaz ziemny",'Wskaźniki emisji 2015r'!$B$22,0) -> 0 | S95: =IF(H95="węgiel kamienny",'Wskaźniki emisji 2015r'!$B$8,IF(H95="gaz ziemny",'Wskaźniki emisji 2015r'!$B$9,IF(H95="drewno opałowe",'Wskaźniki emisji 2015r'!$B$11,IF(H95="olej opałowy",'Wskaźniki emisji 2015r'!$B$10,)))) -> 7.33773 | T95: =IF(R95=0,I95,I95*R95/1000) -> 6 | U95: =IF(H95="węgiel kamienny",'Wskaźniki emisji 2015r'!$D$8,IF(H95="gaz ziemny",'Wskaźniki emisji 2015r'!$D$9,IF(H95="olej opałowy",'Wskaźniki emisji 2015r'!$D$10,IF(H95="drewno opałowe",'Wskaźniki emisji 2015r'!$D$11,IF(H95="energia elektryczna",'Wskaźniki emisji 2015r'!$D$15))))) -> 0.33920578 | V95: =S95*T95 -> 44.02638 | W95: =V95*U95 -> 14.934002
A96: 56 | B96: Kamienica Polska | C96: Magazynowa | D96: 32D | E96: Wolnostojący | F96: 2001 | G96: 110 | H96: węgiel kamienny | I96: 8 | J96: Mg | K96: kocioł | L96: 1 | M96: benzyna | N96: 400 | Q96: =400*12/0.6 -> 8000 | R96: =IF(H96="gaz ziemny",'Wskaźniki emisji 2015r'!$B$22,0) -> 0 | S96: =IF(H96="węgiel kamienny",'Wskaźniki emisji 2015r'!$B$8,IF(H96="gaz ziemny",'Wskaźniki emisji 2015r'!$B$9,IF(H96="drewno opałowe",'Wskaźniki emisji 2015r'!$B$11,IF(H96="olej opałowy",'Wskaźniki emisji 2015r'!$B$10,)))) -> 7.33773 | T96: =IF(R96=0,I96,I96*R96/1000) -> 8 | U96: =IF(H96="węgiel kamienny",'Wskaźniki emisji 2015r'!$D$8,IF(H96="gaz ziemny",'Wskaźniki emisji 2015r'!$D$9,IF(H96="olej opałowy",'Wskaźniki emisji 2015r'!$D$10,IF(H96="drewno opałowe",'Wskaźniki emisji 2015r'!$D$11,IF(H96="energia elektryczna",'Wskaźniki emisji 2015r'!$D$15))))) -> 0.33920578 | V96: =S96*T96 -> 58.70184 | W96: =V96*U96 -> 19.912003
A97: 57 | B97: Kamienica Polska | C97: Magazynowa | D97: 32E | E97: Wolnostojący | F97: 2003 | G97: 136 | H97: gaz ziemny | I97: =600*12*'Wskaźniki emisji 2015r'!B22/1000/0.25 -> 20.6208 | J97: Mg | K97: kocioł | L97: 1 | M97: olej napędowy | N97: 300 | Q97: =130*12/0.6 -> 2600 | R97: =IF(H97="gaz ziemny",'Wskaźniki emisji 2015r'!$B$22,0) -> 0.716 | S97: =IF(H97="węgiel kamienny",'Wskaźniki emisji 2015r'!$B$8,IF(H97="gaz ziemny",'Wskaźniki emisji 2015r'!$B$9,IF(H97="drewno opałowe",'Wskaźniki emisji 2015r'!$B$11,IF(H97="olej opałowy",'Wskaźniki emisji 2015r'!$B$10,)))) -> 13.296 | T97: =IF(R97=0,I97,I97*R97/1000) -> 0.014764493 | U97: =IF(H97="węgiel kamienny",'Wskaźniki emisji 2015r'!$D$8,IF(H97="gaz ziemny",'Wskaźniki emisji 2015r'!$D$9,IF(H97="olej opałowy",'Wskaźniki emisji 2015r'!$D$10,IF(H97="drewno opałowe",'Wskaźniki emisji 2015r'!$D$11,IF(H97="energia elektryczna",'Wskaźniki emisji 2015r'!$D$15))))) -> 0.20151625 | V97: =S97*T97 -> 0.1963087 | W97: =V97*U97 -> 0.039559391
A98: 58 | B98: Kamienica Polska | C98: Magazynowa | D98: 32A | E98: Wolnostojący | F98: 1985 | G98: 100 | H98: węgiel kamienny | I98: 4 | J98: Mg | K98: Kocioł | L98: 1 | M98: benzyna | N98: 1000 | P98: wymiana okien | Q98: =130*12/0.6 -> 2600 | R98: =IF(H98="gaz ziemny",'Wskaźniki emisji 2015r'!$B$22,0) -> 0 | S98: =IF(H98="węgiel kamienny",'Wskaźniki emisji 2015r'!$B$8,IF(H98="gaz ziemny",'Wskaźniki emisji 2015r'!$B$9,IF(H98="drewno opałowe",'Wskaźniki emisji 2015r'!$B$11,IF(H98="olej opałowy",'Wskaźniki emisji 2015r'!$B$10,)))) -> 7.33773 | T98: =IF(R98=0,I98,I98*R98/1000) -> 4 | U98: =IF(H98="węgiel kamienny",'Wskaźniki emisji 2015r'!$D$8,IF(H98="gaz ziemny",'Wskaźniki emisji 2015r'!$D$9,IF(H98="olej opałowy",'Wskaźniki emisji 2015r'!$D$10,IF(H98="drewno opałowe",'Wskaźniki emisji 2015r'!$D$11,IF(H98="energia elektryczna",'Wskaźniki emisji 2015r'!$D$15))))) -> 0.33920578 | V98: =S98*T98 -> 29.35092 | W98: =V98*U98 -> 9.9560016
H99: drewno opałowe | I99: 5 | J99: Mg | M99: LPG | R99: =IF(H99="gaz ziemny",'Wskaźniki emisji 2015r'!$B$22,0) -> 0 | S99: =IF(H99="węgiel kamienny",'Wskaźniki emisji 2015r'!$B$8,IF(H99="gaz ziemny",'Wskaźniki emisji 2015r'!$B$9,IF(H99="drewno opałowe",'Wskaźniki emisji 2015r'!$B$11,IF(H99="olej opałowy",'Wskaźniki emisji 2015r'!$B$10,)))) -> 4.3212 | T99: =IF(R99=0,I99,I99*R99/1000) -> 5 | U99: =IF(H99="węgiel kamienny",'Wskaźniki emisji 2015r'!$D$8,IF(H99="gaz ziemny",'Wskaźniki emisji 2015r'!$D$9,IF(H99="olej opałowy",'Wskaźniki emisji 2015r'!$D$10,IF(H99="drewno opałowe",'Wskaźniki emisji 2015r'!$D$11,IF(H99="energia elektryczna",'Wskaźniki emisji 2015r'!$D$15))))) -> 0 | V99: =S99*T99 -> 21.606 | W99: =V99*U99 -> 0
A100: 59 | B100: Kamienica Polska | C100: Konopnickiej | D100: 36B | E100: Wolnostojący | F100: 2016 | G100: 150 | H100: drewno opałowe | I100: =(10+12)/2 -> 11 | J100: Mg | K100: kocioł | L100: 1 | M100: benzyna | N100: 1000 | Q100: =220*12/0.6 -> 4400 | R100: =IF(H100="gaz ziemny",'Wskaźniki emisji 2015r'!$B$22,0) -> 0 | S100: =IF(H100="węgiel kamienny",'Wskaźniki emisji 2015r'!$B$8,IF(H100="gaz ziemny",'Wskaźniki emisji 2015r'!$B$9,IF(H100="drewno opałowe",'Wskaźniki emisji 2015r'!$B$11,IF(H100="olej opałowy",'Wskaźniki emisji 2015r'!$B$10,)))) -> 4.3212 | T100: =IF(R100=0,I100,I100*R100/1000) -> 11 | U100: =IF(H100="węgiel kamienny",'Wskaźniki emisji 2015r'!$D$8,IF(H100="gaz ziemny",'Wskaźniki emisji 2015r'!$D$9,IF(H100="olej opałowy",'Wskaźniki emisji 2015r'!$D$10,IF(H100="drewno opałowe",'Wskaźniki emisji 2015r'!$D$11,IF(H100="energia elektryczna",'Wskaźniki emisji 2015r'!$D$15))))) -> 0 | V100: =S100*T100 -> 47.5332 | W100: =V100*U100 -> 0
...

Sheet Podsumowanie- Obiekty prywatne
A1: Bilans energetyczny w sektorze Obiektów Prywatnych:
A2: Obiekty prywatne | B2: 2010 rok | C2: Zużycie energii
C3: MWh
C4: Węgiel kamienny | D4: Gaz ziemny | E4: Olej opałowy | F4: Drewno opałowe | G4: Energia elektryczna | H4: SUMA
C5: =C9*1816/1888 -> 61988.028 | D5: =663300*'Wskaźniki emisji 2010r'!B22*'Wskaźniki emisji 2010r'!B9/1000 -> 6314.5735 | E5: =E9*1816/1888 -> 0 | F5: =F9*1816/1888 -> 5065.978 | G5: =G9*1816/1888 -> 5417.4038 | H5: =C5+D5+E5+G5+F5 -> 78785.984
B6: 2015 rok | C6: Zużycie energii
C7: MWh
C8: Węgiel kamienny | D8: Gaz ziemny | E8: Olej opałowy | F8: Drewno opałowe | G8: Energia elektryczna | H8: SUMA
C9: ='Obiekty prywatne'!E143 -> 64445.704 | D9: ='Obiekty prywatne'!F143 -> 6148.9267 | E9: 0 | F9: ='Obiekty prywatne'!G143 -> 5266.8317 | G9: =(SUM('Obiekty prywatne'!Q3:Q133)/1000)*1888/79 -> 5632.1908 | H9: =C9+D9+E9+G9+F9 -> 81493.653
B10: =B2 -> 2010 rok | C10: Emisja CO2
C11: Mg
C12: =C4 -> Węgiel kamienny | D12: Gaz ziemny | E12: =E4 -> Olej opałowy | F12: =F4 -> Drewno opałowe | G12: =G4 -> Energia elektryczna | H12: SUMA
C13: =C5*'Wskaźniki emisji 2010r'!D8 -> 25682.705 | D13: =D5*'Wskaźniki emisji 2010r'!D9 -> 1552.7731 | E13: =E5*'Wskaźniki emisji 2010r'!D10 -> 0 | F13: =F5*'Wskaźniki emisji 2010r'!D11 -> 0 | G13: =G5*'Wskaźniki emisji 2010r'!D15 -> 4398.9319 | H13: =SUM(C13:G13) -> 31634.41
B14: =B6 -> 2015 rok | C14: Emisja CO2
C15: Mg
C16: =C8 -> Węgiel kamienny | D16: =D8 -> Gaz ziemny | E16: =E8 -> Olej opałowy | F16: =F8 -> Drewno opałowe | G16: =G8 -> Energia elektryczna | H16: SUMA
C17: =C9*'Wskaźniki emisji 2015r'!D8 -> 21860.355 | D17: =D9*'Wskaźniki emisji 2015r'!D9 -> 1239.1086 | E17: =E9*'Wskaźniki emisji 2015r'!D10 -> 0 | F17: 0 | G17: =G9*'Wskaźniki emisji 2015r'!D15 -> 4573.3389 | H17: =SUM(C17:G17) -> 27672.802

Sheet Przedsiębiorcy 2010 r.
A1: Lp. | B1: Nazwa | C1: Rodzaj spalanego paliwa | D1: Zużycie paliwa | E1: Jednostka | F1: Wartość opałowa | G1: Zużycie energii | H1: Wskaźnik emisji | I1: Emisja CO2
F2: MWh/Mg | G2: MWh | H2: Mg/MWh | I2: Mg
A3: 1 | B3: Przychodnia lekarska w Kamienicy Polskiej | C3: gaz ziemny | D3: =3274*'Wskaźniki emisji 2010r'!B22/1000 -> 2.344184 | E3: Mg | F3: =IF(C3="węgiel kamienny",'Wskaźniki emisji 2010r'!$B$8,IF(C3="gaz ziemny",'Wskaźniki emisji 2010r'!$B$9,IF(C3="olej opałowy",'Wskaźniki emisji 2010r'!$B$10,IF(C3="drewno opałowe",'Wskaźniki emisji 2010r'!$B$11,IF(C3="LPG",'Wskaźniki emisji 2010r'!$B$14,IF(C3="energia elektryczna",'Wskaźniki emisji 2010r'!$B$15,IF(C3="benzyna",'Wskaźniki emisji 2010r'!$B$13,IF(C3="olej napędowy",'Wskaźniki emisji 2010r'!$B$12,IF(C3="gaz płynny",'Wskaźniki emisji 2010r'!$B$14,))))))))) -> 13.296 | G3: =D3*F3 -> 31.16827 | H3: =IF(C3="węgiel kamienny",'Wskaźniki emisji 2010r'!$D$8,IF(C3="gaz ziemny",'Wskaźniki emisji 2010r'!$D$9,IF(C3="olej opałowy",'Wskaźniki emisji 2010r'!$D$10,IF(C3="drewno opałowe",'Wskaźniki emisji 2010r'!$D$11,IF(C3="LPG",'Wskaźniki emisji 2010r'!$D$14,IF(C3="energia elektryczna",'Wskaźniki emisji 2010r'!$D$15,IF(C3="benzyna",'Wskaźniki emisji 2010r'!$D$13,IF(C3="olej napędowy",'Wskaźniki emisji 2010r'!$D$12,IF(C3="gaz płynny",'Wskaźniki emisji 2010r'!$D$14))))))))) -> 0.24590308 | I3: =G3*H3 -> 7.6643738
A4: 2 | B4: EKOPOL Sp. z o.o., ul.Botaniczna 30, 42-260 Zawada | C4: węgiel kamienny | D4: 28 | E4: Mg | F4: =IF(C4="węgiel kamienny",'Wskaźniki emisji 2010r'!$B$8,IF(C4="gaz ziemny",'Wskaźniki emisji 2010r'!$B$9,IF(C4="olej opałowy",'Wskaźniki emisji 2010r'!$B$10,IF(C4="drewno opałowe",'Wskaźniki emisji 2010r'!$B$11,IF(C4="LPG",'Wskaźniki emisji 2010r'!$B$14,IF(C4="energia elektryczna",'Wskaźniki emisji 2010r'!$B$15,IF(C4="benzyna",'Wskaźniki emisji 2010r'!$B$13,IF(C4="olej napędowy",'Wskaźniki emisji 2010r'!$B$12,IF(C4="gaz płynny",'Wskaźniki emisji 2010r'!$B$14,))))))))) -> 6.96932 | G4: =D4*F4 -> 195.14096 | H4: =IF(C4="węgiel kamienny",'Wskaźniki emisji 2010r'!$D$8,IF(C4="gaz ziemny",'Wskaźniki emisji 2010r'!$D$9,IF(C4="olej opałowy",'Wskaźniki emisji 2010r'!$D$10,IF(C4="drewno opałowe",'Wskaźniki emisji 2010r'!$D$11,IF(C4="LPG",'Wskaźniki emisji 2010r'!$D$14,IF(C4="energia elektryczna",'Wskaźniki emisji 2010r'!$D$15,IF(C4="benzyna",'Wskaźniki emisji 2010r'!$D$13,IF(C4="olej napędowy",'Wskaźniki emisji 2010r'!$D$12,IF(C4="gaz płynny",'Wskaźniki emisji 2010r'!$D$14))))))))) -> 0.41431718 | I4: =G4*H4 -> 80.850252 | J4: montaż kolektorów słonecznych
A5: 3 | B5: Zakład Wielobranżowy "bonex" Miroslwa Nowowiejski, ul. Marii Konopnickiej 259, 42-260 Kamienica Polska | C5: węgiel kamienny | D5: 11 | E5: Mg | F5: =IF(C5="węgiel kamienny",'Wskaźniki emisji 2010r'!$B$8,IF(C5="gaz ziemny",'Wskaźniki emisji 2010r'!$B$9,IF(C5="olej opałowy",'Wskaźniki emisji 2010r'!$B$10,IF(C5="drewno opałowe",'Wskaźniki emisji 2010r'!$B$11,IF(C5="LPG",'Wskaźniki emisji 2010r'!$B$14,IF(C5="energia elektryczna",'Wskaźniki emisji 2010r'!$B$15,IF(C5="benzyna",'Wskaźniki emisji 2010r'!$B$13,IF(C5="olej napędowy",'Wskaźniki emisji 2010r'!$B$12,IF(C5="gaz płynny",'Wskaźniki emisji 2010r'!$B$14,))))))))) -> 6.96932 | G5: =D5*F5 -> 76.66252 | H5: =IF(C5="węgiel kamienny",'Wskaźniki emisji 2010r'!$D$8,IF(C5="gaz ziemny",'Wskaźniki emisji 2010r'!$D$9,IF(C5="olej opałowy",'Wskaźniki emisji 2010r'!$D$10,IF(C5="drewno opałowe",'Wskaźniki emisji 2010r'!$D$11,IF(C5="LPG",'Wskaźniki emisji 2010r'!$D$14,IF(C5="energia elektryczna",'Wskaźniki emisji 2010r'!$D$15,IF(C5="benzyna",'Wskaźniki emisji 2010r'!$D$13,IF(C5="olej napędowy",'Wskaźniki emisji 2010r'!$D$12,IF(C5="gaz płynny",'Wskaźniki emisji 2010r'!$D$14))))))))) -> 0.41431718 | I5: =G5*H5 -> 31.762599
C6: olej opałowy | D6: 1.02 | E6: Mg | F6: =IF(C6="węgiel kamienny",'Wskaźniki emisji 2010r'!$B$8,IF(C6="gaz ziemny",'Wskaźniki emisji 2010r'!$B$9,IF(C6="olej opałowy",'Wskaźniki emisji 2010r'!$B$10,IF(C6="drewno opałowe",'Wskaźniki emisji 2010r'!$B$11,IF(C6="LPG",'Wskaźniki emisji 2010r'!$B$14,IF(C6="energia elektryczna",'Wskaźniki emisji 2010r'!$B$15,IF(C6="benzyna",'Wskaźniki emisji 2010r'!$B$13,IF(C6="olej napędowy",'Wskaźniki emisji 2010r'!$B$12,IF(C6="gaz płynny",'Wskaźniki emisji 2010r'!$B$14,))))))))) -> 11.13263 | G6: =D6*F6 -> 11.355283 | H6: =IF(C6="węgiel kamienny",'Wskaźniki emisji 2010r'!$D$8,IF(C6="gaz ziemny",'Wskaźniki emisji 2010r'!$D$9,IF(C6="olej opałowy",'Wskaźniki emisji 2010r'!$D$10,IF(C6="drewno opałowe",'Wskaźniki emisji 2010r'!$D$11,IF(C6="LPG",'Wskaźniki emisji 2010r'!$D$14,IF(C6="energia elektryczna",'Wskaźniki emisji 2010r'!$D$15,IF(C6="benzyna",'Wskaźniki emisji 2010r'!$D$13,IF(C6="olej napędowy",'Wskaźniki emisji 2010r'!$D$12,IF(C6="gaz płynny",'Wskaźniki emisji 2010r'!$D$14))))))))) -> 0.33740088 | I6: =G6*H6 -> 3.8312824
A7: 4 | B7: PHP YABRA Sp. z o.o., REGON 002747772 | C7: olej opałowy | D7: 3.5 | E7: Mg | F7: =IF(C7="węgiel kamienny",'Wskaźniki emisji 2010r'!$B$8,IF(C7="gaz ziemny",'Wskaźniki emisji 2010r'!$B$9,IF(C7="olej opałowy",'Wskaźniki emisji 2010r'!$B$10,IF(C7="drewno opałowe",'Wskaźniki emisji 2010r'!$B$11,IF(C7="LPG",'Wskaźniki emisji 2010r'!$B$14,IF(C7="energia elektryczna",'Wskaźniki emisji 2010r'!$B$15,IF(C7="benzyna",'Wskaźniki emisji 2010r'!$B$13,IF(C7="olej napędowy",'Wskaźniki emisji 2010r'!$B$12,IF(C7="gaz płynny",'Wskaźniki emisji 2010r'!$B$14,))))))))) -> 11.13263 | G7: =D7*F7 -> 38.964205 | H7: =IF(C7="węgiel kamienny",'Wskaźniki emisji 2010r'!$D$8,IF(C7="gaz ziemny",'Wskaźniki emisji 2010r'!$D$9,IF(C7="olej opałowy",'Wskaźniki emisji 2010r'!$D$10,IF(C7="drewno opałowe",'Wskaźniki emisji 2010r'!$D$11,IF(C7="LPG",'Wskaźniki emisji 2010r'!$D$14,IF(C7="energia elektryczna",'Wskaźniki emisji 2010r'!$D$15,IF(C7="benzyna",'Wskaźniki emisji 2010r'!$D$13,IF(C7="olej napędowy",'Wskaźniki emisji 2010r'!$D$12,IF(C7="gaz płynny",'Wskaźniki emisji 2010r'!$D$14))))))))) -> 0.33740088 | I7: =G7*H7 -> 13.146557
C8: gaz ziemny | D8: =0.053*1000000*'Wskaźniki emisji 2010r'!B22/1000 -> 37.948 | E8: Mg | F8: =IF(C8="węgiel kamienny",'Wskaźniki emisji 2010r'!$B$8,IF(C8="gaz ziemny",'Wskaźniki emisji 2010r'!$B$9,IF(C8="olej opałowy",'Wskaźniki emisji 2010r'!$B$10,IF(C8="drewno opałowe",'Wskaźniki emisji 2010r'!$B$11,IF(C8="LPG",'Wskaźniki emisji 2010r'!$B$14,IF(C8="energia elektryczna",'Wskaźniki emisji 2010r'!$B$15,IF(C8="benzyna",'Wskaźniki emisji 2010r'!$B$13,IF(C8="olej napędowy",'Wskaźniki emisji 2010r'!$B$12,IF(C8="gaz płynny",'Wskaźniki emisji 2010r'!$B$14,))))))))) -> 13.296 | G8: =D8*F8 -> 504.55661 | H8: =IF(C8="węgiel kamienny",'Wskaźniki emisji 2010r'!$D$8,IF(C8="gaz ziemny",'Wskaźniki emisji 2010r'!$D$9,IF(C8="olej opałowy",'Wskaźniki emisji 2010r'!$D$10,IF(C8="drewno opałowe",'Wskaźniki emisji 2010r'!$D$11,IF(C8="LPG",'Wskaźniki emisji 2010r'!$D$14,IF(C8="energia elektryczna",'Wskaźniki emisji 2010r'!$D$15,IF(C8="benzyna",'Wskaźniki emisji 2010r'!$D$13,IF(C8="olej napędowy",'Wskaźniki emisji 2010r'!$D$12,IF(C8="gaz płynny",'Wskaźniki emisji 2010r'!$D$14))))))))) -> 0.24590308 | I8: =G8*H8 -> 124.07203
A9: 5 | B9: Z.P.H.U. "MET-GAL" S.C. JERZY BLACHNICKI,WIESŁAWA BLACHNICKA, REGON 002767585 | C9: węgiel kamienny | D9: 2 | E9: Mg | F9: =IF(C9="węgiel kamienny",'Wskaźniki emisji 2010r'!$B$8,IF(C9="gaz ziemny",'Wskaźniki emisji 2010r'!$B$9,IF(C9="olej opałowy",'Wskaźniki emisji 2010r'!$B$10,IF(C9="drewno opałowe",'Wskaźniki emisji 2010r'!$B$11,IF(C9="LPG",'Wskaźniki emisji 2010r'!$B$14,IF(C9="energia elektryczna",'Wskaźniki emisji 2010r'!$B$15,IF(C9="benzyna",'Wskaźniki emisji 2010r'!$B$13,IF(C9="olej napędowy",'Wskaźniki emisji 2010r'!$B$12,IF(C9="gaz płynny",'Wskaźniki emisji 2010r'!$B$14,))))))))) -> 6.96932 | G9: =D9*F9 -> 13.93864 | H9: =IF(C9="węgiel kamienny",'Wskaźniki emisji 2010r'!$D$8,IF(C9="gaz ziemny",'Wskaźniki emisji 2010r'!$D$9,IF(C9="olej opałowy",'Wskaźniki emisji 2010r'!$D$10,IF(C9="drewno opałowe",'Wskaźniki emisji 2010r'!$D$11,IF(C9="LPG",'Wskaźniki emisji 2010r'!$D$14,IF(C9="energia elektryczna",'Wskaźniki emisji 2010r'!$D$15,IF(C9="benzyna",'Wskaźniki emisji 2010r'!$D$13,IF(C9="olej napędowy",'Wskaźniki emisji 2010r'!$D$12,IF(C9="gaz płynny",'Wskaźniki emisji 2010r'!$D$14))))))))) -> 0.41431718 | I9: =G9*H9 -> 5.775018
A10: 6 | B10: ZPH"EMAR" Marchewka Emilian, REGON 150073669 | C10: gaz ziemny | D10: =0.001403*1000000*'Wskaźniki emisji 2010r'!B22/1000 -> 1.004548 | E10: Mg | F10: =IF(C10="węgiel kamienny",'Wskaźniki emisji 2010r'!$B$8,IF(C10="gaz ziemny",'Wskaźniki emisji 2010r'!$B$9,IF(C10="olej opałowy",'Wskaźniki emisji 2010r'!$B$10,IF(C10="drewno opałowe",'Wskaźniki emisji 2010r'!$B$11,IF(C10="LPG",'Wskaźniki emisji 2010r'!$B$14,IF(C10="energia elektryczna",'Wskaźniki emisji 2010r'!$B$15,IF(C10="benzyna",'Wskaźniki emisji 2010r'!$B$13,IF(C10="olej napędowy",'Wskaźniki emisji 2010r'!$B$12,IF(C10="gaz płynny",'Wskaźniki emisji 2010r'!$B$14,))))))))) -> 13.296 | G10: =D10*F10 -> 13.35647 | H10: =IF(C10="węgiel kamienny",'Wskaźniki emisji 2010r'!$D$8,IF(C10="gaz ziemny",'Wskaźniki emisji 2010r'!$D$9,IF(C10="olej opałowy",'Wskaźniki emisji 2010r'!$D$10,IF(C10="drewno opałowe",'Wskaźniki emisji 2010r'!$D$11,IF(C10="LPG",'Wskaźniki emisji 2010r'!$D$14,IF(C10="energia elektryczna",'Wskaźniki emisji 2010r'!$D$15,IF(C10="benzyna",'Wskaźniki emisji 2010r'!$D$13,IF(C10="olej napędowy",'Wskaźniki emisji 2010r'!$D$12,IF(C10="gaz płynny",'Wskaźniki emisji 2010r'!$D$14))))))))) -> 0.24590308 | I10: =G10*H10 -> 3.2843972
A11: 7 | B11: Przedsiębiorstwo Produkcyjno-Handlowo-Usługowe "HUR-POL" Huras Sebastian, REGON 15037272 | C11: węgiel kamienny | D11: 97.3 | E11: Mg | F11: =IF(C11="węgiel kamienny",'Wskaźniki emisji 2010r'!$B$8,IF(C11="gaz ziemny",'Wskaźniki emisji 2010r'!$B$9,IF(C11="olej opałowy",'Wskaźniki emisji 2010r'!$B$10,IF(C11="drewno opałowe",'Wskaźniki emisji 2010r'!$B$11,IF(C11="LPG",'Wskaźniki emisji 2010r'!$B$14,IF(C11="energia elektryczna",'Wskaźniki emisji 2010r'!$B$15,IF(C11="benzyna",'Wskaźniki emisji 2010r'!$B$13,IF(C11="olej napędowy",'Wskaźniki emisji 2010r'!$B$12,IF(C11="gaz płynny",'Wskaźniki emisji 2010r'!$B$14,))))))))) -> 6.96932 | G11: =D11*F11 -> 678.11484 | H11: =IF(C11="węgiel kamienny",'Wskaźniki emisji 2010r'!$D$8,IF(C11="gaz ziemny",'Wskaźniki emisji 2010r'!$D$9,IF(C11="olej opałowy",'Wskaźniki emisji 2010r'!$D$10,IF(C11="drewno opałowe",'Wskaźniki emisji 2010r'!$D$11,IF(C11="LPG",'Wskaźniki emisji 2010r'!$D$14,IF(C11="energia elektryczna",'Wskaźniki emisji 2010r'!$D$15,IF(C11="benzyna",'Wskaźniki emisji 2010r'!$D$13,IF(C11="olej napędowy",'Wskaźniki emisji 2010r'!$D$12,IF(C11="gaz płynny",'Wskaźniki emisji 2010r'!$D$14))))))))) -> 0.41431718 | I11: =G11*H11 -> 280.95463
C12: drewno opałowe | D12: 21 | E12: Mg | F12: =IF(C12="węgiel kamienny",'Wskaźniki emisji 2010r'!$B$8,IF(C12="gaz ziemny",'Wskaźniki emisji 2010r'!$B$9,IF(C12="olej opałowy",'Wskaźniki emisji 2010r'!$B$10,IF(C12="drewno opałowe",'Wskaźniki emisji 2010r'!$B$11,IF(C12="LPG",'Wskaźniki emisji 2010r'!$B$14,IF(C12="energia elektryczna",'Wskaźniki emisji 2010r'!$B$15,IF(C12="benzyna",'Wskaźniki emisji 2010r'!$B$13,IF(C12="olej napędowy",'Wskaźniki emisji 2010r'!$B$12,IF(C12="gaz płynny",'Wskaźniki emisji 2010r'!$B$14,))))))))) -> 4.3212 | G12: =D12*F12 -> 90.7452 | H12: =IF(C12="węgiel kamienny",'Wskaźniki emisji 2010r'!$D$8,IF(C12="gaz ziemny",'Wskaźniki emisji 2010r'!$D$9,IF(C12="olej opałowy",'Wskaźniki emisji 2010r'!$D$10,IF(C12="drewno opałowe",'Wskaźniki emisji 2010r'!$D$11,IF(C12="LPG",'Wskaźniki emisji 2010r'!$D$14,IF(C12="energia elektryczna",'Wskaźniki emisji 2010r'!$D$15,IF(C12="benzyna",'Wskaźniki emisji 2010r'!$D$13,IF(C12="olej napędowy",'Wskaźniki emisji 2010r'!$D$12,IF(C12="gaz płynny",'Wskaźniki emisji 2010r'!$D$14))))))))) -> 0 | I12: =G12*H12 -> 0
C13: olej opałowy | D13: 41.29 | E13: Mg | F13: =IF(C13="węgiel kamienny",'Wskaźniki emisji 2010r'!$B$8,IF(C13="gaz ziemny",'Wskaźniki emisji 2010r'!$B$9,IF(C13="olej opałowy",'Wskaźniki emisji 2010r'!$B$10,IF(C13="drewno opałowe",'Wskaźniki emisji 2010r'!$B$11,IF(C13="LPG",'Wskaźniki emisji 2010r'!$B$14,IF(C13="energia elektryczna",'Wskaźniki emisji 2010r'!$B$15,IF(C13="benzyna",'Wskaźniki emisji 2010r'!$B$13,IF(C13="olej napędowy",'Wskaźniki emisji 2010r'!$B$12,IF(C13="gaz płynny",'Wskaźniki emisji 2010r'!$B$14,))))))))) -> 11.13263 | G13: =D13*F13 -> 459.66629 | H13: =IF(C13="węgiel kamienny",'Wskaźniki emisji 2010r'!$D$8,IF(C13="gaz ziemny",'Wskaźniki emisji 2010r'!$D$9,IF(C13="olej opałowy",'Wskaźniki emisji 2010r'!$D$10,IF(C13="drewno opałowe",'Wskaźniki emisji 2010r'!$D$11,IF(C13="LPG",'Wskaźniki emisji 2010r'!$D$14,IF(C13="energia elektryczna",'Wskaźniki emisji 2010r'!$D$15,IF(C13="benzyna",'Wskaźniki emisji 2010r'!$D$13,IF(C13="olej napędowy",'Wskaźniki emisji 2010r'!$D$12,IF(C13="gaz płynny",'Wskaźniki emisji 2010r'!$D$14))))))))) -> 0.33740088 | I13: =G13*H13 -> 155.09181
A14: 8 | B14: H.Z. Transport Poland Sp. z o.o., REGON 150503377 | C14: gaz ziemny | D14: =0.00761*1000000*'Wskaźniki emisji 2010r'!B22/1000 -> 5.44876 | E14: Mg | F14: =IF(C14="węgiel kamienny",'Wskaźniki emisji 2010r'!$B$8,IF(C14="gaz ziemny",'Wskaźniki emisji 2010r'!$B$9,IF(C14="olej opałowy",'Wskaźniki emisji 2010r'!$B$10,IF(C14="drewno opałowe",'Wskaźniki emisji 2010r'!$B$11,IF(C14="LPG",'Wskaźniki emisji 2010r'!$B$14,IF(C14="energia elektryczna",'Wskaźniki emisji 2010r'!$B$15,IF(C14="benzyna",'Wskaźniki emisji 2010r'!$B$13,IF(C14="olej napędowy",'Wskaźniki emisji 2010r'!$B$12,IF(C14="gaz płynny",'Wskaźniki emisji 2010r'!$B$14,))))))))) -> 13.296 | G14: =D14*F14 -> 72.446713 | H14: =IF(C14="węgiel kamienny",'Wskaźniki emisji 2010r'!$D$8,IF(C14="gaz ziemny",'Wskaźniki emisji 2010r'!$D$9,IF(C14="olej opałowy",'Wskaźniki emisji 2010r'!$D$10,IF(C14="drewno opałowe",'Wskaźniki emisji 2010r'!$D$11,IF(C14="LPG",'Wskaźniki emisji 2010r'!$D$14,IF(C14="energia elektryczna",'Wskaźniki emisji 2010r'!$D$15,IF(C14="benzyna",'Wskaźniki emisji 2010r'!$D$13,IF(C14="olej napędowy",'Wskaźniki emisji 2010r'!$D$12,IF(C14="gaz płynny",'Wskaźniki emisji 2010r'!$D$14))))))))) -> 0.24590308 | I14: =G14*H14 -> 17.81487
A15: 9 | B15: NEDPOL TRUCK SERVICE SPÓŁKA Z OGRANICZONĄ ODPOWIEDZIALNOŚCIĄ, REGON 150552849 | C15: gaz ziemny | D15: =0.008994*1000000*'Wskaźniki emisji 2010r'!$B$22/1000 -> 6.439704 | E15: Mg | F15: =IF(C15="węgiel kamienny",'Wskaźniki emisji 2010r'!$B$8,IF(C15="gaz ziemny",'Wskaźniki emisji 2010r'!$B$9,IF(C15="olej opałowy",'Wskaźniki emisji 2010r'!$B$10,IF(C15="drewno opałowe",'Wskaźniki emisji 2010r'!$B$11,IF(C15="LPG",'Wskaźniki emisji 2010r'!$B$14,IF(C15="energia elektryczna",'Wskaźniki emisji 2010r'!$B$15,IF(C15="benzyna",'Wskaźniki emisji 2010r'!$B$13,IF(C15="olej napędowy",'Wskaźniki emisji 2010r'!$B$12,IF(C15="gaz płynny",'Wskaźniki emisji 2010r'!$B$14,))))))))) -> 13.296 | G15: =D15*F15 -> 85.622304 | H15: =IF(C15="węgiel kamienny",'Wskaźniki emisji 2010r'!$D$8,IF(C15="gaz ziemny",'Wskaźniki emisji 2010r'!$D$9,IF(C15="olej opałowy",'Wskaźniki emisji 2010r'!$D$10,IF(C15="drewno opałowe",'Wskaźniki emisji 2010r'!$D$11,IF(C15="LPG",'Wskaźniki emisji 2010r'!$D$14,IF(C15="energia elektryczna",'Wskaźniki emisji 2010r'!$D$15,IF(C15="benzyna",'Wskaźniki emisji 2010r'!$D$13,IF(C15="olej napędowy",'Wskaźniki emisji 2010r'!$D$12,IF(C15="gaz płynny",'Wskaźniki emisji 2010r'!$D$14))))))))) -> 0.24590308 | I15: =G15*H15 -> 21.054789
A16: 10 | B16: GEMMA, REGON 150594300 | C16: gaz ziemny | D16: =0.00328*1000000*'Wskaźniki emisji 2010r'!$B$22/1000 -> 2.34848 | E16: Mg | F16: =IF(C16="węgiel kamienny",'Wskaźniki emisji 2010r'!$B$8,IF(C16="gaz ziemny",'Wskaźniki emisji 2010r'!$B$9,IF(C16="olej opałowy",'Wskaźniki emisji 2010r'!$B$10,IF(C16="drewno opałowe",'Wskaźniki emisji 2010r'!$B$11,IF(C16="LPG",'Wskaźniki emisji 2010r'!$B$14,IF(C16="energia elektryczna",'Wskaźniki emisji 2010r'!$B$15,IF(C16="benzyna",'Wskaźniki emisji 2010r'!$B$13,IF(C16="olej napędowy",'Wskaźniki emisji 2010r'!$B$12,IF(C16="gaz płynny",'Wskaźniki emisji 2010r'!$B$14,))))))))) -> 13.296 | G16: =D16*F16 -> 31.22539 | H16: =IF(C16="węgiel kamienny",'Wskaźniki emisji 2010r'!$D$8,IF(C16="gaz ziemny",'Wskaźniki emisji 2010r'!$D$9,IF(C16="olej opałowy",'Wskaźniki emisji 2010r'!$D$10,IF(C16="drewno opałowe",'Wskaźniki emisji 2010r'!$D$11,IF(C16="LPG",'Wskaźniki emisji 2010r'!$D$14,IF(C16="energia elektryczna",'Wskaźniki emisji 2010r'!$D$15,IF(C16="benzyna",'Wskaźniki emisji 2010r'!$D$13,IF(C16="olej napędowy",'Wskaźniki emisji 2010r'!$D$12,IF(C16="gaz płynny",'Wskaźniki emisji 2010r'!$D$14))))))))) -> 0.24590308 | I16: =G16*H16 -> 7.6784197
A17: 11 | B17: PRZEDSIĘBIORSTWO WIELOBRANŻOWE KRZYSZTOF LEWICKI, REGON 150876894 | C17: gaz ziemny | D17: =0.000361*1000000*'Wskaźniki emisji 2010r'!$B$22/1000 -> 0.258476 | E17: Mg | F17: =IF(C17="węgiel kamienny",'Wskaźniki emisji 2010r'!$B$8,IF(C17="gaz ziemny",'Wskaźniki emisji 2010r'!$B$9,IF(C17="olej opałowy",'Wskaźniki emisji 2010r'!$B$10,IF(C17="drewno opałowe",'Wskaźniki emisji 2010r'!$B$11,IF(C17="LPG",'Wskaźniki emisji 2010r'!$B$14,IF(C17="energia elektryczna",'Wskaźniki emisji 2010r'!$B$15,IF(C17="benzyna",'Wskaźniki emisji 2010r'!$B$13,IF(C17="olej napędowy",'Wskaźniki emisji 2010r'!$B$12,IF(C17="gaz płynny",'Wskaźniki emisji 2010r'!$B$14,))))))))) -> 13.296 | G17: =D17*F17 -> 3.4366969 | H17: =IF(C17="węgiel kamienny",'Wskaźniki emisji 2010r'!$D$8,IF(C17="gaz ziemny",'Wskaźniki emisji 2010r'!$D$9,IF(C17="olej opałowy",'Wskaźniki emisji 2010r'!$D$10,IF(C17="drewno opałowe",'Wskaźniki emisji 2010r'!$D$11,IF(C17="LPG",'Wskaźniki emisji 2010r'!$D$14,IF(C17="energia elektryczna",'Wskaźniki emisji 2010r'!$D$15,IF(C17="benzyna",'Wskaźniki emisji 2010r'!$D$13,IF(C17="olej napędowy",'Wskaźniki emisji 2010r'!$D$12,IF(C17="gaz płynny",'Wskaźniki emisji 2010r'!$D$14))))))))) -> 0.24590308 | I17: =G17*H17 -> 0.84509436
A18: 12 | B18: DZIAŁALNOŚĆ GASTRONOMICZNA "RYBKA" MAREK STRZELECKI, REGON 150899145 | C18: gaz ziemny | D18: =0.002094*1000000*'Wskaźniki emisji 2010r'!$B$22/1000 -> 1.499304 | E18: Mg | F18: =IF(C18="węgiel kamienny",'Wskaźniki emisji 2010r'!$B$8,IF(C18="gaz ziemny",'Wskaźniki emisji 2010r'!$B$9,IF(C18="olej opałowy",'Wskaźniki emisji 2010r'!$B$10,IF(C18="drewno opałowe",'Wskaźniki emisji 2010r'!$B$11,IF(C18="LPG",'Wskaźniki emisji 2010r'!$B$14,IF(C18="energia elektryczna",'Wskaźniki emisji 2010r'!$B$15,IF(C18="benzyna",'Wskaźniki emisji 2010r'!$B$13,IF(C18="olej napędowy",'Wskaźniki emisji 2010r'!$B$12,IF(C18="gaz płynny",'Wskaźniki emisji 2010r'!$B$14,))))))))) -> 13.296 | G18: =D18*F18 -> 19.934746 | H18: =IF(C18="węgiel kamienny",'Wskaźniki emisji 2010r'!$D$8,IF(C18="gaz ziemny",'Wskaźniki emisji 2010r'!$D$9,IF(C18="olej opałowy",'Wskaźniki emisji 2010r'!$D$10,IF(C18="drewno opałowe",'Wskaźniki emisji 2010r'!$D$11,IF(C18="LPG",'Wskaźniki emisji 2010r'!$D$14,IF(C18="energia elektryczna",'Wskaźniki emisji 2010r'!$D$15,IF(C18="benzyna",'Wskaźniki emisji 2010r'!$D$13,IF(C18="olej napędowy",'Wskaźniki emisji 2010r'!$D$12,IF(C18="gaz płynny",'Wskaźniki emisji 2010r'!$D$14))))))))) -> 0.24590308 | I18: =G18*H18 -> 4.9020155
A19: 13 | B19: PRZEDSIĘBIORSTWO PRODUKCYJNO-HANDLOWE KAR-MAR ELŻBIETA KUŚMIEREK, REGON 15101211 | C19: węgiel kamienny | D19: 16.5 | E19: Mg | F19: =IF(C19="węgiel kamienny",'Wskaźniki emisji 2010r'!$B$8,IF(C19="gaz ziemny",'Wskaźniki emisji 2010r'!$B$9,IF(C19="olej opałowy",'Wskaźniki emisji 2010r'!$B$10,IF(C19="drewno opałowe",'Wskaźniki emisji 2010r'!$B$11,IF(C19="LPG",'Wskaźniki emisji 2010r'!$B$14,IF(C19="energia elektryczna",'Wskaźniki emisji 2010r'!$B$15,IF(C19="benzyna",'Wskaźniki emisji 2010r'!$B$13,IF(C19="olej napędowy",'Wskaźniki emisji 2010r'!$B$12,IF(C19="gaz płynny",'Wskaźniki emisji 2010r'!$B$14,))))))))) -> 6.96932 | G19: =D19*F19 -> 114.99378 | H19: =IF(C19="węgiel kamienny",'Wskaźniki emisji 2010r'!$D$8,IF(C19="gaz ziemny",'Wskaźniki emisji 2010r'!$D$9,IF(C19="olej opałowy",'Wskaźniki emisji 2010r'!$D$10,IF(C19="drewno opałowe",'Wskaźniki emisji 2010r'!$D$11,IF(C19="LPG",'Wskaźniki emisji 2010r'!$D$14,IF(C19="energia elektryczna",'Wskaźniki emisji 2010r'!$D$15,IF(C19="benzyna",'Wskaźniki emisji 2010r'!$D$13,IF(C19="olej napędowy",'Wskaźniki emisji 2010r'!$D$12,IF(C19="gaz płynny",'Wskaźniki emisji 2010r'!$D$14))))))))) -> 0.41431718 | I19: =G19*H19 -> 47.643899

Sheet Przedsiębiorcy 2015 r.
A1: Lp. | B1: Nazwa | C1: Rodzaj spalanego paliwa | D1: Zużycie paliwa | E1: Jednostka | F1: Wartość opałowa | G1: Zużycie energii | H1: Wskaźnik emisji | I1: Emisja CO2
F2: MWh/Mg | G2: MWh | H2: Mg/MWh | I2: Mg
A3: 1 | B3: ZPH"EMAR" Marchewka Emilian, REGON 150073669 | C3: gaz ziemny | D3: =0.000749*1000000*'Wskaźniki emisji 2015r'!B22/1000 -> 0.536284 | E3: Mg | F3: =IF(C3="węgiel kamienny",'Wskaźniki emisji 2015r'!$B$8,IF(C3="gaz ziemny",'Wskaźniki emisji 2015r'!$B$9,IF(C3="olej opałowy",'Wskaźniki emisji 2015r'!$B$10,IF(C3="drewno opałowe",'Wskaźniki emisji 2015r'!$B$11,IF(C3="LPG",'Wskaźniki emisji 2015r'!$B$14,IF(C3="energia elektryczna",'Wskaźniki emisji 2015r'!$B$15,IF(C3="benzyna",'Wskaźniki emisji 2015r'!$B$13,IF(C3="olej napędowy",'Wskaźniki emisji 2015r'!$B$12,IF(C3="gaz płynny",'Wskaźniki emisji 2015r'!$B$14,))))))))) -> 13.296 | G3: =D3*F3 -> 7.1304321 | H3: =IF(C3="węgiel kamienny",'Wskaźniki emisji 2015r'!$D$8,IF(C3="gaz ziemny",'Wskaźniki emisji 2015r'!$D$9,IF(C3="olej opałowy",'Wskaźniki emisji 2015r'!$D$10,IF(C3="drewno opałowe",'Wskaźniki emisji 2015r'!$D$11,IF(C3="LPG",'Wskaźniki emisji 2015r'!$D$14,IF(C3="energia elektryczna",'Wskaźniki emisji 2015r'!$D$15,IF(C3="benzyna",'Wskaźniki emisji 2015r'!$D$13,IF(C3="olej napędowy",'Wskaźniki emisji 2015r'!$D$12,IF(C3="gaz płynny",'Wskaźniki emisji 2015r'!$D$14))))))))) -> 0.20151625 | I3: =G3*H3 -> 1.4368979
A4: 2 | B4: Przedsiębiorstwo Produkcyjno-Handlowo-Usługowe "HUR-POL" Huras Sebastian, REGON 15037272 | C4: węgiel kamienny | D4: 104.5 | E4: Mg | F4: =IF(C4="węgiel kamienny",'Wskaźniki emisji 2015r'!$B$8,IF(C4="gaz ziemny",'Wskaźniki emisji 2015r'!$B$9,IF(C4="olej opałowy",'Wskaźniki emisji 2015r'!$B$10,IF(C4="drewno opałowe",'Wskaźniki emisji 2015r'!$B$11,IF(C4="LPG",'Wskaźniki emisji 2015r'!$B$14,IF(C4="energia elektryczna",'Wskaźniki emisji 2015r'!$B$15,IF(C4="benzyna",'Wskaźniki emisji 2015r'!$B$13,IF(C4="olej napędowy",'Wskaźniki emisji 2015r'!$B$12,IF(C4="gaz płynny",'Wskaźniki emisji 2015r'!$B$14,))))))))) -> 7.33773 | G4: =D4*F4 -> 766.79279 | H4: =IF(C4="węgiel kamienny",'Wskaźniki emisji 2015r'!$D$8,IF(C4="gaz ziemny",'Wskaźniki emisji 2015r'!$D$9,IF(C4="olej opałowy",'Wskaźniki emisji 2015r'!$D$10,IF(C4="drewno opałowe",'Wskaźniki emisji 2015r'!$D$11,IF(C4="LPG",'Wskaźniki emisji 2015r'!$D$14,IF(C4="energia elektryczna",'Wskaźniki emisji 2015r'!$D$15,IF(C4="benzyna",'Wskaźniki emisji 2015r'!$D$13,IF(C4="olej napędowy",'Wskaźniki emisji 2015r'!$D$12,IF(C4="gaz płynny",'Wskaźniki emisji 2015r'!$D$14))))))))) -> 0.33920578 | I4: =G4*H4 -> 260.10054
C5: drewno opałowe | D5: 161.325 | E5: Mg | F5: =IF(C5="węgiel kamienny",'Wskaźniki emisji 2015r'!$B$8,IF(C5="gaz ziemny",'Wskaźniki emisji 2015r'!$B$9,IF(C5="olej opałowy",'Wskaźniki emisji 2015r'!$B$10,IF(C5="drewno opałowe",'Wskaźniki emisji 2015r'!$B$11,IF(C5="LPG",'Wskaźniki emisji 2015r'!$B$14,IF(C5="energia elektryczna",'Wskaźniki emisji 2015r'!$B$15,IF(C5="benzyna",'Wskaźniki emisji 2015r'!$B$13,IF(C5="olej napędowy",'Wskaźniki emisji 2015r'!$B$12,IF(C5="gaz płynny",'Wskaźniki emisji 2015r'!$B$14,))))))))) -> 4.3212 | G5: =D5*F5 -> 697.11759 | H5: =IF(C5="węgiel kamienny",'Wskaźniki emisji 2015r'!$D$8,IF(C5="gaz ziemny",'Wskaźniki emisji 2015r'!$D$9,IF(C5="olej opałowy",'Wskaźniki emisji 2015r'!$D$10,IF(C5="drewno opałowe",'Wskaźniki emisji 2015r'!$D$11,IF(C5="LPG",'Wskaźniki emisji 2015r'!$D$14,IF(C5="energia elektryczna",'Wskaźniki emisji 2015r'!$D$15,IF(C5="benzyna",'Wskaźniki emisji 2015r'!$D$13,IF(C5="olej napędowy",'Wskaźniki emisji 2015r'!$D$12,IF(C5="gaz płynny",'Wskaźniki emisji 2015r'!$D$14))))))))) -> 0 | I5: =G5*H5 -> 0
C6: olej opałowy | D6: 89.74 | E6: Mg | F6: =IF(C6="węgiel kamienny",'Wskaźniki emisji 2015r'!$B$8,IF(C6="gaz ziemny",'Wskaźniki emisji 2015r'!$B$9,IF(C6="olej opałowy",'Wskaźniki emisji 2015r'!$B$10,IF(C6="drewno opałowe",'Wskaźniki emisji 2015r'!$B$11,IF(C6="LPG",'Wskaźniki emisji 2015r'!$B$14,IF(C6="energia elektryczna",'Wskaźniki emisji 2015r'!$B$15,IF(C6="benzyna",'Wskaźniki emisji 2015r'!$B$13,IF(C6="olej napędowy",'Wskaźniki emisji 2015r'!$B$12,IF(C6="gaz płynny",'Wskaźniki emisji 2015r'!$B$14,))))))))) -> 11.13263 | G6: =D6*F6 -> 999.04222 | H6: =IF(C6="węgiel kamienny",'Wskaźniki emisji 2015r'!$D$8,IF(C6="gaz ziemny",'Wskaźniki emisji 2015r'!$D$9,IF(C6="olej opałowy",'Wskaźniki emisji 2015r'!$D$10,IF(C6="drewno opałowe",'Wskaźniki emisji 2015r'!$D$11,IF(C6="LPG",'Wskaźniki emisji 2015r'!$D$14,IF(C6="energia elektryczna",'Wskaźniki emisji 2015r'!$D$15,IF(C6="benzyna",'Wskaźniki emisji 2015r'!$D$13,IF(C6="olej napędowy",'Wskaźniki emisji 2015r'!$D$12,IF(C6="gaz płynny",'Wskaźniki emisji 2015r'!$D$14))))))))) -> 0.27649819 | I6: =G6*H6 -> 276.23337
A7: 3 | B7: ='Przedsiębiorcy 2010 r.'!B5 -> Zakład Wielobranżowy "bonex" Miroslwa Nowowiejski, ul. Marii Konopnickiej 259, 42-260 Kamienica Polska | C7: węgiel kamienny | D7: 35 | E7: Mg | F7: =IF(C7="węgiel kamienny",'Wskaźniki emisji 2015r'!$B$8,IF(C7="gaz ziemny",'Wskaźniki emisji 2015r'!$B$9,IF(C7="olej opałowy",'Wskaźniki emisji 2015r'!$B$10,IF(C7="drewno opałowe",'Wskaźniki emisji 2015r'!$B$11,IF(C7="LPG",'Wskaźniki emisji 2015r'!$B$14,IF(C7="energia elektryczna",'Wskaźniki emisji 2015r'!$B$15,IF(C7="benzyna",'Wskaźniki emisji 2015r'!$B$13,IF(C7="olej napędowy",'Wskaźniki emisji 2015r'!$B$12,IF(C7="gaz płynny",'Wskaźniki emisji 2015r'!$B$14,))))))))) -> 7.33773 | G7: =D7*F7 -> 256.82055 | H7: =IF(C7="węgiel kamienny",'Wskaźniki emisji 2015r'!$D$8,IF(C7="gaz ziemny",'Wskaźniki emisji 2015r'!$D$9,IF(C7="olej opałowy",'Wskaźniki emisji 2015r'!$D$10,IF(C7="drewno opałowe",'Wskaźniki emisji 2015r'!$D$11,IF(C7="LPG",'Wskaźniki emisji 2015r'!$D$14,IF(C7="energia elektryczna",'Wskaźniki emisji 2015r'!$D$15,IF(C7="benzyna",'Wskaźniki emisji 2015r'!$D$13,IF(C7="olej napędowy",'Wskaźniki emisji 2015r'!$D$12,IF(C7="gaz płynny",'Wskaźniki emisji 2015r'!$D$14))))))))) -> 0.33920578 | I7: =G7*H7 -> 87.115014
A8: 4 | B8: OCHRONA ŚRODOWISKA SPÓŁKA Z OGRANICZONĄ ODPOWIEDZIALNOŚCIĄ, REGON 150514010 | C8: węgiel kamienny | D8: 4.5 | E8: Mg | F8: =IF(C8="węgiel kamienny",'Wskaźniki emisji 2015r'!$B$8,IF(C8="gaz ziemny",'Wskaźniki emisji 2015r'!$B$9,IF(C8="olej opałowy",'Wskaźniki emisji 2015r'!$B$10,IF(C8="drewno opałowe",'Wskaźniki emisji 2015r'!$B$11,IF(C8="LPG",'Wskaźniki emisji 2015r'!$B$14,IF(C8="energia elektryczna",'Wskaźniki emisji 2015r'!$B$15,IF(C8="benzyna",'Wskaźniki emisji 2015r'!$B$13,IF(C8="olej napędowy",'Wskaźniki emisji 2015r'!$B$12,IF(C8="gaz płynny",'Wskaźniki emisji 2015r'!$B$14,))))))))) -> 7.33773 | G8: =D8*F8 -> 33.019785 | H8: =IF(C8="węgiel kamienny",'Wskaźniki emisji 2015r'!$D$8,IF(C8="gaz ziemny",'Wskaźniki emisji 2015r'!$D$9,IF(C8="olej opałowy",'Wskaźniki emisji 2015r'!$D$10,IF(C8="drewno opałowe",'Wskaźniki emisji 2015r'!$D$11,IF(C8="LPG",'Wskaźniki emisji 2015r'!$D$14,IF(C8="energia elektryczna",'Wskaźniki emisji 2015r'!$D$15,IF(C8="benzyna",'Wskaźniki emisji 2015r'!$D$13,IF(C8="olej napędowy",'Wskaźniki emisji 2015r'!$D$12,IF(C8="gaz płynny",'Wskaźniki emisji 2015r'!$D$14))))))))) -> 0.33920578 | I8: =G8*H8 -> 11.200502
A9: 5 | B9: ='Przedsiębiorcy 2010 r.'!B3 -> Przychodnia lekarska w Kamienicy Polskiej | C9: gaz ziemny | D9: =10361*'Wskaźniki emisji 2015r'!B22/1000 -> 7.418476 | E9: Mg | F9: =IF(C9="węgiel kamienny",'Wskaźniki emisji 2015r'!$B$8,IF(C9="gaz ziemny",'Wskaźniki emisji 2015r'!$B$9,IF(C9="olej opałowy",'Wskaźniki emisji 2015r'!$B$10,IF(C9="drewno opałowe",'Wskaźniki emisji 2015r'!$B$11,IF(C9="LPG",'Wskaźniki emisji 2015r'!$B$14,IF(C9="energia elektryczna",'Wskaźniki emisji 2015r'!$B$15,IF(C9="benzyna",'Wskaźniki emisji 2015r'!$B$13,IF(C9="olej napędowy",'Wskaźniki emisji 2015r'!$B$12,IF(C9="gaz płynny",'Wskaźniki emisji 2015r'!$B$14,))))))))) -> 13.296 | G9: =D9*F9 -> 98.636057 | H9: =IF(C9="węgiel kamienny",'Wskaźniki emisji 2015r'!$D$8,IF(C9="gaz ziemny",'Wskaźniki emisji 2015r'!$D$9,IF(C9="olej opałowy",'Wskaźniki emisji 2015r'!$D$10,IF(C9="drewno opałowe",'Wskaźniki emisji 2015r'!$D$11,IF(C9="LPG",'Wskaźniki emisji 2015r'!$D$14,IF(C9="energia elektryczna",'Wskaźniki emisji 2015r'!$D$15,IF(C9="benzyna",'Wskaźniki emisji 2015r'!$D$13,IF(C9="olej napędowy",'Wskaźniki emisji 2015r'!$D$12,IF(C9="gaz płynny",'Wskaźniki emisji 2015r'!$D$14))))))))) -> 0.20151625 | I9: =G9*H9 -> 19.876768
A10: 6 | B10: EKOPOL Sp. z o.o., REGON 271243830 | C10: węgiel kamienny | D10: 28 | E10: Mg | F10: =IF(C10="węgiel kamienny",'Wskaźniki emisji 2015r'!$B$8,IF(C10="gaz ziemny",'Wskaźniki emisji 2015r'!$B$9,IF(C10="olej opałowy",'Wskaźniki emisji 2015r'!$B$10,IF(C10="drewno opałowe",'Wskaźniki emisji 2015r'!$B$11,IF(C10="LPG",'Wskaźniki emisji 2015r'!$B$14,IF(C10="energia elektryczna",'Wskaźniki emisji 2015r'!$B$15,IF(C10="benzyna",'Wskaźniki emisji 2015r'!$B$13,IF(C10="olej napędowy",'Wskaźniki emisji 2015r'!$B$12,IF(C10="gaz płynny",'Wskaźniki emisji 2015r'!$B$14,))))))))) -> 7.33773 | G10: =D10*F10 -> 205.45644 | H10: =IF(C10="węgiel kamienny",'Wskaźniki emisji 2015r'!$D$8,IF(C10="gaz ziemny",'Wskaźniki emisji 2015r'!$D$9,IF(C10="olej opałowy",'Wskaźniki emisji 2015r'!$D$10,IF(C10="drewno opałowe",'Wskaźniki emisji 2015r'!$D$11,IF(C10="LPG",'Wskaźniki emisji 2015r'!$D$14,IF(C10="energia elektryczna",'Wskaźniki emisji 2015r'!$D$15,IF(C10="benzyna",'Wskaźniki emisji 2015r'!$D$13,IF(C10="olej napędowy",'Wskaźniki emisji 2015r'!$D$12,IF(C10="gaz płynny",'Wskaźniki emisji 2015r'!$D$14))))))))) -> 0.33920578 | I10: =G10*H10 -> 69.692011

Sheet Podsumowanie- Przedsiębiorcy
A1: Bilans energetyczny w sektorze Przedsiębiorstw:
A2: Przedsiębiorcy | B2: 2010 rok | C2: Zużycie energii
C3: MWh
C4: Węgiel kamienny | D4: Gaz ziemny | E4: Olej opałowy | F4: Drewno opałowe | G4: Energia elektryczna | H4: SUMA
C5: =(SUMIF('Przedsiębiorcy 2010 r.'!$C$3:$C$19,"węgiel kamienny",'Przedsiębiorcy 2010 r.'!$G$3:$G$19))*470/13 -> 39004.604 | D5: =1000*(163.7+238.1+34.2)*'Wskaźniki emisji 2010r'!B22*'Wskaźniki emisji 2010r'!B9/1000 -> 4150.6921 | E5: =(SUMIF('Przedsiębiorcy 2010 r.'!$C$3:$C$19,"olej opałowy",'Przedsiębiorcy 2010 r.'!$G$3:$G$19))*470/13 -> 18437.947 | F5: =(SUMIF('Przedsiębiorcy 2010 r.'!$C$3:$C$19,"drewno opałowe",'Przedsiębiorcy 2010 r.'!$G$3:$G$19))*470/13 -> 3280.788 | G5: =471*1954.1/1000 -> 920.3811 | H5: =C5+D5+E5+G5+F5 -> 65794.412
B6: 2015 rok | C6: Zużycie energii
C7: MWh
C8: Węgiel kamienny | D8: Gaz ziemny | E8: Olej opałowy | F8: Drewno opałowe | G8: Energia elektryczna | H8: SUMA
C9: =C5*512/470 -> 42490.121 | D9: =1000*(204.7+217.7)*'Wskaźniki emisji 2015r'!B22*'Wskaźniki emisji 2015r'!B9/1000 -> 4021.221 | E9: =E5*512/470 -> 20085.594 | F9: =F5*512/470 -> 3573.9648 | G9: =512*1848.7/1000 -> 946.5344 | H9: =C9+D9+E9+G9+F9 -> 71117.435
B10: =B2 -> 2010 rok | C10: Emisja CO2
C11: Mg
C12: =C4 -> Węgiel kamienny | D12: =D4 -> Gaz ziemny | E12: =E4 -> Olej opałowy | F12: =F4 -> Drewno opałowe | G12: =G4 -> Energia elektryczna | H12: SUMA
C13: =C5*'Wskaźniki emisji 2010r'!D8 -> 16160.277 | D13: =D5*'Wskaźniki emisji 2010r'!D9 -> 1020.668 | E13: =E5*'Wskaźniki emisji 2010r'!D10 -> 6220.9797 | F13: =F5*'Wskaźniki emisji 2010r'!D11 -> 0 | G13: =G5*'Wskaźniki emisji 2010r'!D15 -> 747.34945 | H13: =SUM(C13:G13) -> 24149.275
B14: =B6 -> 2015 rok | C14: Emisja CO2 | K14: =60/#REF! -> #REF!
C15: Mg
C16: =C8 -> Węgiel kamienny | D16: =D8 -> Gaz ziemny | E16: =E8 -> Olej opałowy | F16: =F8 -> Drewno opałowe | G16: =G8 -> Energia elektryczna | H16: SUMA
C17: =C9*'Wskaźniki emisji 2015r'!D8 -> 14412.895 | D17: =D9*'Wskaźniki emisji 2015r'!D9 -> 810.34135 | E17: =E9*'Wskaźniki emisji 2015r'!D10 -> 5553.6304 | F17: 0 | G17: =G9*'Wskaźniki emisji 2015r'!D15 -> 768.58593 | H17: =SUM(C17:G17) -> 21545.452

Sheet Podsumowanie
A1: Bilans eneregtyczny Gminy:
A2: 2010 rok:
A3: Sektor | B3: Zużycie energii | C3: Emisja CO2
B4: MWh/rok | C4: Mg/rok | F4: 2010 | G4: 2015
A5: Obiekty publiczne | B5: ='Podsumowanie- Obiekty publiczne'!H5 -> 1325.9892 | C5: ='Podsumowanie- Obiekty publiczne'!H13 -> 426.23682 | D5: =C5/$C$10 -> 0.006810625 | E5: =A5 -> Obiekty publiczne | F5: =B5 -> 1325.9892 | G5: =B14 -> 1151.2604
A6: Obiekty mieszkalne | B6: ='Podsumowanie- Obiekty prywatne'!H5 -> 78785.984 | C6: ='Podsumowanie- Obiekty prywatne'!H13 -> 31634.41 | D6: =C6/$C$10 -> 0.50547042 | E6: =A6 -> Obiekty mieszkalne | F6: =B6 -> 78785.984 | G6: =B15 -> 81493.653
A7: Transport | B7: ='Prognoza transport suma'!B4 -> 19879.013 | C7: ='Transport- rok bazowy '!F62 -> 6146.4325 | D7: =C7/$C$10 -> 0.09821077 | E7: =A7 -> Transport | F7: =B7 -> 19879.013 | G7: =B16 -> 20351.977
A8: Oświetlenie | B8: ='Owietlenie uliczne'!G10 -> 280.4728 | C8: ='Owietlenie uliczne'!H10 -> 227.74391 | D8: =C8/$C$10 -> 0.0036390061 | E8: =A8 -> Oświetlenie | F8: =B8 -> 280.4728 | G8: =B17 -> 280.4728
A9: Usługi, handel, przemysł | B9: ='Podsumowanie- Przedsiębiorcy'!H5 -> 65794.412 | C9: ='Podsumowanie- Przedsiębiorcy'!H13 -> 24149.275 | D9: =C9/$C$10 -> 0.38586918 | E9: =A9 -> Usługi, handel, przemysł | F9: =B9 -> 65794.412 | G9: =B18 -> 71117.435
A10: Suma | B10: =SUM(B5:B9) -> 166065.87 | C10: =SUM(C5:C9) -> 62584.098 | D10: =C10/$C$10 -> 1 | F10: 2010 | G10: 2015
A11: 2015 rok: | E11: =A5 -> Obiekty publiczne | F11: =C5 -> 426.23682 | G11: =C14 -> 332.26537
A12: Sektor | B12: Zużycie energii | C12: Emisja CO2 | E12: =A6 -> Obiekty mieszkalne | F12: =C6 -> 31634.41 | G12: =C15 -> 27672.802
B13: MWh/rok | C13: Mg/rok | E13: =A7 -> Transport | F13: =C7 -> 6146.4325 | G13: =C16 -> 5144.2601
A14: Obiekty publiczne | B14: ='Podsumowanie- Obiekty publiczne'!H9 -> 1151.2604 | C14: ='Podsumowanie- Obiekty publiczne'!H17 -> 332.26537 | E14: =A8 -> Oświetlenie | F14: =C8 -> 227.74391 | G14: =C17 -> 227.74391
A15: Obiekty mieszkalne | B15: ='Podsumowanie- Obiekty prywatne'!H9 -> 81493.653 | C15: ='Podsumowanie- Obiekty prywatne'!H17 -> 27672.802 | E15: =A9 -> Usługi, handel, przemysł | F15: =C9 -> 24149.275 | G15: =C18 -> 21545.452
A16: Transport | B16: ='Prognoza transport suma'!C4 -> 20351.977 | C16: ='Transport- rok kontrolny'!F62 -> 5144.2601
A17: Oświetlenie | B17: ='Owietlenie uliczne'!G10 -> 280.4728 | C17: ='Owietlenie uliczne'!H10 -> 227.74391
A18: Usługi, handel, przemysł | B18: ='Podsumowanie- Przedsiębiorcy'!H9 -> 71117.435 | C18: ='Podsumowanie- Przedsiębiorcy'!H17 -> 21545.452
A19: Suma | B19: =SUM(B14:B18) -> 174394.8 | C19: =SUM(C14:C18) -> 54922.524
A51: =A2 -> 2010 rok:
A52: Rodzaj paliwa | B52: Zużycie energii | C52: Emisja CO2
B53: MWh/rok | C53: Mg/rok | F53: 2010 | G53: =2015 -> 2015
A54: Węgiel kamienny | B54: ='Podsumowanie- Obiekty publiczne'!C5+'Podsumowanie- Obiekty prywatne'!C5+'Podsumowanie- Przedsiębiorcy'!C5 -> 100992.63 | C54: =B54*'Wskaźniki emisji 2010r'!D8 -> 41842.983 | D54: =C54/$C$62 -> 0.66858809 | E54: =A54 -> Węgiel kamienny | F54: =B54 -> 100992.63 | G54: =B66 -> 106935.82
A55: Gaz ziemny | B55: ='Podsumowanie- Przedsiębiorcy'!D5+'Podsumowanie- Obiekty prywatne'!D5+'Podsumowanie- Obiekty publiczne'!D5 -> 11614.303 | C55: =B55*'Wskaźniki emisji 2010r'!D9 -> 2855.9929 | D55: =C55/$C$62 -> 0.045634482 | E55: =A55 -> Gaz ziemny | F55: =B55 -> 11614.303 | G55: =B67 -> 11157.165
A56: Olej opałowy | B56: ='Podsumowanie- Przedsiębiorcy'!E5+'Podsumowanie- Obiekty prywatne'!E5+'Podsumowanie- Obiekty publiczne'!E5 -> 18437.947 | C56: =B56*'Wskaźniki emisji 2010r'!D10 -> 6220.9797 | D56: =C56/$C$62 -> 0.099401923 | E56: =A56 -> Olej opałowy | F56: =B56 -> 18437.947 | G56: =B68 -> 20085.594
A57: Drewno opałowe | B57: ='Podsumowanie- Przedsiębiorcy'!F5+'Podsumowanie- Obiekty prywatne'!F5+'Podsumowanie- Obiekty publiczne'!F5 -> 8346.766 | C57: =B57*'Wskaźniki emisji 2010r'!D11 -> 0 | D57: =C57/$C$62 -> 0 | E57: =A57 -> Drewno opałowe | F57: =B57 -> 8346.766 | G57: =B69 -> 8840.7965
A58: Energia elektryczna | B58: ='Podsumowanie- Przedsiębiorcy'!G5+'Podsumowanie- Obiekty prywatne'!G5+'Owietlenie uliczne'!G10+'Podsumowanie- Obiekty publiczne'!G5 -> 6795.2097 | C58: =B58*'Wskaźniki emisji 2010r'!D15 -> 5517.7103 | D58: =C58/$C$62 -> 0.088164734 | E58: =A58 -> Energia elektryczna | F58: =B58 -> 6795.2097 | G58: =B70 -> 7023.441
A59: LPG | B59: ='Transport- rok bazowy '!H56 -> 1745.9549 | C59: ='Transport- rok bazowy '!H60 -> 480.25296 | D59: =C59/$C$62 -> 0.0076737218 | E59: =A59 -> LPG | F59: =B59 -> 1745.9549 | G59: =B71 -> 1925.1925
A60: Olej napędowy | B60: ='Transport- rok bazowy '!H55 -> 8922.3735 | C60: ='Transport- rok bazowy '!H59 -> 2882.2804 | D60: =C60/$C$62 -> 0.046054517 | E60: =A60 -> Olej napędowy | F60: =B60 -> 8922.3735 | G60: =B72 -> 8578.2501
A61: Benzyna | B61: ='Transport- rok bazowy '!H54 -> 9210.685 | C61: ='Transport- rok bazowy '!H58 -> 2783.8991 | D61: =C61/$C$62 -> 0.044482532 | E61: =A61 -> Benzyna | F61: =B61 -> 9210.685 | G61: =B73 -> 9848.5344
A62: Suma | B62: =SUM(B54:B61) -> 166065.87 | C62: =SUM(C54:C61) -> 62584.098 | D62: =C62/$C$62 -> 1
A63: =A11 -> 2015 rok:
A64: Rodzaj paliwa | B64: Zużycie energii | C64: Emisja CO2
B65: MWh/rok | C65: Mg/rok | F65: =F53 -> 2010 | G65: =G53 -> 2015
A66: Węgiel kamienny | B66: ='Podsumowanie- Przedsiębiorcy'!C9+'Podsumowanie- Obiekty prywatne'!C9+'Podsumowanie- Obiekty publiczne'!C9 -> 106935.82 | C66: =B66*'Wskaźniki emisji 2015r'!D8 -> 36273.249 | D66: =B66/$B$74 -> 0.61318242 | E66: =E54 -> Węgiel kamienny | F66: =C54 -> 41842.983 | G66: =C66 -> 36273.249
A67: Gaz ziemny | B67: ='Podsumowanie- Przedsiębiorcy'!D9+'Podsumowanie- Obiekty prywatne'!D9+'Podsumowanie- Obiekty publiczne'!D9 -> 11157.165 | C67: =B67*'Wskaźniki emisji 2015r'!D9 -> 2248.35 | D67: =B67/$B$74 -> 0.063976479 | E67: =E55 -> Gaz ziemny | F67: =C55 -> 2855.9929 | G67: =C67 -> 2248.35
A68: Olej opałowy | B68: ='Podsumowanie- Przedsiębiorcy'!E9+'Podsumowanie- Obiekty prywatne'!E9+'Podsumowanie- Obiekty publiczne'!E9 -> 20085.594 | C68: =B68*'Wskaźniki emisji 2015r'!D10 -> 5553.6304 | D68: =B68/$B$74 -> 0.11517312 | E68: =E56 -> Olej opałowy | F68: =C56 -> 6220.9797 | G68: =C68 -> 5553.6304
A69: =A57 -> Drewno opałowe | B69: ='Podsumowanie- Przedsiębiorcy'!F9+'Podsumowanie- Obiekty prywatne'!F9+'Podsumowanie- Obiekty publiczne'!F9 -> 8840.7965 | C69: =B69*'Wskaźniki emisji 2015r'!D11 -> 0 | D69: =B69/$B$74 -> 0.050694153 | E69: =E57 -> Drewno opałowe | F69: =C57 -> 0 | G69: =C69 -> 0
A70: Energia elektryczna | B70: ='Podsumowanie- Przedsiębiorcy'!G9+'Podsumowanie- Obiekty prywatne'!G9+'Owietlenie uliczne'!G10+'Podsumowanie- Obiekty publiczne'!G9 -> 7023.441 | C70: =B70*'Wskaźniki emisji 2015r'!D15 -> 5703.0341 | D70: =B70/$B$74 -> 0.040273225 | E70: =E58 -> Energia elektryczna | F70: =C58 -> 5517.7103 | G70: =C70 -> 5703.0341
A71: LPG | B71: ='Transport- rok kontrolny'!H56 -> 1925.1925 | C71: =B71*'Wskaźniki emisji 2015r'!D14 -> 433.96758 | D71: =B71/$B$74 -> 0.011039277 | E71: =E59 -> LPG | F71: =C59 -> 480.25296 | G71: =C71 -> 433.96758
A72: Olej napędowy | B72: ='Transport- rok kontrolny'!H55 -> 8578.2501 | C72: =B72*'Wskaźniki emisji 2015r'!D12 -> 2270.9136 | D72: =B72/$B$74 -> 0.049188681 | E72: =E60 -> Olej napędowy | F72: =C60 -> 2882.2804 | G72: =C72 -> 2270.9136
A73: Benzyna | B73: ='Transport- rok kontrolny'!H54 -> 9848.5344 | C73: =B73*'Wskaźniki emisji 2015r'!D13 -> 2439.3789 | D73: =B73/$B$74 -> 0.056472639 | E73: =E61 -> Benzyna | F73: =C61 -> 2783.8991 | G73: =C73 -> 2439.3789
A74: Suma | B74: =SUM(B66:B73) -> 174394.8 | C74: =SUM(C66:C73) -> 54922.524 | D74: =B74/$B$74 -> 1

Sheet PLAN DZIAŁAŃ
A1: Sektor | B1: Nazwa zadania | C1: Podmiot odpowiedzialny | D1: Termin realizacji zadania | E1: Roczne oszczędności energii | F1: Roczna redukcja emisji CO2 | G1: Szacowane koszty | H1: Redukcja emisji PM10 | I1: Redukcja emisji PM2,5 | J1: Redukcja emisji SO x | K1: Redukcja emisji NO x | L1: Redukcja emisji b(a)p | M1: Uzasadnienie metodologii w obliczeniach
E2: [MWh/rok] | F2: MgCO2/rok] | G2: [zł] | H2: [Mg/rok] | I2: [Mg/rok] | J2: [Mg/rok] | K2: [Mg/rok] | L2: [Mg/rok]
A3: Obiekty publiczne | B3: Zarzadzanie efektywnością energetyczną: • zarządzanie energią w obiektach użyteczności publicznej, • promowanie energetyki odnawialnej w ramach kampanii marketingowej dla mieszkańców/ broszura informacyjno- promująca OZE i ograniczanie zużycia energii oraz podnoszenie świadomości mieszkańców Gminy w zakresie działań redukujących przekroczenia pyłu PM10 oraz b(a)p • uwzględnianie kryteriów efektywności energetycznej w definiowaniu wymagań dotyczących zakupu produktów i usług, • wspieranie produktów i usług efektywnych energetycznie • promowanie energetyki odnawialnej w ramach kampanii marketingowej dla mieszkańców/ broszura informacyjno- promująca OZE i ograniczanie zużycia energii | C3: Urząd Gminy | D3: 2016-2020 | E3: =0.01*Podsumowanie!B5 -> 13.259892 | F3: =Podsumowanie!C5*0.01 -> 4.2623682 | G3: 0 | H3: =($E$3/Podsumowanie!$B$5)*'Prognoza emisji innych gazów'!C4 -> 1.7766314e-05 | I3: =($E$3/Podsumowanie!$B$5)*'Prognoza emisji innych gazów'!C15 -> 1.7766314e-05 | J3: =($E$3/Podsumowanie!$B$5)*'Prognoza emisji innych gazów'!C26 -> 1.7766314e-05 | K3: =($E$3/Podsumowanie!$B$5)*'Prognoza emisji innych gazów'!C37 -> 0.0017766314 | L3: =($E$3/Podsumowanie!$B$5)*'Prognoza emisji innych gazów'!C48 -> 0 | M3: Zakłada się, że w wyniku planowanego zadania nastąpi redukcja rzędu 1% w zakresie zużycia energii finalnej oraz emisji pyłów i gazów w sektorze obiektów użyteczności publicznej
B4: Działania nieinwestycyjnie związane z realizacją zasady zielonych zamówień publicznych, tj. wskazanie aspektu oszczędności energii i redukcji emisji CO2 przy określaniu SIWZ i Programów Funkcjonalno- użytkowych, usprawnienia dla instalacji OZE ujęte w Planie ZagospodarowaniaPrzestrzennego | C4: =C3 -> Urząd Gminy | D4: =D3 -> 2016-2020 | E4: 0 | F4: 0 | G4: 0 | H4: 0 | I4: 0 | J4: 0 | K4: 0 | L4: 0 | M4: Brak miernika matematycznego umożliwiającego określenie redukcji dla planowanego zadania w ujęciu globalnym na terenie całej Gminy
B5: Termomodernizacja budynku Gminnego Ośrodka Kultury, Sportu i Rekreacji w Kamienicy Polskiej | C5: =C4 -> Urząd Gminy | D5: 2017-2020 | E5: =0.3*'Obiekty publiczne 2015r'!J3 -> 16.341922 | F5: =0.3*'Obiekty publiczne 2010r'!L3 -> 6.7048055 | G5: 250000 | H5: =E5*'Emisja pozostałych pyłów,gazów'!$E$4*3.6/1000000 -> 2.941546e-05 | I5: =E5*3.6*0.001*0.001*'Emisja pozostałych pyłów,gazów'!$E$5 -> 2.941546e-05 | J5: =E5*3.6*0.001*0.001*'Emisja pozostałych pyłów,gazów'!$E$7 -> 2.941546e-05 | K5: =E5*3.6*0.001*0.001*'Emisja pozostałych pyłów,gazów'!$E$8 -> 0.002941546 | L5: =E5*3.6*0.001*0.001*0.001*'Emisja pozostałych pyłów,gazów'!$E$6 -> 0 | M5: Zakłada się, że w wyniku planowanego zadania nastąpi redukcja rzędu 30% w zakresie zużycia energii finalnej oraz emisji pyłów i gazów w sektorze obiektów użyteczności publicznej
B6: Termomodernizacja budynku Urzędu Gminy i Ośrodka Zdrowia w Kamienicy Polskiej | C6: =C5 -> Urząd Gminy | D6: 2017-2020 | E6: =0.3*'Przedsiębiorcy 2015 r.'!G9+0.3*'Obiekty publiczne 2015r'!J5 -> 78.373825 | F6: =0.3*'Obiekty publiczne 2015r'!L5+0.3*'Przedsiębiorcy 2015 r.'!I9 -> 15.793599 | G6: 800000 | H6: =E6*'Emisja pozostałych pyłów,gazów'!$E$4*3.6/1000000 -> 0.00014107289 | I6: =E6*3.6*0.001*0.001*'Emisja pozostałych pyłów,gazów'!$E$5 -> 0.00014107289 | J6: =E6*3.6*0.001*0.001*'Emisja pozostałych pyłów,gazów'!$E$7 -> 0.00014107289 | K6: =E6*3.6*0.001*0.001*'Emisja pozostałych pyłów,gazów'!$E$8 -> 0.014107289 | L6: =E6*3.6*0.001*0.001*0.001*'Emisja pozostałych pyłów,gazów'!$E$6 -> 0 | M6: Zakłada się, że w wyniku planowanego zadania nastąpi redukcja rzędu 30% w zakresie zużycia energii finalnej oraz emisji pyłów i gazów w sektorze obiektów użyteczności publicznej
B7: Termomodernizacja budynku Przedszkola w Kamienicy Polskiej | C7: =C6 -> Urząd Gminy | D7: 2017-2020 | E7: =0.3*'Obiekty publiczne 2015r'!J10 -> 5.1407654 | F7: =0.3*'Obiekty publiczne 2015r'!L10 -> 1.0359478 | G7: 800000 | H7: =E7*'Emisja pozostałych pyłów,gazów'!$E$4*3.6/1000000 -> 9.2533778e-06 | I7: =E7*3.6*0.001*0.001*'Emisja pozostałych pyłów,gazów'!$E$5 -> 9.2533778e-06 | J7: =E7*3.6*0.001*0.001*'Emisja pozostałych pyłów,gazów'!$E$7 -> 9.2533778e-06 | K7: =E7*3.6*0.001*0.001*'Emisja pozostałych pyłów,gazów'!$E$8 -> 0.00092533778 | L7: =E7*3.6*0.001*0.001*0.001*'Emisja pozostałych pyłów,gazów'!$E$6 -> 0 | M7: Zakłada się, że w wyniku planowanego zadania nastąpi redukcja rzędu 30% w zakresie zużycia energii finalnej oraz emisji pyłów i gazów w sektorze obiektów użyteczności publicznej
B8: Termomodernizacja budynku Zespołu Szkół w Kamienicy Polskiej | C8: =C7 -> Urząd Gminy | D8: 2017-2020 | E8: =0.3*'Obiekty publiczne 2015r'!J8 -> 134.59666 | F8: =0.3*'Obiekty publiczne 2015r'!L8 -> 27.123414 | G8: 400000 | H8: =E8*'Emisja pozostałych pyłów,gazów'!$E$4*3.6/1000000 -> 0.00024227399 | I8: =E8*3.6*0.001*0.001*'Emisja pozostałych pyłów,gazów'!$E$5 -> 0.00024227399 | J8: =E8*3.6*0.001*0.001*'Emisja pozostałych pyłów,gazów'!$E$7 -> 0.00024227399 | K8: =E8*3.6*0.001*0.001*'Emisja pozostałych pyłów,gazów'!$E$8 -> 0.024227399 | L8: =E8*3.6*0.001*0.001*0.001*'Emisja pozostałych pyłów,gazów'!$E$6 -> 0 | M8: Zakłada się, że w wyniku planowanego zadania nastąpi redukcja rzędu 30% w zakresie zużycia energii finalnej oraz emisji pyłów i gazów w sektorze obiektów użyteczności publicznej
A9: Oświetlenie | B9: Wymiana lamp sodowych na ledowe oświetlenia drogowego na terenie Gminy Kamienica Polska | C9: =C8 -> Urząd Gminy | D9: 2017-2021 | E9: =0.45*'Owietlenie uliczne'!G9 -> 126.21276 | F9: =0.45*'Owietlenie uliczne'!H9 -> 102.48476 | G9: 2000000 | H9: 0 | I9: 0 | J9: 0 | K9: 0 | L9: 0 | M9: Zakłada się, że w wyniku planowanego zadania nastąpi redukcja rzędu 45% w zakresie zużycia energii finalnej oraz emisji pyłów i gazów w sektorze oświetlenia
A10: Transport lokalny | B10: Modernizacja dórg gminnych | C10: =C4 -> Urząd Gminy | D10: =D4 -> 2016-2020 | E10: =0.05*Podsumowanie!B7 -> 993.95067 | F10: =0.05*Podsumowanie!C7 -> 307.32162 | G10: 800000 | H10: =($E$10/'Prognozy podsumowanie'!$C$6)*'Prognoza emisji innych gazów'!C6 -> 0.0090665257 | I10: =($E$10/'Prognozy podsumowanie'!$C$6)*'Prognoza emisji innych gazów'!C17 -> 0.0090665257 | J10: =($E$10/'Prognozy podsumowanie'!$C$6)*'Prognoza emisji innych gazów'!C28 -> 0.00032397409 | K10: =($E$10/'Prognozy podsumowanie'!$C$6)*'Prognoza emisji innych gazów'!C39 -> 0.13093253 | L10: =($E$10/'Prognozy podsumowanie'!$C$6)*'Prognoza emisji innych gazów'!C50 -> 0.00046646338 | M10: Zakłada się, że w wyniku planowanego zadania nastąpi redukcja rzędu 5% w zakresie zużycia energii finalnej oraz emisji pyłów i gazów w sektorze transportu
A11: Obiekty prywatne | B11: Zakup i montaż kolektorów słonecznych przez mieszkańców | C11: =C14 -> Inwestorzy prywatni | D11: =D4 -> 2016-2020 | E11: =('Podsumowanie- Obiekty prywatne'!H9-'Podsumowanie- Obiekty prywatne'!G9)*6/79 -> 5761.63 | F11: =('Podsumowanie- Obiekty prywatne'!H17-'Podsumowanie- Obiekty prywatne'!G17)*9/102 -> 2038.188 | G11: środki prywatne | H11: =($E$11/('Podsumowanie- Obiekty prywatne'!$H$9-'Podsumowanie- Obiekty prywatne'!$G$9))*'Prognoza emisji innych gazów'!C5 -> 4.6566967 | I11: =($E$11/('Podsumowanie- Obiekty prywatne'!$H$9-'Podsumowanie- Obiekty prywatne'!$G$9))*'Prognoza emisji innych gazów'!C16 -> 4.2194019 | J11: =($E$11/('Podsumowanie- Obiekty prywatne'!$H$9-'Podsumowanie- Obiekty prywatne'!$G$9))*'Prognoza emisji innych gazów'!C27 -> 15.875219 | K11: =($E$11/('Podsumowanie- Obiekty prywatne'!$H$9-'Podsumowanie- Obiekty prywatne'!$G$9))*'Prognoza emisji innych gazów'!C38 -> 2.9833193 | L11: =($E$11/('Podsumowanie- Obiekty prywatne'!$H$9-'Podsumowanie- Obiekty prywatne'!$G$9))*'Prognoza emisji innych gazów'!C49 -> 0.17900302 | M11: Zakłada się, że w wyniku planowanego zadania nastąpiwzrost zużycia energii z OZE w wys. co najmniej 7,5% na podstawie ankiet ( 6 osób na 79 wskazywało chęć montażu kolektorów slonecznych do 2020r.)
B12: Zakup i montaż instalacji fotowoltaicznych przez mieszkańców | C12: =C15 -> Inwestorzy prywatni | D12: =D11 -> 2016-2020 | E12: =('Podsumowanie- Obiekty prywatne'!G9)*3/79 -> 213.88066 | F12: =E12*'Wskaźniki emisji 2015r'!D15 -> 173.6711 | G12: środki prywatne | H12: =($E$12/'Podsumowanie- Obiekty prywatne'!$G$9)*0 -> 0 | I12: =($E$12/'Podsumowanie- Obiekty prywatne'!$G$9)*0 -> 0 | J12: =($E$12/'Podsumowanie- Obiekty prywatne'!$G$9)*0 -> 0 | K12: =($E$12/'Podsumowanie- Obiekty prywatne'!$G$9)*0 -> 0 | L12: =($E$12/'Podsumowanie- Obiekty prywatne'!$G$9)*0 -> 0 | M12: Zakłada się, że w wyniku planowanego zadania nastąpiwzrost zużycia energii z OZE w wys. co najmniej 3,79% na podstawie ankiet ( 3 osób na 79 wskazywało chęć montażu PV do 2020r.)
B13: Zakup i montaż instalacji pomp ciepła przez mieszkańców | C13: =C16 -> Inwestorzy prywatni | D13: =D12 -> 2016-2020 | E13: =(E11*102/9)*1/79 -> 826.56296 | F13: =(F11*102/9)*2/102 -> 452.93066 | G13: środki prywatne | H13: =($E$13/('Podsumowanie- Obiekty prywatne'!$H$9-'Podsumowanie- Obiekty prywatne'!$G$9))*'Prognoza emisji innych gazów'!$C$5 -> 0.66804932 | I13: =($E$13/('Podsumowanie- Obiekty prywatne'!$H$9-'Podsumowanie- Obiekty prywatne'!$G$9))*'Prognoza emisji innych gazów'!$C$16 -> 0.60531504 | J13: =($E$13/('Podsumowanie- Obiekty prywatne'!$H$9-'Podsumowanie- Obiekty prywatne'!$G$9))*'Prognoza emisji innych gazów'!$C$27 -> 2.2774575 | K13: =($E$13/('Podsumowanie- Obiekty prywatne'!$H$9-'Podsumowanie- Obiekty prywatne'!$G$9))*'Prognoza emisji innych gazów'!$C$38 -> 0.42798673 | L13: =($E$13/('Podsumowanie- Obiekty prywatne'!$H$9-'Podsumowanie- Obiekty prywatne'!$G$9))*'Prognoza emisji innych gazów'!$C$49 -> 0.025679758 | M13: Zakłada się, że w wyniku planowanego zadania nastąpiwzrost zużycia energii z OZE w wys. co najmniej 1,26% na podstawie ankiet ( 1 osoba na 79 wskazywało chęć montażu pompy ciepła do 2020r.)
B14: Działania termomodernizacje wraz z modernizacją kotłowni prywatnych | C14: Inwestorzy prywatni | D14: =D13 -> 2016-2020 | E14: =(24/79)*('Podsumowanie- Obiekty prywatne'!H9-'Podsumowanie- Obiekty prywatne'!G9) -> 23046.52 | F14: =('Podsumowanie- Obiekty prywatne'!H17-'Podsumowanie- Obiekty prywatne'!G17)*28/102 -> 6341.0292 | G14: środki prywatne | H14: =($E$14/('Podsumowanie- Obiekty prywatne'!$H$9-'Podsumowanie- Obiekty prywatne'!$G$9))*'Prognoza emisji innych gazów'!$C$5 -> 18.626787 | I14: =(E14/('Podsumowanie- Obiekty prywatne'!$H$9-'Podsumowanie- Obiekty prywatne'!$G$9))*'Prognoza emisji innych gazów'!$C$16 -> 16.877608 | J14: =(E14/('Podsumowanie- Obiekty prywatne'!$H$9-'Podsumowanie- Obiekty prywatne'!$G$9))*'Prognoza emisji innych gazów'!$C$27 -> 63.500875 | K14: =(E14/('Podsumowanie- Obiekty prywatne'!$H$9-'Podsumowanie- Obiekty prywatne'!$G$9))*'Prognoza emisji innych gazów'!$C$38 -> 11.933277 | L14: =(E14/('Podsumowanie- Obiekty prywatne'!$H$9-'Podsumowanie- Obiekty prywatne'!$G$9))*'Prognoza emisji innych gazów'!$C$49 -> 0.71601209 | M14: Zakłada się, że w wyniku planowanego zadania nastąpi redukcja rzędu 30,37% w zakresie zużycia energii finalnej oraz emisji pyłów i gazów w sektorze mieszkalnictwa ( 24 na 79 osób wskazywała chęć podjęcia zadania do końca roku 2020r.)
A15: Handel, usługi i przemysł | B15: Zakup i montaż instalacji fotowoltaicznych przez prywatnych inwestorów | C15: =C14 -> Inwestorzy prywatni | D15: =D14 -> 2016-2020 | E15: =0.05*'Podsumowanie- Przedsiębiorcy'!G17 -> 38.429297 | F15: =E15*'Wskaźniki emisji 2015r'!D15 -> 31.204589 | G15: =G14 -> środki prywatne | H15: 0 | I15: 0 | J15: 0 | K15: 0 | L15: 0 | M15: Zakłada się, że w wyniku planowanego zadania nastąpiwzrost zużycia energii z OZE w wys. co najmniej 5% na podstawie ankiet.
B16: Modernizacja kotłowni prywatnych przedsiębiorstw | C16: =C15 -> Inwestorzy prywatni | D16: =D15 -> 2016-2020 | E16: =0.05*('Podsumowanie- Przedsiębiorcy'!H9-'Podsumowanie- Przedsiębiorcy'!G9) -> 3508.545 | F16: =0.15*('Podsumowanie- Przedsiębiorcy'!H17-'Podsumowanie- Przedsiębiorcy'!G17) -> 3116.53 | G16: =G15 -> środki prywatne | H16: =($E$16/('Podsumowanie- Przedsiębiorcy'!$H$17-'Podsumowanie- Przedsiębiorcy'!$G$17))*'Prognoza emisji innych gazów'!C8 -> 6.8926749 | I16: =($E$16/('Podsumowanie- Przedsiębiorcy'!$H$17-'Podsumowanie- Przedsiębiorcy'!$G$17))*'Prognoza emisji innych gazów'!C19 -> 6.2510092 | J16: =($E$16/('Podsumowanie- Przedsiębiorcy'!$H$17-'Podsumowanie- Przedsiębiorcy'!$G$17))*'Prognoza emisji innych gazów'!C30 -> 24.982295 | K16: =($E$16/('Podsumowanie- Przedsiębiorcy'!$H$17-'Podsumowanie- Przedsiębiorcy'!$G$17))*'Prognoza emisji innych gazów'!C41 -> 5.2320452 | L16: =($E$16/('Podsumowanie- Przedsiębiorcy'!$H$17-'Podsumowanie- Przedsiębiorcy'!$G$17))*'Prognoza emisji innych gazów'!C52 -> 0.0073593119 | M16: Zakłada się, że w wyniku planowanego zadania nastąpi redukcja rzędu 5% w zakresie zużycia energii finalnej oraz emisji pyłów i gazów w sektorze przedsiębiorstw- dane ankietowe.
A17: Suma | D17: 2016-2020 | E17: =SUM(E3:E16) -> 34763.445 | F17: =SUM(F3:F16) -> 12618.28 | G17: =SUM(G3:G16) -> 5050000 | H17: =SUM(H3:H16) -> 30.853714 | I17: =SUM(I3:I16) -> 27.96284 | J17: =SUM(J3:J16) -> 106.63661 | K17: =SUM(K3:K16) -> 20.751539 | L17: =SUM(L3:L16) -> 0.92852064

Sheet Prognozy ogolne
A1: Ludność- wielolecie
A2: 1995 | B2: 1996 | C2: 1997 | D2: 1998 | E2: 1999 | F2: 2000 | G2: 2001 | H2: 2002 | I2: 2003 | J2: 2004 | K2: 2005 | L2: 2006 | M2: 2007 | N2: 2008 | O2: 2009 | P2: 2010 | Q2: 2011 | R2: 2012 | S2: 2013
A3: 5390 | B3: 5384 | C3: 5410 | D3: 5469 | E3: 5494 | F3: 5496 | G3: 5522 | H3: 5526 | I3: 5563 | J3: 5585 | K3: 5630 | L3: 5610 | M3: 5650 | N3: 5616 | O3: 5667 | P3: 5568 | Q3: 5606 | R3: 5602 | S3: 5646 | T3: =G3/F3 -> 1.0047307 | U3: =H3/G3 -> 1.0007244 | V3: =I3/H3 -> 1.0066956 | W3: =J3/I3 -> 1.0039547 | X3: =K3/J3 -> 1.0080573 | Y3: =L3/K3 -> 0.9964476 | Z3: =M3/L3 -> 1.0071301 | AA3: =N3/M3 -> 0.9939823 | ... AF3: =S3/R3 -> 1.0078543 | AG3: =SUM(T3:AF3)/13 -> 1.0021
A19: Ludność - prognoza
A20: 2012 | B20: 2013 | C20: 2014 | D20: 2015 | E20: 2016 | F20: 2017 | G20: 2018 | H20: 2019 | I20: 2020 | J20: 2021 | K20: 2022 | L20: 2023 | M20: 2024 | N20: 2025 | O20: 2026 | P20: 2027 | Q20: 2028 | R20: 2029 | S20: 2030
A21: =R3 -> 5602 | B21: =S3 -> 5646 | C21: 5652 | D21: 5631 | E21: =D21*$AG$3 -> 5642.8251 | F21: =E21*$AG$3 -> 5654.6749 | G21: =F21*$AG$3 -> 5666.5497 | H21: =G21*$AG$3 -> 5678.4494 | I21: =H21*$AG$3 -> 5690.3741 | J21: =I21*$AG$3 -> 5702.3239 | K21: =J21*$AG$3 -> 5714.2987 | L21: =K21*$AG$3 -> 5726.2987 | ... S21: =R21*$AG$3 -> 5811.0071 | U21: =I21/D21 -> 1.0105442
A35: Powierzchnia użytkowa mieszkań- wielolecie
A36: 1995 | B36: 1996 | C36: 1997 | D36: 1998 | E36: 1999 | F36: 2000 | G36: 2001 | H36: 2002 | I36: 2003 | J36: 2004 | K36: 2005 | L36: 2006 | M36: 2007 | N36: 2008 | O36: 2009 | P36: 2010 | Q36: 2011 | R36: 2012 | S36: 2013
A37: 129328 | B37: 129906 | C37: 131103 | D37: 133213 | E37: 133619 | F37: 134002 | G37: 135158 | H37: 161350 | I37: 164771 | J37: 166296 | K37: 167396 | L37: 168549 | M37: 170158 | N37: 172676 | O37: 174291 | P37: 187743 | Q37: 188965 | R37: 189966 | S37: 191893 | U37: =Q37/P37 -> 1.0065089 | V37: =R37/Q37 -> 1.0052973 | W37: =S37/R37 -> 1.0101439 | X37: =(U37+V37+W37)/3 -> 1.0073167
A52: Powierzchnia użytkowa mieszkań- prognoza
A53: 2012 | B53: 2013 | C53: 2014 | D53: 2015 | E53: 2016 | F53: 2017 | G53: 2018 | H53: 2019 | I53: 2020 | J53: 2021 | K53: 2022 | L53: 2023 | M53: 2024 | N53: 2025 | O53: 2026 | P53: 2027 | Q53: 2028 | R53: 2029 | S53: 2030
A54: =R37 -> 189966 | B54: =S37 -> 191893 | C54: 193858 | D54: =C54*$X$37 -> 195276.4 | E54: =D54*$X$37 -> 196705.18 | F54: =E54*$X$37 -> 198144.41 | G54: =F54*$X$37 -> 199594.17 | H54: =G54*$X$37 -> 201054.54 | I54: =H54*$X$37 -> 202525.6 | J54: =I54*$X$37 -> 204007.42 | K54: =J54*$X$37 -> 205500.08 | ... S54: =R54*$X$37 -> 217841.32
A70: Podmioty gospodarki narodowej- wielolecie
A71: 1995 | B71: 1996 | C71: 1997 | D71: 1998 | E71: 1999 | F71: 2000 | G71: 2001 | H71: 2002 | I71: 2003 | J71: 2004 | K71: 2005 | L71: 2006 | M71: 2007 | N71: 2008 | O71: 2009 | P71: 2010 | Q71: 2011 | R71: 2012 | S71: 2013
A72: bd | B72: bd | C72: bd | D72: bd | E72: bd | F72: bd | G72: bd | H72: 418 | I72: 417 | J72: 395 | K72: 396 | L72: 414 | M72: 425 | N72: 422 | O72: 442 | P72: 470 | Q72: 468 | R72: 476 | S72: 498 | V72: =R72/Q72 -> 1.017094 | W72: =S72/R72 -> 1.0462185 | X72: =C89/S72 -> 1.0100402 | Y72: =C89/S72 -> 1.0100402 | Z72: =(U72+V72+W72+X72+Y72+T72)/6 -> 0.68056547
V81: =I89/B89 -> 1.1234416
A87: Podmioty gospodarki narodowej- prognoza
A88: 2012 | B88: 2013 | C88: 2014 | D88: 2015 | E88: 2016 | F88: 2017 | G88: 2018 | H88: 2019 | I88: 2020 | J88: 2021 | K88: 2022 | L88: 2023 | M88: 2024 | N88: 2025 | O88: 2026 | P88: 2027 | Q88: 2028 | R88: 2029 | S88: 2030
A89: =R72 -> 476 | B89: =S72 -> 498 | C89: 503 | D89: 512 | E89: =D89*D89/C89 -> 521.16103 | F89: =E89*E89/D89 -> 530.48598 | G89: =F89*F89/E89 -> 539.97778 | H89: =G89*G89/F89 -> 549.63941 | I89: =H89*H89/G89 -> 559.47391 | J89: =I89*I89/H89 -> 569.48438 | K89: =J89*J89/I89 -> 579.67396 | L89: =K89*K89/J89 -> 590.04586 | ... S89: =R89*R89/Q89 -> 668.03559 | U89: =I89/B89 -> 1.1234416

Sheet Prognoza transport lokalny
A1: Rok | B1: Rodzaj pojazdu | C1: Rodzaj paliwa | O1: Województwo śląskie- dane za lata 2004-2007
C2: Benzyna | D2: Olej napędowy | E2: LPG | F2: Razem | O2: Średni przyrot roczny: | Q2: 2005 | R2: 2006 | S2: 2007
A3: 2010 | B3: Samochody osobowe | C3: =J26*F3 -> 1021.9666 | D3: =K26*F3 -> 349.39347 | E3: =L26*F3 -> 211.41322 | F3: =F9*(1-P3) -> 1582.7733 | O3: =#REF! -> #REF! | P3: =T3 -> 0.067434867 | Q3: =1511441/1431332-1 -> 0.055968147 | R3: =1617341/1511441-1 -> 0.070065586 | S3: =1740697/1617341-1 -> 0.076270867 | T3: =(Q3+R3+S3)/3 -> 0.067434867
B4: Motocykle | C4: =J27*F4 -> 161.13812 | D4: =K27*F4 -> 1.3937024 | E4: =L27*F4 -> 8.43738 | F4: =F10*(1-P4) -> 170.9692 | O4: =#REF! -> #REF! | P4: =T4 -> 0.051750542 | Q4: =63350/61643-1 -> 0.027691709 | R4: =67070/63350-1 -> 0.058721389 | S4: =71687/67070-1 -> 0.068838527 | T4: =(Q4+R4+S4)/3 -> 0.051750542
B5: Samochody ciężarowe | C5: =J28*F5 -> 113.60921 | D5: =K28*F5 -> 164.20786 | E5: =L28*F5 -> 15.044702 | F5: =F11*(1-P5) -> 292.86177 | O5: =#REF! -> #REF! | P5: =T5 -> 0.030545759 | Q5: =228538/223180-1 -> 0.024007528 | R5: =234809/228538-1 -> 0.027439638 | S5: =244246/234809-1 -> 0.040190112 | T5: =(Q5+R5+S5)/3 -> 0.030545759
B6: Autobusy | C6: =J29*F6 -> 2.4426729 | D6: =K29*F6 -> 45.337885 | E6: =L29*F6 -> 0.0989569 | F6: =F12*(1-P6) -> 47.879515 | O6: =#REF! -> #REF! | P6: =T6 -> 0.027348166 | Q6: =8841/8797-1 -> 0.0050017051 | R6: =9229/8841-1 -> 0.043886438 | S6: =9535/9229-1 -> 0.033156355 | T6: =(Q6+R6+S6)/3 -> 0.027348166
B7: Ciągniki rolnicze | C7: =J30*F7 -> 0.15421066 | D7: =K30*F7 -> 8.3506131 | E7: =L30*F7 -> 0.030102767 | F7: =F13*(1-P7) -> 8.5349265 | O7: =#REF! -> #REF! | P7: =T7 -> 0.12873519 | Q7: =14312/13228-1 -> 0.081947384 | R7: =16257/14312-1 -> 0.13589994 | S7: =18994/16257-1 -> 0.16835825 | T7: =(Q7+R7+S7)/3 -> 0.12873519
B8: Suma | C8: =SUM(C3:C7) -> 1299.3108 | D8: =SUM(D3:D7) -> 568.68353 | E8: =SUM(E3:E7) -> 235.02436 | F8: =C8+D8+E8 -> 2103.0187
A9: 2011 | B9: Samochody osobowe | C9: =J26*F9 -> 1095.8662 | D9: =K26*F9 -> 374.65852 | E9: =L26*F9 -> 226.70075 | F9: =F15*(1-P3) -> 1697.2255
B10: Motocykle | C10: =J27*F10 -> 169.9322 | D10: =K27*F10 -> 1.4697635 | E10: =L27*F10 -> 8.8978485 | F10: =F16*(1-P4) -> 180.29981
B11: Samochody ciężarowe | C11: =J28*F11 -> 117.18883 | D11: =K28*F11 -> 169.38175 | E11: =L28*F11 -> 15.518733 | F11: =F17*(1-P5) -> 302.08932
B12: Autobusy | C12: =J29*F12 -> 2.5113539 | D12: =K29*F12 -> 46.612655 | E12: =L29*F12 -> 0.10173928 | F12: =F18*(1-P6) -> 49.225749
B13: Ciągniki rolnicze | C13: =J30*F13 -> 0.17699632 | D13: =K30*F13 -> 9.5844719 | E13: =L30*F13 -> 0.034550651 | F13: =F19*(1-P7) -> 9.7960189
B14: Suma | C14: =SUM(C9:C13) -> 1385.6756 | D14: =SUM(D9:D13) -> 601.70716 | E14: =SUM(E9:E13) -> 251.25362 | F14: =C14+D14+E14 -> 2238.6364
A15: 2012 | B15: Samochody osobowe | C15: =J26*F15 -> 1175.1096 | D15: =K26*F15 -> 401.75051 | E15: =L26*F15 -> 243.09374 | F15: =F21*(1-P3) -> 1819.9538
B16: Motocykle | C16: =J27*F16 -> 179.20622 | D16: =K27*F16 -> 1.5499755 | E16: =L27*F16 -> 9.3834469 | F16: =F22*(1-P4) -> 190.13964
B17: Samochody ciężarowe | C17: =J28*F17 -> 120.88124 | D17: =K28*F17 -> 174.71867 | E17: =L28*F17 -> 16.007701 | F17: =F23*(1-P5) -> 311.60761 | J17: =C2 -> Benzyna | K17: =D2 -> Olej napędowy | L17: =E2 -> LPG
B18: Autobusy | C18: =J29*F18 -> 2.5819659 | D18: =K29*F18 -> 47.923269 | E18: =L29*F18 -> 0.1045999 | F18: =F24*(1-P6) -> 50.609835 | H18: =B3 -> Samochody osobowe | J18: 380463 | K18: 130074 | L18: 78706 | M18: =SUM(J18:L18) -> 589243
B19: Ciągniki rolnicze | C19: =J30*F19 -> 0.20314871 | D19: =K30*F19 -> 11.000642 | E19: =L30*F19 -> 0.039655741 | F19: =F25*(1-P7) -> 11.243446 | H19: =B4 -> Motocykle | J19: 898242 | K19: 7769 | L19: 47033 | M19: =SUM(J19:L19) -> 953044
B20: Suma | C20: =SUM(C15:C19) -> 1477.9822 | D20: =SUM(D15:D19) -> 636.94306 | E20: =SUM(E15:E19) -> 268.62915 | F20: =C20+D20+E20 -> 2383.5544 | H20: =B5 -> Samochody ciężarowe | J20: 90791 | K20: 131227 | L20: 12023 | M20: =SUM(J20:L20) -> 234041
A21: 2013 | B21: Samochody osobowe | C21: =J26*F21 -> 1260.0831 | D21: =K26*F21 -> 430.80156 | E21: =L26*F21 -> 260.67214 | F21: =F27*(1-P3) -> 1951.5568 | H21: =B6 -> Autobusy | J21: 469 | K21: 8705 | L21: 19 | M21: =SUM(J21:L21) -> 9193
B22: Motocykle | C22: =J27*F22 -> 188.98637 | D22: =K27*F22 -> 1.6345652 | E22: =L27*F22 -> 9.8955468 | F22: =F28*(1-P4) -> 200.51648 | H22: =B7 -> Ciągniki rolnicze | J22: 292 | K22: 15812 | L22: 57 | M22: =SUM(J22:L22) -> 16161
B23: Samochody ciężarowe | C23: =J28*F23 -> 124.68999 | D23: =K28*F23 -> 180.22374 | E23: =L28*F23 -> 16.512074 | F23: =F29*(1-P5) -> 321.4258 | J23: =SUM(J18:J22) -> 1370257 | K23: =SUM(K18:K22) -> 293587 | L23: =SUM(L18:L22) -> 137838 | M23: =SUM(M18:M22) -> 1801682
B24: Autobusy | C24: =J29*F24 -> 2.6545633 | D24: =K29*F24 -> 49.270733 | E24: =L29*F24 -> 0.10754095 | F24: =F30*(1-P6) -> 52.032837 | H24: Statystyczny rozkład ilości zarejestrownych pojazdów woj.śląskiego wg zużywanego nośnika:
B25: Ciągniki rolnicze | C25: =J30*F25 -> 0.23316528 | D25: =K30*F25 -> 12.62606 | E25: =L30*F25 -> 0.045515141 | F25: =F31*(1-P7) -> 12.90474 | J25: Benzyna | K25: Olej napędowy | L25: LPG
B26: Suma | C26: =SUM(C21:C25) -> 1576.6472 | D26: =SUM(D21:D25) -> 674.55665 | E26: =SUM(E21:E25) -> 287.23281 | F26: =C26+D26+E26 -> 2538.4367 | H26: Samochody osobowe | J26: =J18/M18 -> 0.64568098 | K26: =K18/M18 -> 0.22074764 | L26: =L18/M18 -> 0.13357138
A27: 2014 | B27: Samochody osobowe | C27: =J26*F27 -> 1351.2012 | D27: =K26*F27 -> 461.95332 | E27: =L26*F27 -> 279.52164 | F27: =F33*(1-P3) -> 2092.6762 | H27: Motocykle | J27: =J19/M19 -> 0.94249793 | K27: =K19/M19 -> 0.0081517747 | L27: =L19/M19 -> 0.049350292
B28: Motocykle | C28: =J27*F28 -> 199.30026 | D28: =K27*F28 -> 1.7237713 | E28: =L27*F28 -> 10.435595 | F28: =F34*(1-P4) -> 211.45963 | H28: Samochody ciężarowe | J28: =J20/M20 -> 0.38792776 | K28: =K20/M20 -> 0.5607009 | L28: =L20/M20 -> 0.051371341
B29: Samochody ciężarowe | C29: =J28*F29 -> 128.61875 | D29: =K28*F29 -> 185.90226 | E29: =L28*F29 -> 17.03234 | F29: =F35*(1-P5) -> 331.55335 | H29: Autobusy | J29: =J21/M21 -> 0.051017078 | K29: =K21/M21 -> 0.94691613 | L29: =L21/M21 -> 0.0020667899
B30: Autobusy | C30: =J29*F30 -> 2.729202 | D30: =K29*F30 -> 50.656084 | E30: =L29*F30 -> 0.11056469 | F30: =F36*(1-P6) -> 53.495851 | H30: Ciągniki rolnicze | J30: =J22/M22 -> 0.018068189 | K30: =K22/M22 -> 0.9784048 | L30: =L22/M22 -> 0.0035270095
B31: Ciągniki rolnicze | C31: =J30*F31 -> 0.26761701 | D31: =K30*F31 -> 14.491644 | E31: =L30*F31 -> 0.052240307 | F31: =F37*(1-P7) -> 14.811502
B32: Suma | C32: =SUM(C27:C31) -> 1682.117 | D32: =SUM(D27:D31) -> 714.72708 | E32: =SUM(E27:E31) -> 307.15238 | F32: =C32+D32+E32 -> 2703.9965
A33: 2015 | B33: Samochody osobowe | C33: =J26*F33 -> 1448.9081 | D33: =K26*F33 -> 495.3577 | E33: =L26*F33 -> 299.73417 | F33: =5+380+1021+459+53+11+166+135+5+4+5 -> 2244
B34: Motocykle | C34: =J27*F34 -> 210.17704 | D34: =K27*F34 -> 1.8178458 | E34: =L27*F34 -> 11.005115 | F34: =107+116 -> 223
B35: Samochody ciężarowe | C35: =J28*F35 -> 132.67129 | D35: =K28*F35 -> 191.75971 | E35: =L28*F35 -> 17.568999 | F35: =69+1+47+1+34+10+7+2+2+19+1+1+1+2+1+2+4+51+1+67+1+1+1+5+2+1+2+1+1+2+2 -> 342
B36: Autobusy | C36: =J29*F36 -> 2.8059393 | D36: =K29*F36 -> 52.080387 | E36: =L29*F36 -> 0.11367345 | F36: =7+3+1+8+36 -> 55
B37: Ciągniki rolnicze | C37: =J30*F37 -> 0.30715921 | D37: =K30*F37 -> 16.632882 | E37: =L30*F37 -> 0.059959161 | F37: =1+15+1 -> 17
B38: Suma | C38: =SUM(C33:C37) -> 1794.8696 | D38: =SUM(D33:D37) -> 757.64852 | E38: =SUM(E33:E37) -> 328.48192 | F38: =C38+D38+E38 -> 2881
A39: 2016 | B39: Samochody osobowe | C39: =C33+C33*$P$3 -> 1546.6151 | D39: =D33+D33*$P$3 -> 528.76208 | E39: =E33+E33*$P$3 -> 319.94671 | F39: =C39+D39+E39 -> 2395.3238
B40: Motocykle | C40: =C34+C34*$P$4 -> 221.05381 | D40: =D34+D34*$P$4 -> 1.9119203 | E40: =E34+E34*$P$4 -> 11.574636 | F40: =C40+D40+E40 -> 234.54037
B41: Samochody ciężarowe | C41: =C35+C35*$P$5 -> 136.72384 | D41: =D35+D35*$P$5 -> 197.61715 | E41: =E35+E35*$P$5 -> 18.105657 | F41: =C41+D41+E41 -> 352.44665
B42: Autobusy | C42: =C36+C36*$P$6 -> 2.8826766 | D42: =D36+D36*$P$6 -> 53.50469 | E42: =E36+E36*$P$6 -> 0.11678221 | F42: =C42+D42+E42 -> 56.504149
B43: Ciągniki rolnicze | C43: =C37+C37*$P$7 -> 0.34670141 | D43: =D37+D37*$P$7 -> 18.774119 | E43: =E37+E37*$P$7 -> 0.067678015 | F43: =C43+D43+E43 -> 19.188498
B44: Suma | C44: =SUM(C39:C43) -> 1907.6221 | D44: =SUM(D39:D43) -> 800.56996 | E44: =SUM(E39:E43) -> 349.81146 | F44: =C44+D44+E44 -> 3058.0035
A45: 2017 | B45: Samochody osobowe | C45: =C39+C39*$P$3 -> 1650.9108 | D45: =D39+D39*$P$3 -> 564.41908 | E45: =E39+E39*$P$3 -> 341.52227 | F45: =C45+D45+E45 -> 2556.8522
B46: Motocykle | C46: =C40+C40*$P$3 -> 235.96055 | D46: =D40+D40*$P$3 -> 2.0408504 | E46: =E40+E40*$P$3 -> 12.35517 | F46: =C46+D46+E46 -> 250.35657
B47: Samochody ciężarowe | C47: =C41+C41*$P$3 -> 145.94379 | D47: =D41+D41*$P$3 -> 210.94344 | E47: =E41+E41*$P$3 -> 19.32661 | F47: =C47+D47+E47 -> 376.21384
B48: Autobusy | C48: =C42+C42*$P$3 -> 3.0770695 | D48: =D42+D42*$P$3 -> 57.112772 | E48: =E42+E42*$P$3 -> 0.1246574 | F48: =C48+D48+E48 -> 60.314499
B49: Ciągniki rolnicze | C49: =C43+C43*$P$3 -> 0.37008117 | D49: =D43+D43*$P$3 -> 20.040149 | E49: =E43+E43*$P$3 -> 0.072241873 | F49: =C49+D49+E49 -> 20.482472
B50: Suma | C50: =SUM(C45:C49) -> 2036.2623 | D50: =SUM(D45:D49) -> 854.55629 | E50: =SUM(E45:E49) -> 373.40095 | F50: =C50+D50+E50 -> 3264.2196
A51: 2018 | B51: Samochody osobowe | C51: =C45+C45*$P$3 -> 1762.2398 | D51: =D45+D45*$P$3 -> 602.4806 | E51: =E45+E45*$P$3 -> 364.55278 | F51: =C51+D51+E51 -> 2729.2732
B52: Motocykle | C52: =C46+C46*$P$3 -> 251.87252 | D52: =D46+D46*$P$3 -> 2.1784748 | E52: =E46+E46*$P$3 -> 13.188339 | F52: =C52+D52+E52 -> 267.23933
B53: Samochody ciężarowe | C53: =C47+C47*$P$3 -> 155.78549 | D53: =D47+D47*$P$3 -> 225.16838 | E53: =E47+E47*$P$3 -> 20.629897 | F53: =C53+D53+E53 -> 401.58377
B54: Autobusy | C54: =C48+C48*$P$3 -> 3.2845713 | D54: =D48+D48*$P$3 -> 60.964164 | E54: =E48+E48*$P$3 -> 0.13306366 | F54: =C54+D54+E54 -> 64.381799
B55: Ciągniki rolnicze | C55: =C49+C49*$P$3 -> 0.39503755 | D55: =D49+D49*$P$3 -> 21.391554 | E55: =E49+E49*$P$3 -> 0.077113494 | F55: =C55+D55+E55 -> 21.863705
B56: Suma | C56: =SUM(C51:C55) -> 2173.5774 | D56: =SUM(D51:D55) -> 912.18318 | E56: =SUM(E51:E55) -> 398.58119 | F56: =C56+D56+E56 -> 3484.3418
A57: 2019 | B57: Samochody osobowe | C57: =C51+C51*$P$3 -> 1881.0762 | D57: =D51+D51*$P$3 -> 643.1088 | E57: =E51+E51*$P$3 -> 389.13635 | F57: =C57+D57+E57 -> 2913.3213
B58: Motocykle | C58: =C52+C52*$P$3 -> 268.85751 | D58: =D52+D52*$P$3 -> 2.32538 | E58: =E52+E52*$P$3 -> 14.077693 | F58: =C58+D58+E58 -> 285.26058
B59: Samochody ciężarowe | C59: =C53+C53*$P$3 -> 166.29087 | D59: =D53+D53*$P$3 -> 240.35258 | E59: =E53+E53*$P$3 -> 22.021071 | F59: =C59+D59+E59 -> 428.66452
B60: Autobusy | C60: =C54+C54*$P$3 -> 3.5060659 | D60: =D54+D54*$P$3 -> 65.075274 | E60: =E54+E54*$P$3 -> 0.14203679 | F60: =C60+D60+E60 -> 68.723377
B61: Ciągniki rolnicze | C61: =C55+C55*$P$3 -> 0.42167685 | D61: =D55+D55*$P$3 -> 22.83409 | E61: =E55+E55*$P$3 -> 0.082313632 | F61: =C61+D61+E61 -> 23.338081
B62: Suma | C62: =SUM(C57:C61) -> 2320.1523 | D62: =SUM(D57:D61) -> 973.69613 | E62: =SUM(E57:E61) -> 425.45946 | F62: =C62+D62+E62 -> 3719.3079
A63: 2020 | B63: Samochody osobowe | C63: =C57+C57*$P$3 -> 2007.9263 | D63: =D57+D57*$P$3 -> 686.47676 | E63: =E57+E57*$P$3 -> 415.37771 | F63: =C63+D63+E63 -> 3109.7808
B64: Motocykle | C64: =C58+C58*$P$3 -> 286.98788 | D64: =D58+D58*$P$3 -> 2.4821917 | E64: =E58+E58*$P$3 -> 15.02702 | F64: =C64+D64+E64 -> 304.49709
B65: Samochody ciężarowe | C65: =C59+C59*$P$3 -> 177.50467 | D65: =D59+D59*$P$3 -> 256.56073 | E65: =E59+E59*$P$3 -> 23.506059 | F65: =C65+D65+E65 -> 457.57146
B66: Autobusy | C66: =C60+C60*$P$3 -> 3.742497 | D66: =D60+D60*$P$3 -> 69.463617 | E66: =E60+E60*$P$3 -> 0.15161502 | F66: =C66+D66+E66 -> 73.357729
B67: Ciągniki rolnicze | C67: =C61+C61*$P$3 -> 0.45011258 | D67: =D61+D61*$P$3 -> 24.373904 | E67: =E61+E61*$P$3 -> 0.087864441 | F67: =C67+D67+E67 -> 24.911881
B68: Suma | C68: =SUM(C63:C67) -> 2476.6115 | D68: =SUM(D63:D67) -> 1039.3572 | E68: =SUM(E63:E67) -> 454.15027 | F68: =C68+D68+E68 -> 3970.1189

Sheet Prognoza transport suma
A1: Transport lokalny- zużycie energii
A2: Zużycie | B2: 2010 | C2: 2015 | D2: 2016 | E2: 2017 | F2: 2018 | G2: 2019 | H2: 2020
B3: MWh
A4: Transport lokalny | B4: ='Transport- rok bazowy '!F61 -> 19879.013 | C4: ='Transport- rok kontrolny'!F61 -> 20351.977 | D4: =C4*'Prognoza transport lokalny'!F44/'Prognoza transport lokalny'!F38 -> 21602.366 | E4: =D4*'Prognoza transport lokalny'!F50/'Prognoza transport lokalny'!F44 -> 23059.119 | F4: =E4*'Prognoza transport lokalny'!F56/'Prognoza transport lokalny'!F50 -> 24614.107 | G4: =F4*'Prognoza transport lokalny'!F62/'Prognoza transport lokalny'!F56 -> 26273.957 | H4: =G4*'Prognoza transport lokalny'!F68/'Prognoza transport lokalny'!F62 -> 28045.737
A22: Transport lokalny- emisja CO2
A23: Emisja | B23: 2010 | C23: 2015 | D23: 2016 | E23: 2017 | F23: 2018 | G23: 2019 | H23: 2020
B24: Mg CO2
A25: Transport lokalny | B25: ='Transport- rok bazowy '!F62 -> 6146.4325 | C25: ='Transport- rok kontrolny'!F62 -> 5144.2601 | D25: =C25*'Prognoza transport lokalny'!F44/'Prognoza transport lokalny'!F38 -> 5460.3143 | E25: =D25*'Prognoza transport lokalny'!F50/'Prognoza transport lokalny'!F44 -> 5828.5298 | F25: =E25*'Prognoza transport lokalny'!F56/'Prognoza transport lokalny'!F50 -> 6221.576 | G25: =F25*'Prognoza transport lokalny'!F62/'Prognoza transport lokalny'!F56 -> 6641.1271 | H25: =G25*'Prognoza transport lokalny'!F68/'Prognoza transport lokalny'!F62 -> 7088.9706

Sheet Prognozy podsumowanie
A1: Sektor | B1: Zużycie energii
B2: MWh/rok | E2: [%] | F2: [MWh/rok] | G2: =E2 -> [%] | H2: =F2 -> [MWh/rok] | M2: Wskaźniki wzrostu | O2: MWh/os. (m2)
B3: 2010 | C3: 2015 | D3: 2020- wariant bazowy BaU bez podjęcia działań Planu | E3: Wzrost/redukcja w stosunku do roku bazowego bez podjęcia działań Planu | F3: Planowana wartość redukcji- cel redukcji | G3: Planowana wartość redukcji w stosunku do roku bazowego | H3: 2020- wariant docelowy- cel redukcji Gminy | M3: Energia elektryczna | O3: =#REF!/'Prognozy ogolne'!D21 -> #REF!
