Workbook

Sheet STRONA
B4: PLAN GOSPODARKI NISKOEMISYJNEJ DLA GMINY KAMIENICA POLSKA
B11: BAZA DANYCH
G14: =D14*3.6 -> 0

Sheet Wskaźniki emisji 2010r
A1: Wskaźniki emisji opisują ile ton CO2 przypada na jednostkę zużycia poszczególnych nośników energii. W obliczeniach wykorzystano standardowe wskaźniki według wytycznych IPPC, uaktualnione wytycznymi KOBIZE, które obejmują całość emisji CO2, wynikłej z końcowego zużycia energii na terenie gminy.
A6: Paliwo | B6: Wartość opałowa | D6: Wskaźnik emisji CO2
B7: MWh/Mg | C7: GJ/Mg | D7: Mg/MWh | E7: Mg/GJ
A8: Węgiel kamienny | B8: =0.277*C8 -> 6.96932 | C8: 25.16 | D8: =E8/0.227 -> 0.41431718 | E8: =0.09405 -> 0.09405
A9: Gaz ziemny | B9: =0.277*C9 -> 13.296 | C9: 48 | D9: =E9/0.227 -> 0.24590308 | E9: 0.05582
A10: Olej opałowy | B10: =0.277*C10 -> 11.13263 | C10: 40.19 | D10: =E10/0.227 -> 0.33740088 | E10: 0.07659
A11: Drewno opałowe | B11: =0.277*C11 -> 4.3212 | C11: 15.6 | D11: =E11/0.227 -> 0 | E11: 0
A12: Olej napędowy | B12: =0.277*C12 -> 12.00241 | C12: 43.33 | D12: =E12/0.227 -> 0.32303965 | E12: 0.07333
A13: Benzyna silnikowa | B13: =0.277*C13 -> 12.4096 | C13: 44.8 | D13: =E13/0.227 -> 0.3022467 | E13: 0.06861
A14: LPG | B14: =0.277*C14 -> 13.10487 | C14: 47.31 | D14: =E14/0.227 -> 0.27506608 | E14: 0.06244
A15: Energia elektryczna | B15: - | C15: - | D15: 0.812 | E15: =0.277*D15 -> 0.224924
A17: Paliwo | B17: Gęstość | C17: Jednostka
A18: Olej opałowy | B18: 0.85 | C18: kg/dm3
A19: Olej napędowy | B19: 0.83 | C19: kg/dm3
A20: Benzyna | B20: 0.7 | C20: kg/dm3
A21: LPG | B21: 0.6 | C21: kg/dm3
A22: Gaz ziemny | B22: 0.716 | C22: kg/m3

Sheet Wskaźniki emisji 2015r
A1: ='Wskaźniki emisji 2010r'!A1:E4 -> Wskaźniki emisji opisują ile ton CO2 przypada na jednostkę zużycia poszczególnych nośników energii. W obliczeniach wykorzystano standardowe wskaźniki według wytycznych IPPC, uaktualnione wytycznymi KOBIZE, które obejmują całość emisji CO2, wynikłej z końcowego zużycia energii na terenie gminy.
A6: Paliwo | B6: Wartość opałowa | D6: Wskaźnik emisji CO2
B7: MWh/Mg | C7: GJ/Mg | D7: Mg/MWh | E7: Mg/GJ
A8: ='Wskaźniki emisji 2010r'!A8 -> Węgiel kamienny | B8: =0.277*C8 -> 7.33773 | C8: 26.49 | D8: =E8/0.277 -> 0.33920578 | E8: 0.09396
A9: ='Wskaźniki emisji 2010r'!A9 -> Gaz ziemny | B9: =0.277*C9 -> 13.296 | C9: 48 | D9: =E9/0.277 -> 0.20151625 | E9: 0.05582
A10: ='Wskaźniki emisji 2010r'!A10 -> Olej opałowy | B10: =0.277*C10 -> 11.13263 | C10: 40.19 | D10: =E10/0.277 -> 0.27649819 | E10: 0.07659
A11: ='Wskaźniki emisji 2010r'!A11 -> Drewno opałowe | B11: =0.277*C11 -> 4.3212 | C11: 15.6 | D11: 0 | E11: =0.277*D11 -> 0
A12: ='Wskaźniki emisji 2010r'!A12 -> Olej napędowy | B12: =0.277*C12 -> 12.00241 | C12: 43.33 | D12: =E12/0.277 -> 0.26472924 | E12: 0.07333
A13: ='Wskaźniki emisji 2010r'!A13 -> Benzyna silnikowa | B13: =0.277*C13 -> 12.4096 | C13: 44.8 | D13: =E13/0.277 -> 0.24768953 | E13: 0.06861
A14: ='Wskaźniki emisji 2010r'!A14 -> LPG | B14: =0.277*C14 -> 13.10487 | C14: 47.31 | D14: =E14/0.277 -> 0.22541516 | E14: 0.06244
A15: ='Wskaźniki emisji 2010r'!A15 -> Energia elektryczna | B15: - | C15: - | D15: 0.812 | E15: =D15*0.277 -> 0.224924
A17: Paliwo | B17: Gęstość | C17: Jednostka
A18: Olej opałowy | B18: 0.85 | C18: kg/dm3
A19: Olej napędowy | B19: 0.83 | C19: kg/dm3
A20: Benzyna | B20: 0.7 | C20: kg/dm3
A21: LPG | B21: 0.6 | C21: kg/dm3
A22: Gaz ziemny | B22: 0.716 | C22: kg/m3

Sheet Obiekty publiczne 2010r
A1: Lp. | B1: Podmiot | C1: Adres | D1: Stosowane paliwo | E1: Ilość zużywanego paliwa | F1: Jednostka | G1: Gęstość paliwa | H1: Ilość zużywanego paliwa | I1: Wartość opałowa | J1: Zużycie energii ze spalanego paliwa | K1: Wskaźnik emisji | L1: Emisja CO2 ze spalnego paliwa | M1: Zużycie energii elektrycznej | N1: Emisja CO2 z energii elektrycznej | O1: Łączna emisja CO2
H2: Mg | J2: MWh | K2: Mg/MWh | L2: Mg | M2: MWh | N2: Mg | O2: Mg
A3: 1 | B3: Gminny Ośrodek Kultury, Sportu i Rekreacji | C3: ul. M.Konopnickiej 135A, 42-260 Kamienica Polska | D3: gaz ziemny | E3: 9547 | F3: m3 | G3: =IF(D3="gaz ziemny",'Wskaźniki emisji 2015r'!$B$22,IF(D3="olej opałowy",'Wskaźniki emisji 2015r'!$B$18,IF(D3="LPG",'Wskaźniki emisji 2015r'!$B$21,))) -> 0.716 | H3: =IF(G3=0,E3,E3*G3/1000) -> 6.835652 | I3: =IF(D3="węgiel kamienny",'Wskaźniki emisji 2010r'!$B$8,IF(D3="gaz ziemny",'Wskaźniki emisji 2010r'!$B$9,IF(D3="olej opałowy",'Wskaźniki emisji 2010r'!$B$10,IF(D3="biomasa",'Wskaźniki emisji 2010r'!$B$11,IF(D3="LPG",'Wskaźniki emisji 2010r'!$B$14,IF(D3="energia elektryczna",'Wskaźniki emisji 2010r'!$B$15,)))))) -> 13.296 | J3: =H3*I3 -> 90.886829 | K3: =IF(D3="węgiel kamienny",'Wskaźniki emisji 2010r'!$D$8,IF(D3="gaz ziemny",'Wskaźniki emisji 2010r'!$D$9,IF(D3="olej opałowy",'Wskaźniki emisji 2010r'!$D$10,IF(D3="biomasa",'Wskaźniki emisji 2010r'!$D$11,IF(D3="LPG",'Wskaźniki emisji 2010r'!$D$14,IF(D3="energia elektryczna",'Wskaźniki emisji 2010r'!$D$15,)))))) -> 0.24590308 | L3: =J3*K3 -> 22.349352 | M3: 17.455 | N3: =M3*'Wskaźniki emisji 2010r'!$D$15 -> 14.17346 | O3: =N3+L3 -> 36.522812 | Q3: termomodernizacja
A4: 2 | B4: Filia w Osinach Szkoły Podstawowej im. H. Sienkiewicza w Zespole Szkół w Kamienicy Polskiej | C4: Osiny, ul. Częstochowska 165, 42-260 Kamienica Polska | D4: gaz ziemny | E4: 13798 | F4: m3 | G4: =IF(D4="gaz ziemny",'Wskaźniki emisji 2015r'!$B$22,IF(D4="olej opałowy",'Wskaźniki emisji 2015r'!$B$18,IF(D4="LPG",'Wskaźniki emisji 2015r'!$B$21,))) -> 0.716 | H4: =IF(G4=0,E4,E4*G4/1000) -> 9.879368 | I4: =IF(D4="węgiel kamienny",'Wskaźniki emisji 2010r'!$B$8,IF(D4="gaz ziemny",'Wskaźniki emisji 2010r'!$B$9,IF(D4="olej opałowy",'Wskaźniki emisji 2010r'!$B$10,IF(D4="biomasa",'Wskaźniki emisji 2010r'!$B$11,IF(D4="LPG",'Wskaźniki emisji 2010r'!$B$14,IF(D4="energia elektryczna",'Wskaźniki emisji 2010r'!$B$15,)))))) -> 13.296 | J4: =H4*I4 -> 131.35608 | K4: =IF(D4="węgiel kamienny",'Wskaźniki emisji 2010r'!$D$8,IF(D4="gaz ziemny",'Wskaźniki emisji 2010r'!$D$9,IF(D4="olej opałowy",'Wskaźniki emisji 2010r'!$D$10,IF(D4="biomasa",'Wskaźniki emisji 2010r'!$D$11,IF(D4="LPG",'Wskaźniki emisji 2010r'!$D$14,IF(D4="energia elektryczna",'Wskaźniki emisji 2010r'!$D$15,)))))) -> 0.24590308 | L4: =J4*K4 -> 32.300864 | M4: 7.459 | N4: =M4*'Wskaźniki emisji 2010r'!$D$15 -> 6.056708 | O4: =N4+L4 -> 38.357572 | P4: wymieniono okna 2010r.
A5: 3 | B5: Urząd Gminy Kamienica Polska | C5: ul. M.Konopnickiej 12, 42-260 Kamienica Polska | D5: gaz ziemny | E5: 26620 | F5: m3 | G5: =IF(D5="gaz ziemny",'Wskaźniki emisji 2015r'!$B$22,IF(D5="olej opałowy",'Wskaźniki emisji 2015r'!$B$18,IF(D5="LPG",'Wskaźniki emisji 2015r'!$B$21,))) -> 0.716 | H5: =IF(G5=0,E5,E5*G5/1000) -> 19.05992 | I5: =IF(D5="węgiel kamienny",'Wskaźniki emisji 2010r'!$B$8,IF(D5="gaz ziemny",'Wskaźniki emisji 2010r'!$B$9,IF(D5="olej opałowy",'Wskaźniki emisji 2010r'!$B$10,IF(D5="biomasa",'Wskaźniki emisji 2010r'!$B$11,IF(D5="LPG",'Wskaźniki emisji 2010r'!$B$14,IF(D5="energia elektryczna",'Wskaźniki emisji 2010r'!$B$15,)))))) -> 13.296 | J5: =H5*I5 -> 253.4207 | K5: =IF(D5="węgiel kamienny",'Wskaźniki emisji 2010r'!$D$8,IF(D5="gaz ziemny",'Wskaźniki emisji 2010r'!$D$9,IF(D5="olej opałowy",'Wskaźniki emisji 2010r'!$D$10,IF(D5="biomasa",'Wskaźniki emisji 2010r'!$D$11,IF(D5="LPG",'Wskaźniki emisji 2010r'!$D$14,IF(D5="energia elektryczna",'Wskaźniki emisji 2010r'!$D$15,)))))) -> 0.24590308 | L5: =J5*K5 -> 62.316931 | M5: 32.5 | N5: =M5*'Wskaźniki emisji 2010r'!$D$15 -> 26.39 | O5: =N5+L5 -> 88.706931 | P5: ocieplono stropodach 2015r.
A6: 4 | B6: Budynek Hali Sportowej | C6: ul. Konopnickiej 12B, 42-260 Kamienica Polska | D6: gaz ziemny | E6: 9957 | F6: m3 | G6: =IF(D6="gaz ziemny",'Wskaźniki emisji 2015r'!$B$22,IF(D6="olej opałowy",'Wskaźniki emisji 2015r'!$B$18,IF(D6="LPG",'Wskaźniki emisji 2015r'!$B$21,))) -> 0.716 | H6: =IF(G6=0,E6,E6*G6/1000) -> 7.129212 | I6: =IF(D6="węgiel kamienny",'Wskaźniki emisji 2010r'!$B$8,IF(D6="gaz ziemny",'Wskaźniki emisji 2010r'!$B$9,IF(D6="olej opałowy",'Wskaźniki emisji 2010r'!$B$10,IF(D6="biomasa",'Wskaźniki emisji 2010r'!$B$11,IF(D6="LPG",'Wskaźniki emisji 2010r'!$B$14,IF(D6="energia elektryczna",'Wskaźniki emisji 2010r'!$B$15,)))))) -> 13.296 | J6: =H6*I6 -> 94.790003 | K6: =IF(D6="węgiel kamienny",'Wskaźniki emisji 2010r'!$D$8,IF(D6="gaz ziemny",'Wskaźniki emisji 2010r'!$D$9,IF(D6="olej opałowy",'Wskaźniki emisji 2010r'!$D$10,IF(D6="biomasa",'Wskaźniki emisji 2010r'!$D$11,IF(D6="LPG",'Wskaźniki emisji 2010r'!$D$14,IF(D6="energia elektryczna",'Wskaźniki emisji 2010r'!$D$15,)))))) -> 0.24590308 | L6: =J6*K6 -> 23.309154 | M6: 10.587 | N6: =M6*'Wskaźniki emisji 2010r'!$D$15 -> 8.596644 | O6: =N6+L6 -> 31.905798
A7: 5 | B7: Muzeum Regionalne | C7: ul. Konopnickiej 189, 42-260 Kamienica Polska | D7: gaz ziemny | E7: 3242 | F7: m3 | G7: =IF(D7="gaz ziemny",'Wskaźniki emisji 2015r'!$B$22,IF(D7="olej opałowy",'Wskaźniki emisji 2015r'!$B$18,IF(D7="LPG",'Wskaźniki emisji 2015r'!$B$21,))) -> 0.716 | H7: =IF(G7=0,E7,E7*G7/1000) -> 2.321272 | I7: =IF(D7="węgiel kamienny",'Wskaźniki emisji 2010r'!$B$8,IF(D7="gaz ziemny",'Wskaźniki emisji 2010r'!$B$9,IF(D7="olej opałowy",'Wskaźniki emisji 2010r'!$B$10,IF(D7="biomasa",'Wskaźniki emisji 2010r'!$B$11,IF(D7="LPG",'Wskaźniki emisji 2010r'!$B$14,IF(D7="energia elektryczna",'Wskaźniki emisji 2010r'!$B$15,)))))) -> 13.296 | J7: =H7*I7 -> 30.863633 | K7: =IF(D7="węgiel kamienny",'Wskaźniki emisji 2010r'!$D$8,IF(D7="gaz ziemny",'Wskaźniki emisji 2010r'!$D$9,IF(D7="olej opałowy",'Wskaźniki emisji 2010r'!$D$10,IF(D7="biomasa",'Wskaźniki emisji 2010r'!$D$11,IF(D7="LPG",'Wskaźniki emisji 2010r'!$D$14,IF(D7="energia elektryczna",'Wskaźniki emisji 2010r'!$D$15,)))))) -> 0.24590308 | L7: =J7*K7 -> 7.5894624 | M7: 2.193 | N7: =M7*'Wskaźniki emisji 2010r'!$D$15 -> 1.780716 | O7: =N7+L7 -> 9.3701784
A8: 6 | B8: Szkoła Podstawowa im. H. Sienkiewicza w Zespole Szkół w kamienicy Polskiej | C8: ul.A. Ferensa 12A, 42-260 Kamienica Polska | D8: gaz ziemny | E8: 50134 | F8: m3 | G8: =IF(D8="gaz ziemny",'Wskaźniki emisji 2015r'!$B$22,IF(D8="olej opałowy",'Wskaźniki emisji 2015r'!$B$18,IF(D8="LPG",'Wskaźniki emisji 2015r'!$B$21,))) -> 0.716 | H8: =IF(G8=0,E8,E8*G8/1000) -> 35.895944 | I8: =IF(D8="węgiel kamienny",'Wskaźniki emisji 2010r'!$B$8,IF(D8="gaz ziemny",'Wskaźniki emisji 2010r'!$B$9,IF(D8="olej opałowy",'Wskaźniki emisji 2010r'!$B$10,IF(D8="biomasa",'Wskaźniki emisji 2010r'!$B$11,IF(D8="LPG",'Wskaźniki emisji 2010r'!$B$14,IF(D8="energia elektryczna",'Wskaźniki emisji 2010r'!$B$15,)))))) -> 13.296 | J8: =H8*I8 -> 477.27247 | K8: =IF(D8="węgiel kamienny",'Wskaźniki emisji 2010r'!$D$8,IF(D8="gaz ziemny",'Wskaźniki emisji 2010r'!$D$9,IF(D8="olej opałowy",'Wskaźniki emisji 2010r'!$D$10,IF(D8="biomasa",'Wskaźniki emisji 2010r'!$D$11,IF(D8="LPG",'Wskaźniki emisji 2010r'!$D$14,IF(D8="energia elektryczna",'Wskaźniki emisji 2010r'!$D$15,)))))) -> 0.24590308 | L8: =J8*K8 -> 117.36277 | M8: 71.258 | N8: =M8*'Wskaźniki emisji 2010r'!$D$15 -> 57.861496 | O8: =N8+L8 -> 175.22427 | P8: ocieplono ściany w 2006 r. oraz wyminiono okna w 2005r.
A9: 7 | B9: Szkoła Podstawowa | C9: ul. Konopnickiej 226, 42-260 Kamienica Polska | D9: gaz ziemny | E9: 2000 | F9: m3 | G9: =IF(D9="gaz ziemny",'Wskaźniki emisji 2015r'!$B$22,IF(D9="olej opałowy",'Wskaźniki emisji 2015r'!$B$18,IF(D9="LPG",'Wskaźniki emisji 2015r'!$B$21,))) -> 0.716 | H9: =IF(G9=0,E9,E9*G9/1000) -> 1.432 | I9: =IF(D9="węgiel kamienny",'Wskaźniki emisji 2010r'!$B$8,IF(D9="gaz ziemny",'Wskaźniki emisji 2010r'!$B$9,IF(D9="olej opałowy",'Wskaźniki emisji 2010r'!$B$10,IF(D9="biomasa",'Wskaźniki emisji 2010r'!$B$11,IF(D9="LPG",'Wskaźniki emisji 2010r'!$B$14,IF(D9="energia elektryczna",'Wskaźniki emisji 2010r'!$B$15,)))))) -> 13.296 | J9: =H9*I9 -> 19.039872 | K9: =IF(D9="węgiel kamienny",'Wskaźniki emisji 2010r'!$D$8,IF(D9="gaz ziemny",'Wskaźniki emisji 2010r'!$D$9,IF(D9="olej opałowy",'Wskaźniki emisji 2010r'!$D$10,IF(D9="biomasa",'Wskaźniki emisji 2010r'!$D$11,IF(D9="LPG",'Wskaźniki emisji 2010r'!$D$14,IF(D9="energia elektryczna",'Wskaźniki emisji 2010r'!$D$15,)))))) -> 0.24590308 | L9: =J9*K9 -> 4.6819632 | M9: 7.7 | N9: =M9*'Wskaźniki emisji 2010r'!$D$15 -> 6.2524 | O9: =N9+L9 -> 10.934363
A10: 8 | B10: Przedszkole | C10: ul. Konopnickiej 11a, 42-260 Kamienica Polska | D10: gaz ziemny | E10: 1800 | F10: m3 | G10: =IF(D10="gaz ziemny",'Wskaźniki emisji 2015r'!$B$22,IF(D10="olej opałowy",'Wskaźniki emisji 2015r'!$B$18,IF(D10="LPG",'Wskaźniki emisji 2015r'!$B$21,))) -> 0.716 | H10: =IF(G10=0,E10,E10*G10/1000) -> 1.2888 | I10: =IF(D10="węgiel kamienny",'Wskaźniki emisji 2010r'!$B$8,IF(D10="gaz ziemny",'Wskaźniki emisji 2010r'!$B$9,IF(D10="olej opałowy",'Wskaźniki emisji 2010r'!$B$10,IF(D10="biomasa",'Wskaźniki emisji 2010r'!$B$11,IF(D10="LPG",'Wskaźniki emisji 2010r'!$B$14,IF(D10="energia elektryczna",'Wskaźniki emisji 2010r'!$B$15,)))))) -> 13.296 | J10: =H10*I10 -> 17.135885 | K10: =IF(D10="węgiel kamienny",'Wskaźniki emisji 2010r'!$D$8,IF(D10="gaz ziemny",'Wskaźniki emisji 2010r'!$D$9,IF(D10="olej opałowy",'Wskaźniki emisji 2010r'!$D$10,IF(D10="biomasa",'Wskaźniki emisji 2010r'!$D$11,IF(D10="LPG",'Wskaźniki emisji 2010r'!$D$14,IF(D10="energia elektryczna",'Wskaźniki emisji 2010r'!$D$15,)))))) -> 0.24590308 | L10: =J10*K10 -> 4.2137669 | M10: 23 | N10: =M10*'Wskaźniki emisji 2010r'!$D$15 -> 18.676 | O10: =N10+L10 -> 22.889767
A11: 9 | B11: Przedszkole | C11: ul. Słoneczna 186, Rudnik Wielki | D11: gaz ziemny | E11: 1800 | F11: m3 | G11: =IF(D11="gaz ziemny",'Wskaźniki emisji 2015r'!$B$22,IF(D11="olej opałowy",'Wskaźniki emisji 2015r'!$B$18,IF(D11="LPG",'Wskaźniki emisji 2015r'!$B$21,))) -> 0.716 | H11: =IF(G11=0,E11,E11*G11/1000) -> 1.2888 | I11: =IF(D11="węgiel kamienny",'Wskaźniki emisji 2010r'!$B$8,IF(D11="gaz ziemny",'Wskaźniki emisji 2010r'!$B$9,IF(D11="olej opałowy",'Wskaźniki emisji 2010r'!$B$10,IF(D11="biomasa",'Wskaźniki emisji 2010r'!$B$11,IF(D11="LPG",'Wskaźniki emisji 2010r'!$B$14,IF(D11="energia elektryczna",'Wskaźniki emisji 2010r'!$B$15,)))))) -> 13.296 | J11: =H11*I11 -> 17.135885 | K11: =IF(D11="węgiel kamienny",'Wskaźniki emisji 2010r'!$D$8,IF(D11="gaz ziemny",'Wskaźniki emisji 2010r'!$D$9,IF(D11="olej opałowy",'Wskaźniki emisji 2010r'!$D$10,IF(D11="biomasa",'Wskaźniki emisji 2010r'!$D$11,IF(D11="LPG",'Wskaźniki emisji 2010r'!$D$14,IF(D11="energia elektryczna",'Wskaźniki emisji 2010r'!$D$15,)))))) -> 0.24590308 | L11: =J11*K11 -> 4.2137669 | M11: 3.6 | N11: =M11*'Wskaźniki emisji 2010r'!$D$15 -> 2.9232 | O11: =N11+L11 -> 7.1369669
A12: 10 | B12: Przedszkole | C12: ul. Zawisna 69 | D12: gaz ziemny | E12: 1800 | F12: m3 | G12: =IF(D12="gaz ziemny",'Wskaźniki emisji 2015r'!$B$22,IF(D12="olej opałowy",'Wskaźniki emisji 2015r'!$B$18,IF(D12="LPG",'Wskaźniki emisji 2015r'!$B$21,))) -> 0.716 | H12: =IF(G12=0,E12,E12*G12/1000) -> 1.2888 | I12: =IF(D12="węgiel kamienny",'Wskaźniki emisji 2010r'!$B$8,IF(D12="gaz ziemny",'Wskaźniki emisji 2010r'!$B$9,IF(D12="olej opałowy",'Wskaźniki emisji 2010r'!$B$10,IF(D12="biomasa",'Wskaźniki emisji 2010r'!$B$11,IF(D12="LPG",'Wskaźniki emisji 2010r'!$B$14,IF(D12="energia elektryczna",'Wskaźniki emisji 2010r'!$B$15,)))))) -> 13.296 | J12: =H12*I12 -> 17.135885 | K12: =IF(D12="węgiel kamienny",'Wskaźniki emisji 2010r'!$D$8,IF(D12="gaz ziemny",'Wskaźniki emisji 2010r'!$D$9,IF(D12="olej opałowy",'Wskaźniki emisji 2010r'!$D$10,IF(D12="biomasa",'Wskaźniki emisji 2010r'!$D$11,IF(D12="LPG",'Wskaźniki emisji 2010r'!$D$14,IF(D12="energia elektryczna",'Wskaźniki emisji 2010r'!$D$15,)))))) -> 0.24590308 | L12: =J12*K12 -> 4.2137669 | M12: 1.2 | N12: =M12*'Wskaźniki emisji 2010r'!$D$15 -> 0.9744 | O12: =N12+L12 -> 5.1881669

Sheet Obiekty publiczne 2015r
A1: Lp. | B1: Podmiot | C1: Adres | D1: Stosowane paliwo | E1: Ilość zużywanego paliwa | F1: Jednostka | G1: Gęstość paliwa | H1: Ilość zużywanego paliwa | I1: Wartość opałowa | J1: Zużycie energii ze spalanego paliwa | K1: Wskaźnik emisji | L1: Emisja CO2 ze spalnego paliwa | M1: Zużycie energii elektrycznej | N1: Emisja CO2 z energii elektrycznej | O1: Łączna emisja CO2
H2: Mg | J2: MWh | K2: Mg/MWh | L2: Mg | M2: MWh | N2: Mg | O2: Mg
A3: 1 | B3: Gminny Ośrodek Kultury, Sportu i Rekreacji | C3: ul. M.Konopnickiej 135A, 42-260 Kamienica Polska | D3: gaz ziemny | E3: 5722 | F3: Mg | G3: =IF(D3="gaz ziemny",'Wskaźniki emisji 2015r'!$B$22,IF(D3="olej opałowy",'Wskaźniki emisji 2015r'!$B$18,IF(D3="LPG",'Wskaźniki emisji 2015r'!$B$21,))) -> 0.716 | H3: =IF(G3=0,E3,E3*G3/1000) -> 4.096952 | I3: =IF(D3="węgiel kamienny",'Wskaźniki emisji 2015r'!$B$8,IF(D3="gaz ziemny",'Wskaźniki emisji 2015r'!$B$9,IF(D3="olej opałowy",'Wskaźniki emisji 2015r'!$B$10,IF(D3="biomasa",'Wskaźniki emisji 2015r'!$B$11,IF(D3="LPG",'Wskaźniki emisji 2015r'!$B$14,IF(D3="energia elektryczna",'Wskaźniki emisji 2015r'!$B$15,)))))) -> 13.296 | J3: =H3*I3 -> 54.473074 | K3: =IF(D3="węgiel kamienny",'Wskaźniki emisji 2015r'!$D$8,IF(D3="gaz ziemny",'Wskaźniki emisji 2015r'!$D$9,IF(D3="olej opałowy",'Wskaźniki emisji 2015r'!$D$10,IF(D3="biomasa",'Wskaźniki emisji 2015r'!$D$11,IF(D3="LPG",'Wskaźniki emisji 2015r'!$D$14,IF(D3="energia elektryczna",'Wskaźniki emisji 2015r'!$D$15,)))))) -> 0.20151625 | L3: =J3*K3 -> 10.977209 | M3: 15.65 | N3: =M3*'Wskaźniki emisji 2015r'!$D$15 -> 12.7078 | O3: =N3+L3 -> 23.685009
A4: 2 | B4: Filia w Osinach Szkoły Podstawowej im. H. Sienkiewicza w Zespole Szkół w Kamienicy Polskiej | C4: Osiny, ul. Częstochowska 165, 42-260 Kamienica Polska | D4: gaz ziemny | E4: 13149 | F4: Mg | G4: =IF(D4="gaz ziemny",'Wskaźniki emisji 2015r'!$B$22,IF(D4="olej opałowy",'Wskaźniki emisji 2015r'!$B$18,IF(D4="LPG",'Wskaźniki emisji 2015r'!$B$21,))) -> 0.716 | H4: =IF(G4=0,E4,E4*G4/1000) -> 9.414684 | I4: =IF(D4="węgiel kamienny",'Wskaźniki emisji 2015r'!$B$8,IF(D4="gaz ziemny",'Wskaźniki emisji 2015r'!$B$9,IF(D4="olej opałowy",'Wskaźniki emisji 2015r'!$B$10,IF(D4="biomasa",'Wskaźniki emisji 2015r'!$B$11,IF(D4="LPG",'Wskaźniki emisji 2015r'!$B$14,IF(D4="energia elektryczna",'Wskaźniki emisji 2015r'!$B$15,)))))) -> 13.296 | J4: =H4*I4 -> 125.17764 | K4: =IF(D4="węgiel kamienny",'Wskaźniki emisji 2015r'!$D$8,IF(D4="gaz ziemny",'Wskaźniki emisji 2015r'!$D$9,IF(D4="olej opałowy",'Wskaźniki emisji 2015r'!$D$10,IF(D4="biomasa",'Wskaźniki emisji 2015r'!$D$11,IF(D4="LPG",'Wskaźniki emisji 2015r'!$D$14,IF(D4="energia elektryczna",'Wskaźniki emisji 2015r'!$D$15,)))))) -> 0.20151625 | L4: =J4*K4 -> 25.225328 | M4: 10.248 | N4: =M4*'Wskaźniki emisji 2015r'!$D$15 -> 8.321376 | O4: =N4+L4 -> 33.546704
A5: 3 | B5: Urząd Gminy Kamienica Polska | C5: ul. M.Konopnickiej 12, 42-260 Kamienica Polska | D5: gaz ziemny | E5: 17081 | F5: Mg | G5: =IF(D5="gaz ziemny",'Wskaźniki emisji 2015r'!$B$22,IF(D5="olej opałowy",'Wskaźniki emisji 2015r'!$B$18,IF(D5="LPG",'Wskaźniki emisji 2015r'!$B$21,))) -> 0.716 | H5: =IF(G5=0,E5,E5*G5/1000) -> 12.229996 | I5: =IF(D5="węgiel kamienny",'Wskaźniki emisji 2015r'!$B$8,IF(D5="gaz ziemny",'Wskaźniki emisji 2015r'!$B$9,IF(D5="olej opałowy",'Wskaźniki emisji 2015r'!$B$10,IF(D5="biomasa",'Wskaźniki emisji 2015r'!$B$11,IF(D5="LPG",'Wskaźniki emisji 2015r'!$B$14,IF(D5="energia elektryczna",'Wskaźniki emisji 2015r'!$B$15,)))))) -> 13.296 | J5: =H5*I5 -> 162.61003 | K5: =IF(D5="węgiel kamienny",'Wskaźniki emisji 2015r'!$D$8,IF(D5="gaz ziemny",'Wskaźniki emisji 2015r'!$D$9,IF(D5="olej opałowy",'Wskaźniki emisji 2015r'!$D$10,IF(D5="biomasa",'Wskaźniki emisji 2015r'!$D$11,IF(D5="LPG",'Wskaźniki emisji 2015r'!$D$14,IF(D5="energia elektryczna",'Wskaźniki emisji 2015r'!$D$15,)))))) -> 0.20151625 | L5: =J5*K5 -> 32.768562 | M5: 26.762 | N5: =M5*'Wskaźniki emisji 2015r'!$D$15 -> 21.730744 | O5: =N5+L5 -> 54.499306
A6: 4 | B6: Budynek Hali Sportowej | C6: ul. Konopnickiej 12B, 42-260 Kamienica Polska | D6: gaz ziemny | E6: 9957 | F6: Mg | G6: =IF(D6="gaz ziemny",'Wskaźniki emisji 2015r'!$B$22,IF(D6="olej opałowy",'Wskaźniki emisji 2015r'!$B$18,IF(D6="LPG",'Wskaźniki emisji 2015r'!$B$21,))) -> 0.716 | H6: =IF(G6=0,E6,E6*G6/1000) -> 7.129212 | I6: =IF(D6="węgiel kamienny",'Wskaźniki emisji 2015r'!$B$8,IF(D6="gaz ziemny",'Wskaźniki emisji 2015r'!$B$9,IF(D6="olej opałowy",'Wskaźniki emisji 2015r'!$B$10,IF(D6="biomasa",'Wskaźniki emisji 2015r'!$B$11,IF(D6="LPG",'Wskaźniki emisji 2015r'!$B$14,IF(D6="energia elektryczna",'Wskaźniki emisji 2015r'!$B$15,)))))) -> 13.296 | J6: =H6*I6 -> 94.790003 | K6: =IF(D6="węgiel kamienny",'Wskaźniki emisji 2015r'!$D$8,IF(D6="gaz ziemny",'Wskaźniki emisji 2015r'!$D$9,IF(D6="olej opałowy",'Wskaźniki emisji 2015r'!$D$10,IF(D6="biomasa",'Wskaźniki emisji 2015r'!$D$11,IF(D6="LPG",'Wskaźniki emisji 2015r'!$D$14,IF(D6="energia elektryczna",'Wskaźniki emisji 2015r'!$D$15,)))))) -> 0.20151625 | L6: =J6*K6 -> 19.101725 | M6: 10.587 | N6: =M6*'Wskaźniki emisji 2015r'!$D$15 -> 8.596644 | O6: =N6+L6 -> 27.698369
A7: 5 | B7: Muzeum Regionalne | C7: ul. Konopnickiej 189, 42-260 Kamienica Polska | D7: gaz ziemny | E7: 3242 | F7: Mg | G7: =IF(D7="gaz ziemny",'Wskaźniki emisji 2015r'!$B$22,IF(D7="olej opałowy",'Wskaźniki emisji 2015r'!$B$18,IF(D7="LPG",'Wskaźniki emisji 2015r'!$B$21,))) -> 0.716 | H7: =IF(G7=0,E7,E7*G7/1000) -> 2.321272 | I7: =IF(D7="węgiel kamienny",'Wskaźniki emisji 2015r'!$B$8,IF(D7="gaz ziemny",'Wskaźniki emisji 2015r'!$B$9,IF(D7="olej opałowy",'Wskaźniki emisji 2015r'!$B$10,IF(D7="biomasa",'Wskaźniki emisji 2015r'!$B$11,IF(D7="LPG",'Wskaźniki emisji 2015r'!$B$14,IF(D7="energia elektryczna",'Wskaźniki emisji 2015r'!$B$15,)))))) -> 13.296 | J7: =H7*I7 -> 30.863633 | K7: =IF(D7="węgiel kamienny",'Wskaźniki emisji 2015r'!$D$8,IF(D7="gaz ziemny",'Wskaźniki emisji 2015r'!$D$9,IF(D7="olej opałowy",'Wskaźniki emisji 2015r'!$D$10,IF(D7="biomasa",'Wskaźniki emisji 2015r'!$D$11,IF(D7="LPG",'Wskaźniki emisji 2015r'!$D$14,IF(D7="energia elektryczna",'Wskaźniki emisji 2015r'!$D$15,)))))) -> 0.20151625 | L7: =J7*K7 -> 6.2195233 | M7: 2.193 | N7: =M7*'Wskaźniki emisji 2015r'!$D$15 -> 1.780716 | O7: =N7+L7 -> 8.0002393
A8: 5 | B8: Szkoła Podstawowa im. H. Sienkiewicza w Zespole Szkół w kamienicy Polskiej | C8: ul.A. Ferensa 12A, 42-260 Kamienica Polska | D8: gaz ziemny | E8: 47128 | F8: Mg | G8: =IF(D8="gaz ziemny",'Wskaźniki emisji 2015r'!$B$22,IF(D8="olej opałowy",'Wskaźniki emisji 2015r'!$B$18,IF(D8="LPG",'Wskaźniki emisji 2015r'!$B$21,))) -> 0.716 | H8: =IF(G8=0,E8,E8*G8/1000) -> 33.743648 | I8: =IF(D8="węgiel kamienny",'Wskaźniki emisji 2015r'!$B$8,IF(D8="gaz ziemny",'Wskaźniki emisji 2015r'!$B$9,IF(D8="olej opałowy",'Wskaźniki emisji 2015r'!$B$10,IF(D8="biomasa",'Wskaźniki emisji 2015r'!$B$11,IF(D8="LPG",'Wskaźniki emisji 2015r'!$B$14,IF(D8="energia elektryczna",'Wskaźniki emisji 2015r'!$B$15,)))))) -> 13.296 | J8: =H8*I8 -> 448.65554 | K8: =IF(D8="węgiel kamienny",'Wskaźniki emisji 2015r'!$D$8,IF(D8="gaz ziemny",'Wskaźniki emisji 2015r'!$D$9,IF(D8="olej opałowy",'Wskaźniki emisji 2015r'!$D$10,IF(D8="biomasa",'Wskaźniki emisji 2015r'!$D$11,IF(D8="LPG",'Wskaźniki emisji 2015r'!$D$14,IF(D8="energia elektryczna",'Wskaźniki emisji 2015r'!$D$15,)))))) -> 0.20151625 | L8: =J8*K8 -> 90.411381 | M8: 75.403 | N8: =M8*'Wskaźniki emisji 2015r'!$D$15 -> 61.227236 | O8: =N8+L8 -> 151.63862
A9: 6 | B9: Szkoła Podstawowa | C9: ul. Konopnickiej 226, 42-260 Kamienica Polska | D9: gaz ziemny | E9: ='Obiekty publiczne 2010r'!E9 -> 2000 | F9: Mg | G9: =IF(D9="gaz ziemny",'Wskaźniki emisji 2015r'!$B$22,IF(D9="olej opałowy",'Wskaźniki emisji 2015r'!$B$18,IF(D9="LPG",'Wskaźniki emisji 2015r'!$B$21,))) -> 0.716 | H9: =IF(G9=0,E9,E9*G9/1000) -> 1.432 | I9: =IF(D9="węgiel kamienny",'Wskaźniki emisji 2015r'!$B$8,IF(D9="gaz ziemny",'Wskaźniki emisji 2015r'!$B$9,IF(D9="olej opałowy",'Wskaźniki emisji 2015r'!$B$10,IF(D9="biomasa",'Wskaźniki emisji 2015r'!$B$11,IF(D9="LPG",'Wskaźniki emisji 2015r'!$B$14,IF(D9="energia elektryczna",'Wskaźniki emisji 2015r'!$B$15,)))))) -> 13.296 | J9: =H9*I9 -> 19.039872 | K9: =IF(D9="węgiel kamienny",'Wskaźniki emisji 2015r'!$D$8,IF(D9="gaz ziemny",'Wskaźniki emisji 2015r'!$D$9,IF(D9="olej opałowy",'Wskaźniki emisji 2015r'!$D$10,IF(D9="biomasa",'Wskaźniki emisji 2015r'!$D$11,IF(D9="LPG",'Wskaźniki emisji 2015r'!$D$14,IF(D9="energia elektryczna",'Wskaźniki emisji 2015r'!$D$15,)))))) -> 0.20151625 | L9: =J9*K9 -> 3.8368435 | M9: 4.8 | N9: =M9*'Wskaźniki emisji 2015r'!$D$15 -> 3.8976 | O9: =N9+L9 -> 7.7344435
A10: 7 | B10: Przedszkole | C10: ul. Konopnickiej 11a, 42-260 Kamienica Polska | D10: gaz ziemny | E10: ='Obiekty publiczne 2010r'!E10 -> 1800 | F10: Mg | G10: =IF(D10="gaz ziemny",'Wskaźniki emisji 2015r'!$B$22,IF(D10="olej opałowy",'Wskaźniki emisji 2015r'!$B$18,IF(D10="LPG",'Wskaźniki emisji 2015r'!$B$21,))) -> 0.716 | H10: =IF(G10=0,E10,E10*G10/1000) -> 1.2888 | I10: =IF(D10="węgiel kamienny",'Wskaźniki emisji 2015r'!$B$8,IF(D10="gaz ziemny",'Wskaźniki emisji 2015r'!$B$9,IF(D10="olej opałowy",'Wskaźniki emisji 2015r'!$B$10,IF(D10="biomasa",'Wskaźniki emisji 2015r'!$B$11,IF(D10="LPG",'Wskaźniki emisji 2015r'!$B$14,IF(D10="energia elektryczna",'Wskaźniki emisji 2015r'!$B$15,)))))) -> 13.296 | J10: =H10*I10 -> 17.135885 | K10: =IF(D10="węgiel kamienny",'Wskaźniki emisji 2015r'!$D$8,IF(D10="gaz ziemny",'Wskaźniki emisji 2015r'!$D$9,IF(D10="olej opałowy",'Wskaźniki emisji 2015r'!$D$10,IF(D10="biomasa",'Wskaźniki emisji 2015r'!$D$11,IF(D10="LPG",'Wskaźniki emisji 2015r'!$D$14,IF(D10="energia elektryczna",'Wskaźniki emisji 2015r'!$D$15,)))))) -> 0.20151625 | L10: =J10*K10 -> 3.4531592 | M10: =0.6+4.8 -> 5.4 | N10: =M10*'Wskaźniki emisji 2015r'!$D$15 -> 4.3848 | O10: =N10+L10 -> 7.8379592
A11: 8 | B11: Przedszkole | C11: ul. Słoneczna 186, Rudnik Wielki | D11: gaz ziemny | E11: ='Obiekty publiczne 2010r'!E11 -> 1800 | F11: Mg | G11: =IF(D11="gaz ziemny",'Wskaźniki emisji 2015r'!$B$22,IF(D11="olej opałowy",'Wskaźniki emisji 2015r'!$B$18,IF(D11="LPG",'Wskaźniki emisji 2015r'!$B$21,))) -> 0.716 | H11: =IF(G11=0,E11,E11*G11/1000) -> 1.2888 | I11: =IF(D11="węgiel kamienny",'Wskaźniki emisji 2015r'!$B$8,IF(D11="gaz ziemny",'Wskaźniki emisji 2015r'!$B$9,IF(D11="olej opałowy",'Wskaźniki emisji 2015r'!$B$10,IF(D11="biomasa",'Wskaźniki emisji 2015r'!$B$11,IF(D11="LPG",'Wskaźniki emisji 2015r'!$B$14,IF(D11="energia elektryczna",'Wskaźniki emisji 2015r'!$B$15,)))))) -> 13.296 | J11: =H11*I11 -> 17.135885 | K11: =IF(D11="węgiel kamienny",'Wskaźniki emisji 2015r'!$D$8,IF(D11="gaz ziemny",'Wskaźniki emisji 2015r'!$D$9,IF(D11="olej opałowy",'Wskaźniki emisji 2015r'!$D$10,IF(D11="biomasa",'Wskaźniki emisji 2015r'!$D$11,IF(D11="LPG",'Wskaźniki emisji 2015r'!$D$14,IF(D11="energia elektryczna",'Wskaźniki emisji 2015r'!$D$15,)))))) -> 0.20151625 | L11: =J11*K11 -> 3.4531592 | M11: 10.8 | N11: =M11*'Wskaźniki emisji 2015r'!$D$15 -> 8.7696 | O11: =N11+L11 -> 12.222759
A12: 9 | B12: Przedszkole | C12: ul. Zawisna 69 | D12: gaz ziemny | E12: ='Obiekty publiczne 2010r'!E12 -> 1800 | F12: Mg | G12: =IF(D12="gaz ziemny",'Wskaźniki emisji 2015r'!$B$22,IF(D12="olej opałowy",'Wskaźniki emisji 2015r'!$B$18,IF(D12="LPG",'Wskaźniki emisji 2015r'!$B$21,))) -> 0.716 | H12: =IF(G12=0,E12,E12*G12/1000) -> 1.2888 | I12: =IF(D12="węgiel kamienny",'Wskaźniki emisji 2015r'!$B$8,IF(D12="gaz ziemny",'Wskaźniki emisji 2015r'!$B$9,IF(D12="olej opałowy",'Wskaźniki emisji 2015r'!$B$10,IF(D12="biomasa",'Wskaźniki emisji 2015r'!$B$11,IF(D12="LPG",'Wskaźniki emisji 2015r'!$B$14,IF(D12="energia elektryczna",'Wskaźniki emisji 2015r'!$B$15,)))))) -> 13.296 | J12: =H12*I12 -> 17.135885 | K12: =IF(D12="węgiel kamienny",'Wskaźniki emisji 2015r'!$D$8,IF(D12="gaz ziemny",'Wskaźniki emisji 2015r'!$D$9,IF(D12="olej opałowy",'Wskaźniki emisji 2015r'!$D$10,IF(D12="biomasa",'Wskaźniki emisji 2015r'!$D$11,IF(D12="LPG",'Wskaźniki emisji 2015r'!$D$14,IF(D12="energia elektryczna",'Wskaźniki emisji 2015r'!$D$15,)))))) -> 0.20151625 | L12: =J12*K12 -> 3.4531592 | M12: 2.4 | N12: =M12*'Wskaźniki emisji 2015r'!$D$15 -> 1.9488 | O12: =N12+L12 -> 5.4019592

Sheet Podsumowanie- Obiekty publiczne
A1: Bilans energetyczny w sektorze Obiektów Publicznych:
A2: Obiekty publiczne | B2: 2010 rok | C2: Zużycie energii
C3: MWh
C4: Węgiel kamienny | D4: Gaz ziemny | E4: Olej opałowy | F4: Drewno opałowe | G4: Energia elektryczna | H4: SUMA
C5: =SUMIF('Obiekty publiczne 2010r'!$D$3:$D$12,"węgiel kamienny",'Obiekty publiczne 2010r'!$J$3:$J$12) -> 0 | D5: =SUMIF('Obiekty publiczne 2010r'!$D$3:$D$12,"gaz ziemny",'Obiekty publiczne 2010r'!$J$3:$J$12) -> 1149.0372 | E5: =SUMIF('Obiekty publiczne 2010r'!$D$3:$D$12,"olej opałowy",'Obiekty publiczne 2010r'!$J$3:$J$12) -> 0 | F5: =SUMIF('Obiekty publiczne 2010r'!$D$3:$D$12,"drewno opałowe",'Obiekty publiczne 2010r'!$J$3:$J$12) -> 0 | G5: =SUM('Obiekty publiczne 2010r'!M3:M12) -> 176.952 | H5: =C5+D5+E5+G5+F5 -> 1325.9892
B6: 2015 rok | C6: Zużycie energii
C7: MWh
C8: Węgiel kamienny | D8: Gaz ziemny | E8: Olej opałowy | F8: Drewno opałowe | G8: Energia elektryczna | H8: SUMA
C9: =SUMIF('Obiekty publiczne 2015r'!$D$3:$D$12,"węgiel kamienny",'Obiekty publiczne 2015r'!$J$3:$J$12) -> 0 | D9: =SUMIF('Obiekty publiczne 2015r'!$D$3:$D$12,"gaz ziemny",'Obiekty publiczne 2015r'!$J$3:$J$12) -> 987.01744 | E9: =SUMIF('Obiekty publiczne 2015r'!$D$3:$D$12,"olej opałowy",'Obiekty publiczne 2015r'!$J$3:$J$12) -> 0 | F9: =SUMIF('Obiekty publiczne 2015r'!$D$3:$D$12,"drewno opałowe",'Obiekty publiczne 2015r'!$J$3:$J$12) -> 0 | G9: =SUM('Obiekty publiczne 2015r'!M3:M12) -> 164.243 | H9: =C9+D9+E9+G9+F9 -> 1151.2604
B10: =B2 -> 2010 rok | C10: Emisja CO2
C11: Mg
C12: =C4 -> Węgiel kamienny | D12: =D4 -> Gaz ziemny | E12: =E4 -> Olej opałowy | F12: =F4 -> Drewno opałowe | G12: =G4 -> Energia elektryczna | H12: SUMA
C13: =C5*'Wskaźniki emisji 2010r'!D8 -> 0 | D13: =D5*'Wskaźniki emisji 2010r'!D9 -> 282.5518 | E13: =E5*'Wskaźniki emisji 2010r'!D10 -> 0 | F13: =F5*'Wskaźniki emisji 2010r'!D11 -> 0 | G13: =G5*'Wskaźniki emisji 2010r'!D15 -> 143.68502 | H13: =SUM(C13:G13) -> 426.23682
B14: =B6 -> 2015 rok | C14: Emisja CO2 | K14: =60/#REF! -> #REF!
C15: Mg
C16: =C8 -> Węgiel kamienny | D16: =D8 -> Gaz ziemny | E16: =E8 -> Olej opałowy | F16: =F8 -> Drewno opałowe | G16: =G8 -> Energia elektryczna | H16: SUMA
C17: =C9*'Wskaźniki emisji 2015r'!D8 -> 0 | D17: =D9*'Wskaźniki emisji 2015r'!D9 -> 198.90005 | E17: =E9*'Wskaźniki emisji 2015r'!D10 -> 0 | F17: =F9*'Wskaźniki emisji 2015r'!D15 -> 0 | G17: =G9*'Wskaźniki emisji 2015r'!D15 -> 133.36532 | H17: =SUM(C17:G17) -> 332.26537

Sheet Transport- rok bazowy 
A1: Bilans energetyczny w sektorze Transportu Lokalnego: | M1: Rodzaj pojazdu | N1: Rodzaj paliwa
N2: Benzyna | O2: Olej napędowy | P2: LPG | Q2: Razem
M3: Samochody osobowe | N3: ='Prognoza transport lokalny'!C3 -> 1021.9666 | O3: ='Prognoza transport lokalny'!D3 -> 349.39347 | P3: ='Prognoza transport lokalny'!E3 -> 211.41322 | Q3: =SUM(N3:P3) -> 1582.7733 | R3: =Q3/R$8 -> 0.7526197
M4: Motocykle | N4: ='Prognoza transport lokalny'!C4 -> 161.13812 | O4: ='Prognoza transport lokalny'!D4 -> 1.3937024 | P4: ='Prognoza transport lokalny'!E4 -> 8.43738 | Q4: =SUM(N4:P4) -> 170.9692 | R4: =Q4/R$8 -> 0.081297041
M5: Samochody ciężarowe | N5: ='Prognoza transport lokalny'!C5 -> 113.60921 | O5: ='Prognoza transport lokalny'!D5 -> 164.20786 | P5: ='Prognoza transport lokalny'!E5 -> 15.044702 | Q5: =SUM(N5:P5) -> 292.86177 | R5: =Q5/R$8 -> 0.1392578
M6: Autobusy | N6: ='Prognoza transport lokalny'!C6 -> 2.4426729 | O6: ='Prognoza transport lokalny'!D6 -> 45.337885 | P6: ='Prognoza transport lokalny'!E6 -> 0.0989569 | Q6: =SUM(N6:P6) -> 47.879515 | R6: =Q6/R$8 -> 0.022767041
M7: Ciągniki rolnicze | N7: ='Prognoza transport lokalny'!C7 -> 0.15421066 | O7: ='Prognoza transport lokalny'!D7 -> 8.3506131 | P7: ='Prognoza transport lokalny'!E7 -> 0.030102767 | Q7: =SUM(N7:P7) -> 8.5349265 | R7: =Q7/R$8 -> 0.0040584168
R8: =Q6+Q5+Q4+Q3+Q7 -> 2103.0187
M9: Rodzaj pojazdu | N9: Rodzaj paliwa
N10: Benzyna | O10: Olej napędowy | P10: LPG | Q10: Razem
M11: Samochody osobowe | N11: =N3/Q3 -> 0.64568098 | O11: =O3/Q3 -> 0.22074764 | P11: =P3/Q3 -> 0.13357138 | Q11: =N11+O11+P11 -> 1
M12: Motocykle | N12: =N4/Q4 -> 0.94249793 | O12: =O4/Q4 -> 0.0081517747 | P12: =P4/Q4 -> 0.049350292 | Q12: =N12+O12+P12 -> 1
M13: Samochody ciężarowe | N13: =N5/Q5 -> 0.38792776 | O13: =O5/Q5 -> 0.5607009 | P13: =P5/Q5 -> 0.051371341 | Q13: =N13+O13+P13 -> 1
M14: Autobusy | N14: =N6/Q6 -> 0.051017078 | O14: =O6/Q6 -> 0.94691613 | P14: =P6/Q6 -> 0.0020667899 | Q14: =N14+O14+P14 -> 1
M15: Ciągniki rolnicze | N15: =N7/Q7 -> 0.018068189 | O15: =O7/Q7 -> 0.9784048 | P15: =P7/Q7 -> 0.0035270095 | Q15: =N15+O15+P15 -> 1
M17: Rodzaj drogi | N17: Długość [km]
M18: Wojewódzka | N18: 2.2 | O18: UG
M19: Powiatowa | N19: 11.5 | O19: UG
M20: Gminna | N20: 37 | O20: UG
M21: Krajowe | N21: 6.4 | O21: UG
N22: =N20/(N18+N19+N20+N21) -> 0.64798599
M24: Średnia liczba pokonywanych kilometrów przez ankietowanych: | Q24: =SUM('Obiekty prywatne'!N3:N133)*12 -> 1081200 | R24: km/rok
M25: Średnia liczba pokonywanych kilometrów przez mieszkańców: | Q25: =Q24*(Q3+Q4+Q5+Q6+Q7)/Q26 -> 21655084 | R25: km/rok/gminę
M26: Liczba pojazdów poddanych ankiecie: | Q26: =SUM('Obiekty prywatne'!L3:L133) -> 105
A33: TRANSPORT LOKALNY-2010r. | B33: Zastosowane paliwo | C33: Samochody osobowe | D33: Motocykle | E33: Samochody Ciężarowe | F33: Autobusy | G33: Ciągniki rolnicze | H33: Suma | N33: Mg/l | O33: MWh/l
C34: Liczba przejechanych kilometrów (mln km) | M34: Benzyna | N34: ='Wskaźniki emisji 2010r'!B20/1000 -> 0.0007 | O34: =N34*'Wskaźniki emisji 2015r'!B13 -> 0.00868672
C35: Razem | H35: =Q25/1000000 -> 21.655084 | M35: Olej napędowy | N35: ='Wskaźniki emisji 2010r'!B19/1000 -> 0.00083 | O35: =N35*'Wskaźniki emisji 2015r'!B12 -> 0.0099620003
C36: Rozkład pojazdów (%ogólnej liczby przejechanych kilometrów) ustalonych na etapie gromadzenia danych | M36: LPG | N36: ='Wskaźniki emisji 2010r'!B21/1000 -> 0.0006 | O36: =N36*'Wskaźniki emisji 2015r'!B14 -> 0.007862922
B37: Ogółem | C37: =R3 -> 0.7526197 | D37: =R4 -> 0.081297041 | E37: =R5 -> 0.1392578 | F37: =R6 -> 0.022767041 | G37: =R7 -> 0.0040584168 | H37: =SUM(C37:G37) -> 1
B38: Benzyna | C38: =C37*N11 -> 0.48595223 | D38: =D37*N12 -> 0.076622293 | E38: =E37*N13 -> 0.054021967 | F38: =F37*N14 -> 0.0011615079 | G38: =G37*N15 -> 7.3328241e-05 | H38: =SUM(C38:G38) -> 0.61783132
B39: Olej napędowy | C39: =C37*O11 -> 0.16613902 | D39: =D37*O12 -> 0.00066271516 | E39: =E37*O13 -> 0.078081976 | F39: =F37*O14 -> 0.021558479 | G39: =G37*O15 -> 0.0039707745 | H39: =SUM(C39:G39) -> 0.27041296 | M39: Udziały w uzyciu rodzaju paliwa | N39: Osobowy | O39: Cezarowy | P39: motocykl | Q39: Autobus
B40: LPG | C40: =C37*P11 -> 0.10052845 | D40: =D37*P12 -> 0.0040120327 | E40: =E37*P13 -> 0.0071538601 | F40: =F37*P14 -> 4.7054692e-05 | G40: =G37*P15 -> 1.4314074e-05 | H40: =SUM(C40:G40) -> 0.11175571 | M40: Benzyna | N40: =N11/Q11 -> 0.64568098 | O40: =N13/Q13 -> 0.38792776
C41: Średnie zużycie paliwa (l/km) ustalone na etapie gromadzenia danych | M41: Olej napędowy | N41: =O11/Q11 -> 0.22074764 | O41: =O13/Q13 -> 0.5607009
B42: Benzyna | C42: 0.08 | D42: 0.04 | E42: 0.13 | M42: LPG | N42: =P11/Q11 -> 0.13357138
B43: Olej napędowy | C43: 0.071 | E43: 0.298 | F43: 0.292
B44: LPG | C44: 0.102 | N44: =C53 -> Wyliczone zużycie paliwa (MWh)
C45: Wyliczona liczba przejechanych kilometrów (mln km) | M45: =B50 -> Benzyna | N45: =H54 -> 9210.685
B46: Benzyna | C46: =C38*$H$35 -> 10.523336 | D46: =D38*$H$35 -> 1.6592622 | E46: =E38*$H$35 -> 1.1698503 | F46: =F38*$H$35 -> 0.025152552 | H46: =SUM(C46:F46) -> 13.377601 | M46: =B51 -> Olej napędowy | N46: =H55 -> 8922.3735
B47: Olej napędowy | C47: =C39*$H$35 -> 3.5977545 | D47: =D39*$H$35 -> 0.014351153 | E47: =E39*$H$35 -> 1.6908718 | F47: =F39*$H$35 -> 0.46685068 | H47: =SUM(C47:F47) -> 5.7698281 | M47: =B52 -> LPG | N47: =H56 -> 1745.9549
B48: LPG | C48: =C40*$H$35 -> 2.1769521 | D48: =D40*$H$35 -> 0.086880907 | E48: =E40*$H$35 -> 0.15491744 | F48: =F40*$H$35 -> 0.0010189733 | H48: =SUM(C48:F48) -> 2.4197694
...

Sheet Transport- rok kontrolny
M1: Rodzaj pojazdu | N1: Rodzaj paliwa
N2: Benzyna | O2: Olej napędowy | P2: LPG | Q2: Razem
M3: Samochody osobowe | N3: ='Prognoza transport lokalny'!C33 -> 1448.9081 | O3: ='Prognoza transport lokalny'!D33 -> 495.3577 | P3: ='Prognoza transport lokalny'!E33 -> 299.73417 | Q3: =SUM(N3:P3) -> 2244 | R3: =Q3/R$8 -> 0.77889622
M4: Motocykle | N4: ='Prognoza transport lokalny'!C34 -> 210.17704 | O4: ='Prognoza transport lokalny'!D34 -> 1.8178458 | P4: ='Prognoza transport lokalny'!E34 -> 11.005115 | Q4: =SUM(N4:P4) -> 223 | R4: =Q4/R$8 -> 0.077403679
M5: Samochody ciężarowe | N5: ='Prognoza transport lokalny'!C35 -> 132.67129 | O5: ='Prognoza transport lokalny'!D35 -> 191.75971 | P5: ='Prognoza transport lokalny'!E35 -> 17.568999 | Q5: =SUM(N5:P5) -> 342 | R5: =Q5/R$8 -> 0.11870878
M6: Autobusy | N6: ='Prognoza transport lokalny'!C36 -> 2.8059393 | O6: ='Prognoza transport lokalny'!D36 -> 52.080387 | P6: ='Prognoza transport lokalny'!E36 -> 0.11367345 | Q6: =SUM(N6:P6) -> 55 | R6: =Q6/R$8 -> 0.019090594
M7: Ciągniki rolnicze | N7: ='Prognoza transport lokalny'!C37 -> 0.30715921 | O7: ='Prognoza transport lokalny'!D37 -> 16.632882 | P7: ='Prognoza transport lokalny'!E37 -> 0.059959161 | Q7: =SUM(N7:P7) -> 17 | R7: =Q7/R$8 -> 0.0059007289
R8: =Q6+Q5+Q4+Q3+Q7 -> 2881
M9: Rodzaj pojazdu | N9: Rodzaj paliwa
N10: Benzyna | O10: Olej napędowy | P10: LPG | Q10: Razem
M11: Samochody osobowe | N11: =N3/Q3 -> 0.64568098 | O11: =O3/Q3 -> 0.22074764 | P11: =P3/Q3 -> 0.13357138 | Q11: =N11+O11+P11 -> 1
M12: Motocykle | N12: =N4/Q4 -> 0.94249793 | O12: =O4/Q4 -> 0.0081517747 | P12: =P4/Q4 -> 0.049350292 | Q12: =N12+O12+P12 -> 1
M13: Samochody ciężarowe | N13: =N5/Q5 -> 0.38792776 | O13: =O5/Q5 -> 0.5607009 | P13: =P5/Q5 -> 0.051371341 | Q13: =N13+O13+P13 -> 1
M14: Autobusy | N14: =N6/Q6 -> 0.051017078 | O14: =O6/Q6 -> 0.94691613 | P14: =P6/Q6 -> 0.0020667899 | Q14: =N14+O14+P14 -> 1
M15: Ciągniki rolnicze | N15: =N7/Q7 -> 0.018068189 | O15: =O7/Q7 -> 0.9784048 | P15: =P7/Q7 -> 0.0035270095 | Q15: =N15+O15+P15 -> 1
M17: Rodzaj drogi | N17: Długość [km]
M18: Wojewódzka | N18: 0 | O18: UG
M19: Powiatowa | N19: 34.13 | O19: UG
M20: Gminna | N20: 111 | O20: UG
M21: Krajowe | N21: 14.2 | O21: UG
N22: =N20/(N18+N19+N20+N21) -> 0.69666729
A33: TRANSPORT LOKALNY-2015r. | B33: Zastosowane paliwo | C33: Samochody osobowe | D33: Motocykle | E33: Samochody Ciężarowe | F33: Autobusy | G33: Ciągniki rolnicze | H33: Suma | N33: Mg/l | O33: MWh/l
C34: Liczba przejechanych kilometrów (mln km) | M34: Benzyna | N34: ='Wskaźniki emisji 2010r'!B20/1000 -> 0.0007 | O34: =N34*'Wskaźniki emisji 2015r'!B13 -> 0.00868672
C35: Razem | H35: ='Transport- rok bazowy '!H35*'Prognoza transport lokalny'!F38/'Prognoza transport lokalny'!F32 -> 23.072625 | M35: Olej napędowy | N35: ='Wskaźniki emisji 2010r'!B19/1000 -> 0.00083 | O35: =N35*'Wskaźniki emisji 2015r'!B12 -> 0.0099620003
C36: Rozkład pojazdów (%ogólnej liczby przejechanych kilometrów) ustalonych na etapie gromadzenia danych | M36: LPG | N36: ='Wskaźniki emisji 2010r'!B21/1000 -> 0.0006 | O36: =N36*'Wskaźniki emisji 2015r'!B14 -> 0.007862922
B37: Ogółem | C37: =R3 -> 0.77889622 | D37: =R4 -> 0.077403679 | E37: =R5 -> 0.11870878 | F37: =R6 -> 0.019090594 | G37: =R7 -> 0.0059007289 | H37: =SUM(C37:G37) -> 1
B38: Benzyna | C38: =C37*N11 -> 0.50291848 | D38: =D37*N12 -> 0.072952808 | E38: =E37*N13 -> 0.046050431 | F38: =F37*N14 -> 0.0009739463 | G38: =G37*N15 -> 0.00010661548 | H38: =SUM(C38:G38) -> 0.62300228
B39: Olej napędowy | C39: =C37*O11 -> 0.1719395 | D39: =D37*O12 -> 0.00063097736 | E39: =E37*O13 -> 0.066560121 | F39: =F37*O14 -> 0.018077191 | G39: =G37*O15 -> 0.0057733015 | H39: =SUM(C39:G39) -> 0.26298109 | M39: Udziały w uzyciu rodzaju paliwa | N39: Osobowy | O39: Cezarowy | P39: motocykl | Q39: Autobus
B40: LPG | C40: =C37*P11 -> 0.10403824 | D40: =D37*P12 -> 0.0038198942 | E40: =E37*P13 -> 0.0060982293 | F40: =F37*P14 -> 3.9456247e-05 | G40: =G37*P15 -> 2.0811927e-05 | H40: =SUM(C40:G40) -> 0.11401663 | M40: Benzyna | N40: =N11/Q11 -> 0.64568098 | O40: =N13/Q13 -> 0.38792776
C41: Średnie zużycie paliwa (l/km) ustalone na etapie gromadzenia danych | M41: Olej napędowy | N41: =O11/Q11 -> 0.22074764 | O41: =O13/Q13 -> 0.5607009
B42: Benzyna | C42: 0.08 | D42: 0.04 | E42: 0.13 | M42: LPG | N42: =P11/Q11 -> 0.13357138
B43: Olej napędowy | C43: 0.071 | E43: 0.298 | F43: 0.292
B44: LPG | C44: 0.102 | N44: =C53 -> Wyliczone zużycie paliwa (MWh)
C45: Wyliczona liczba przejechanych kilometrów (mln km) | M45: =B50 -> Benzyna | N45: =H54 -> 9848.5344
B46: Benzyna | C46: =C38*$H$35 -> 11.60365 | D46: =D38*$H$35 -> 1.6832128 | E46: =E38*$H$35 -> 1.0625043 | F46: =F38*$H$35 -> 0.022471498 | H46: =SUM(C46:F46) -> 14.371838 | M46: =B51 -> Olej napędowy | N46: =H55 -> 8578.2501
B47: Olej napędowy | C47: =C39*$H$35 -> 3.9670957 | D47: =D39*$H$35 -> 0.014558304 | E47: =E39*$H$35 -> 1.5357167 | F47: =F39*$H$35 -> 0.41708826 | H47: =SUM(C47:F47) -> 5.934459 | M47: =B52 -> LPG | N47: =H56 -> 1925.1925
B48: LPG | C48: =C40*$H$35 -> 2.4004354 | D48: =D40*$H$35 -> 0.088134988 | E48: =E40*$H$35 -> 0.14070216 | F48: =F40*$H$35 -> 0.0009103592 | H48: =SUM(C48:F48) -> 2.6301829
C49: Wyliczone zużycie paliwa (mln l)
B50: Benzyna | C50: =C42*C46 -> 0.92829197 | D50: =D42*D46 -> 0.067328512 | E50: =E42*E46 -> 0.13812557
B51: Olej napędowy | C51: =C43*C47 -> 0.28166379 | E51: =E43*E47 -> 0.45764359 | F51: =F43*F47 -> 0.12178977
...

Sheet Owietlenie uliczne
A1: Bilans energetyczny w sektorze Oświetlenia:
A2: Lp. | B2: Własność | C2: Rodzaj opraw | D2: Zainstalowana moc opraw | E2: Ilość opraw | F2: Czas świecenia | G2: Zużycie energii | H2: Emisji CO2
D3: W | E3: szt. | F3: h | G3: MWh | H3: Mg
A4: 1 | B4: TAURON Dystrybucja | C4: SGS lampy sodowe | D4: 70 | E4: 10 | F4: 4024 | G4: =D4*F4*E4/1000000 -> 2.8168 | H4: ='Wskaźniki emisji 2015r'!$D$15*G4 -> 2.2872416 | J4: =G4+G5 -> 159.7528 | M4: =D4*E4 -> 700
D5: 100 | E5: 390 | F5: 4024 | G5: =D5*F5*E5/1000000 -> 156.936 | H5: ='Wskaźniki emisji 2015r'!$D$15*G5 -> 127.43203 | M5: =D5*E5 -> 39000
D6: 150 | E6: 147 | F6: 4024 | G6: =D6*F6*E6/1000000 -> 88.7292 | H6: ='Wskaźniki emisji 2015r'!$D$15*G6 -> 72.04811 | J6: =G6+G7+G8+#REF! -> #REF! | M6: =D6*E6 -> 22050
D7: 250 | E7: 19 | F7: 4024 | G7: =D7*F7*E7/1000000 -> 19.114 | H7: ='Wskaźniki emisji 2015r'!$D$15*G7 -> 15.520568 | M7: =D7*E7 -> 4750
D8: 400 | E8: 8 | F8: 4024 | G8: =D8*F8*E8/1000000 -> 12.8768 | H8: ='Wskaźniki emisji 2015r'!$D$15*G8 -> 10.455962 | M8: =D8*E8 -> 3200
A9: Suma | E9: =SUM(E4:E8) -> 574 | G9: =SUM(G4:G8) -> 280.4728 | H9: =SUM(H4:H8) -> 227.74391 | M9: =SUM(M4:M8)/1000 -> 69.7
A10: OGÓŁEM: | E10: =E9 -> 574 | G10: =G9 -> 280.4728 | H10: =H9 -> 227.74391

Sheet Obiekty prywatne
A1: Lp. | B1: Miejscowość | C1: Ulica | D1: Nr domu | E1: Charakterystyka budynku | L1: Liczba samochodów w gospodarstwie | M1: Paliwo | N1: Średnia ilość pokonywanej trasy | O1: Przeprowadzone modernizacje do 2015 roku | P1: Planowana modernizacja do 2020 roku | Q1: Zużycie energii elektrycznej | S1: Wartość opałowa | T1: Zużycie paliwa | U1: Wkaźniki emisji | V1: Wielkość energii kotły | W1: Wielkość emisji kotły
E2: Budynek | F2: Rok budowy | G2: Powierzchnia ogrzewana [m2] | H2: Stosowne paliwo | I2: Zużycie paliwa | J2: Jednostka | K2: Sposób przygotowania cwu | L2: szt. | M2: typ | N2: km/m-c | Q2: kWh | R2: gęstoś | S2: MWh/t | T2: Mg | U2: t/MWh | V2: MWh | W2: Mg
A3: 1 | B3: Kamienica Polska | C3: Konopnickiej | E3: wolnostojący | F3: 1977 | G3: 90 | H3: węgiel kamienny | I3: 4.5 | J3: Mg | K3: kocioł | L3: 1 | M3: olej napędowy | N3: 300 | O3: termomodernizacja | P3: modernizacja kotłowni | Q3: 3000 | R3: =IF(H3="gaz ziemny",'Wskaźniki emisji 2015r'!$B$22,0) -> 0 | S3: =IF(H3="węgiel kamienny",'Wskaźniki emisji 2015r'!$B$8,IF(H3="gaz ziemny",'Wskaźniki emisji 2015r'!$B$9,IF(H3="drewno opałowe",'Wskaźniki emisji 2015r'!$B$11,IF(H3="olej opałowy",'Wskaźniki emisji 2015r'!$B$10,)))) -> 7.33773 | T3: =IF(R3=0,I3,I3*R3/1000) -> 4.5 | U3: =IF(H3="węgiel kamienny",'Wskaźniki emisji 2015r'!$D$8,IF(H3="gaz ziemny",'Wskaźniki emisji 2015r'!$D$9,IF(H3="olej opałowy",'Wskaźniki emisji 2015r'!$D$10,IF(H3="drewno opałowe",'Wskaźniki emisji 2015r'!$D$11,IF(H3="energia elektryczna",'Wskaźniki emisji 2015r'!$D$15))))) -> 0.33920578 | V3: =S3*T3 -> 33.019785 | W3: =V3*U3 -> 11.200502
O4: wymiana okien | S4: =IF(H4="węgiel kamienny",'Wskaźniki emisji 2015r'!$B$8,IF(H4="gaz ziemny",'Wskaźniki emisji 2015r'!$B$9,IF(H4="drewno opałowe",'Wskaźniki emisji 2015r'!$B$11,IF(H4="olej opałowy",'Wskaźniki emisji 2015r'!$B$10,)))) -> 0 | T4: =IF(R4=0,I4,I4*R4/1000) -> 0 | U4: =IF(H4="węgiel kamienny",'Wskaźniki emisji 2015r'!$D$8,IF(H4="gaz ziemny",'Wskaźniki emisji 2015r'!$D$9,IF(H4="olej opałowy",'Wskaźniki emisji 2015r'!$D$10,IF(H4="drewno opałowe",'Wskaźniki emisji 2015r'!$D$11,IF(H4="energia elektryczna",'Wskaźniki emisji 2015r'!$D$15))))) -> FALSE | V4: =S4*T4 -> 0 | W4: =V4*U4 -> 0
A5: 2 | B5: Kamienica Polska | C5: Konopnickiej | E5: wolnostojący | F5: 1939 | G5: 60 | H5: węgiel kamienny | I5: 7 | J5: Mg | K5: kocioł | L5: 1 | M5: benzyna | N5: 300 | O5: termomodernizacja | P5: ocieplenie stropu | Q5: 2400 | R5: =IF(H5="gaz ziemny",'Wskaźniki emisji 2015r'!$B$22,0) -> 0 | S5: =IF(H5="węgiel kamienny",'Wskaźniki emisji 2015r'!$B$8,IF(H5="gaz ziemny",'Wskaźniki emisji 2015r'!$B$9,IF(H5="drewno opałowe",'Wskaźniki emisji 2015r'!$B$11,IF(H5="olej opałowy",'Wskaźniki emisji 2015r'!$B$10,)))) -> 7.33773 | T5: =IF(R5=0,I5,I5*R5/1000) -> 7 | U5: =IF(H5="węgiel kamienny",'Wskaźniki emisji 2015r'!$D$8,IF(H5="gaz ziemny",'Wskaźniki emisji 2015r'!$D$9,IF(H5="olej opałowy",'Wskaźniki emisji 2015r'!$D$10,IF(H5="drewno opałowe",'Wskaźniki emisji 2015r'!$D$11,IF(H5="energia elektryczna",'Wskaźniki emisji 2015r'!$D$15))))) -> 0.33920578 | V5: =S5*T5 -> 51.36411 | W5: =V5*U5 -> 17.423003
O6: wymiana okien | S6: =IF(H6="węgiel kamienny",'Wskaźniki emisji 2015r'!$B$8,IF(H6="gaz ziemny",'Wskaźniki emisji 2015r'!$B$9,IF(H6="drewno opałowe",'Wskaźniki emisji 2015r'!$B$11,IF(H6="olej opałowy",'Wskaźniki emisji 2015r'!$B$10,)))) -> 0 | T6: =IF(R6=0,I6,I6*R6/1000) -> 0 | U6: =IF(H6="węgiel kamienny",'Wskaźniki emisji 2015r'!$D$8,IF(H6="gaz ziemny",'Wskaźniki emisji 2015r'!$D$9,IF(H6="olej opałowy",'Wskaźniki emisji 2015r'!$D$10,IF(H6="drewno opałowe",'Wskaźniki emisji 2015r'!$D$11,IF(H6="energia elektryczna",'Wskaźniki emisji 2015r'!$D$15))))) -> FALSE | V6: =S6*T6 -> 0 | W6: =V6*U6 -> 0
A7: 3 | B7: Kamienica Polska | C7: Kopalniania | E7: wolnostojący | F7: 2007 | G7: 130 | H7: gaz ziemny | J7: Mg | K7: kocioł | L7: 2 | M7: olej napędowy | N7: 1500 | R7: =IF(H7="gaz ziemny",'Wskaźniki emisji 2015r'!$B$22,0) -> 0.716 | S7: =IF(H7="węgiel kamienny",'Wskaźniki emisji 2015r'!$B$8,IF(H7="gaz ziemny",'Wskaźniki emisji 2015r'!$B$9,IF(H7="drewno opałowe",'Wskaźniki emisji 2015r'!$B$11,IF(H7="olej opałowy",'Wskaźniki emisji 2015r'!$B$10,)))) -> 13.296 | T7: =IF(R7=0,I7,I7*R7/1000) -> 0 | U7: =IF(H7="węgiel kamienny",'Wskaźniki emisji 2015r'!$D$8,IF(H7="gaz ziemny",'Wskaźniki emisji 2015r'!$D$9,IF(H7="olej opałowy",'Wskaźniki emisji 2015r'!$D$10,IF(H7="drewno opałowe",'Wskaźniki emisji 2015r'!$D$11,IF(H7="energia elektryczna",'Wskaźniki emisji 2015r'!$D$15))))) -> 0.20151625 | V7: =S7*T7 -> 0 | W7: =V7*U7 -> 0
A8: 4 | B8: Kamienica Polska | C8: Konopnickiej | E8: wolnostojący | F8: 1935 | G8: 70 | H8: gaz ziemny | J8: Mg | K8: kocioł | L8: 1 | M8: benzyna | O8: termomodernizacja | R8: =IF(H8="gaz ziemny",'Wskaźniki emisji 2015r'!$B$22,0) -> 0.716 | S8: =IF(H8="węgiel kamienny",'Wskaźniki emisji 2015r'!$B$8,IF(H8="gaz ziemny",'Wskaźniki emisji 2015r'!$B$9,IF(H8="drewno opałowe",'Wskaźniki emisji 2015r'!$B$11,IF(H8="olej opałowy",'Wskaźniki emisji 2015r'!$B$10,)))) -> 13.296 | T8: =IF(R8=0,I8,I8*R8/1000) -> 0 | U8: =IF(H8="węgiel kamienny",'Wskaźniki emisji 2015r'!$D$8,IF(H8="gaz ziemny",'Wskaźniki emisji 2015r'!$D$9,IF(H8="olej opałowy",'Wskaźniki emisji 2015r'!$D$10,IF(H8="drewno opałowe",'Wskaźniki emisji 2015r'!$D$11,IF(H8="energia elektryczna",'Wskaźniki emisji 2015r'!$D$15))))) -> 0.20151625 | V8: =S8*T8 -> 0 | W8: =V8*U8 -> 0
O9: wymiana okien | S9: =IF(H9="węgiel kamienny",'Wskaźniki emisji 2015r'!$B$8,IF(H9="gaz ziemny",'Wskaźniki emisji 2015r'!$B$9,IF(H9="drewno opałowe",'Wskaźniki emisji 2015r'!$B$11,IF(H9="olej opałowy",'Wskaźniki emisji 2015r'!$B$10,)))) -> 0 | T9: =IF(R9=0,I9,I9*R9/1000) -> 0 | U9: =IF(H9="węgiel kamienny",'Wskaźniki emisji 2015r'!$D$8,IF(H9="gaz ziemny",'Wskaźniki emisji 2015r'!$D$9,IF(H9="olej opałowy",'Wskaźniki emisji 2015r'!$D$10,IF(H9="drewno opałowe",'Wskaźniki emisji 2015r'!$D$11,IF(H9="energia elektryczna",'Wskaźniki emisji 2015r'!$D$15))))) -> FALSE | V9: =S9*T9 -> 0 | W9: =V9*U9 -> 0
A10: 5 | B10: Zawada | C10: Botaniczna | E10: bliźniak | F10: 1983 | G10: 220 | H10: węgiel kamienny | I10: 7 | J10: Mg | K10: kocioł | L10: 1 | M10: benzyna | N10: 400 | O10: wymiana okien | R10: =IF(H10="gaz ziemny",'Wskaźniki emisji 2015r'!$B$22,0) -> 0 | S10: =IF(H10="węgiel kamienny",'Wskaźniki emisji 2015r'!$B$8,IF(H10="gaz ziemny",'Wskaźniki emisji 2015r'!$B$9,IF(H10="drewno opałowe",'Wskaźniki emisji 2015r'!$B$11,IF(H10="olej opałowy",'Wskaźniki emisji 2015r'!$B$10,)))) -> 7.33773 | T10: =IF(R10=0,I10,I10*R10/1000) -> 7 | U10: =IF(H10="węgiel kamienny",'Wskaźniki emisji 2015r'!$D$8,IF(H10="gaz ziemny",'Wskaźniki emisji 2015r'!$D$9,IF(H10="olej opałowy",'Wskaźniki emisji 2015r'!$D$10,IF(H10="drewno opałowe",'Wskaźniki emisji 2015r'!$D$11,IF(H10="energia elektryczna",'Wskaźniki emisji 2015r'!$D$15))))) -> 0.33920578 | V10: =S10*T10 -> 51.36411 | W10: =V10*U10 -> 17.423003
O11: ocieplenie stropu | S11: =IF(H11="węgiel kamienny",'Wskaźniki emisji 2015r'!$B$8,IF(H11="gaz ziemny",'Wskaźniki emisji 2015r'!$B$9,IF(H11="drewno opałowe",'Wskaźniki emisji 2015r'!$B$11,IF(H11="olej opałowy",'Wskaźniki emisji 2015r'!$B$10,)))) -> 0 | T11: =IF(R11=0,I11,I11*R11/1000) -> 0 | U11: =IF(H11="węgiel kamienny",'Wskaźniki emisji 2015r'!$D$8,IF(H11="gaz ziemny",'Wskaźniki emisji 2015r'!$D$9,IF(H11="olej opałowy",'Wskaźniki emisji 2015r'!$D$10,IF(H11="drewno opałowe",'Wskaźniki emisji 2015r'!$D$11,IF(H11="energia elektryczna",'Wskaźniki emisji 2015r'!$D$15))))) -> FALSE | V11: =S11*T11 -> 0 | W11: =V11*U11 -> 0
A12: 6 | B12: Zawada | C12: Długa | E12: bd | F12: 1950 | G12: 150 | H12: węgiel kamienny | I12: 10 | J12: Mg | K12: kocioł | L12: 1 | M12: benzyna | N12: 400 | O12: wymiana okien | P12: termomodernizacja | Q12: 2000 | R12: =IF(H12="gaz ziemny",'Wskaźniki emisji 2015r'!$B$22,0) -> 0 | S12: =IF(H12="węgiel kamienny",'Wskaźniki emisji 2015r'!$B$8,IF(H12="gaz ziemny",'Wskaźniki emisji 2015r'!$B$9,IF(H12="drewno opałowe",'Wskaźniki emisji 2015r'!$B$11,IF(H12="olej opałowy",'Wskaźniki emisji 2015r'!$B$10,)))) -> 7.33773 | T12: =IF(R12=0,I12,I12*R12/1000) -> 10 | U12: =IF(H12="węgiel kamienny",'Wskaźniki emisji 2015r'!$D$8,IF(H12="gaz ziemny",'Wskaźniki emisji 2015r'!$D$9,IF(H12="olej opałowy",'Wskaźniki emisji 2015r'!$D$10,IF(H12="drewno opałowe",'Wskaźniki emisji 2015r'!$D$11,IF(H12="energia elektryczna",'Wskaźniki emisji 2015r'!$D$15))))) -> 0.33920578 | V12: =S12*T12 -> 73.3773 | W12: =V12*U12 -> 24.890004
A13: 7 | B13: Kamienica Polska | C13: bd | E13: wolnostojący | F13: 1985 | G13: 190 | H13: węgiel kamienny | I13: 10 | J13: Mg | K13: kocioł | L13: 1 | M13: olej napędowy | N13: 1000 | O13: wymiana okien | P13: termomodernizacja | Q13: 2400 | R13: =IF(H13="gaz ziemny",'Wskaźniki emisji 2015r'!$B$22,0) -> 0 | S13: =IF(H13="węgiel kamienny",'Wskaźniki emisji 2015r'!$B$8,IF(H13="gaz ziemny",'Wskaźniki emisji 2015r'!$B$9,IF(H13="drewno opałowe",'Wskaźniki emisji 2015r'!$B$11,IF(H13="olej opałowy",'Wskaźniki emisji 2015r'!$B$10,)))) -> 7.33773 | T13: =IF(R13=0,I13,I13*R13/1000) -> 10 | U13: =IF(H13="węgiel kamienny",'Wskaźniki emisji 2015r'!$D$8,IF(H13="gaz ziemny",'Wskaźniki emisji 2015r'!$D$9,IF(H13="olej opałowy",'Wskaźniki emisji 2015r'!$D$10,IF(H13="drewno opałowe",'Wskaźniki emisji 2015r'!$D$11,IF(H13="energia elektryczna",'Wskaźniki emisji 2015r'!$D$15))))) -> 0.33920578 | V13: =S13*T13 -> 73.3773 | W13: =V13*U13 -> 24.890004
O14: ocieplenie stropu | S14: =IF(H14="węgiel kamienny",'Wskaźniki emisji 2015r'!$B$8,IF(H14="gaz ziemny",'Wskaźniki emisji 2015r'!$B$9,IF(H14="drewno opałowe",'Wskaźniki emisji 2015r'!$B$11,IF(H14="olej opałowy",'Wskaźniki emisji 2015r'!$B$10,)))) -> 0 | T14: =IF(R14=0,I14,I14*R14/1000) -> 0 | U14: =IF(H14="węgiel kamienny",'Wskaźniki emisji 2015r'!$D$8,IF(H14="gaz ziemny",'Wskaźniki emisji 2015r'!$D$9,IF(H14="olej opałowy",'Wskaźniki emisji 2015r'!$D$10,IF(H14="drewno opałowe",'Wskaźniki emisji 2015r'!$D$11,IF(H14="energia elektryczna",'Wskaźniki emisji 2015r'!$D$15))))) -> FALSE | V14: =S14*T14 -> 0 | W14: =V14*U14 -> 0
A15: 8 | B15: Zawisna | C15: bd | E15: bd | F15: 1983 | G15: 111 | H15: węgiel kamienny | I15: 8 | J15: Mg | K15: kocioł | L15: 2 | M15: olej napędowy | N15: 1800 | O15: termomodernizacja | P15: wymiana okien | R15: =IF(H15="gaz ziemny",'Wskaźniki emisji 2015r'!$B$22,0) -> 0 | S15: =IF(H15="węgiel kamienny",'Wskaźniki emisji 2015r'!$B$8,IF(H15="gaz ziemny",'Wskaźniki emisji 2015r'!$B$9,IF(H15="drewno opałowe",'Wskaźniki emisji 2015r'!$B$11,IF(H15="olej opałowy",'Wskaźniki emisji 2015r'!$B$10,)))) -> 7.33773 | T15: =IF(R15=0,I15,I15*R15/1000) -> 8 | U15: =IF(H15="węgiel kamienny",'Wskaźniki emisji 2015r'!$D$8,IF(H15="gaz ziemny",'Wskaźniki emisji 2015r'!$D$9,IF(H15="olej opałowy",'Wskaźniki emisji 2015r'!$D$10,IF(H15="drewno opałowe",'Wskaźniki emisji 2015r'!$D$11,IF(H15="energia elektryczna",'Wskaźniki emisji 2015r'!$D$15))))) -> 0.33920578 | V15: =S15*T15 -> 58.70184 | W15: =V15*U15 -> 19.912003
M16: benzyna | R16: =IF(H16="gaz ziemny",'Wskaźniki emisji 2015r'!$B$22,0) -> 0 | S16: =IF(H16="węgiel kamienny",'Wskaźniki emisji 2015r'!$B$8,IF(H16="gaz ziemny",'Wskaźniki emisji 2015r'!$B$9,IF(H16="drewno opałowe",'Wskaźniki emisji 2015r'!$B$11,IF(H16="olej opałowy",'Wskaźniki emisji 2015r'!$B$10,)))) -> 0 | T16: =IF(R16=0,I16,I16*R16/1000) -> 0 | U16: =IF(H16="węgiel kamienny",'Wskaźniki emisji 2015r'!$D$8,IF(H16="gaz ziemny",'Wskaźniki emisji 2015r'!$D$9,IF(H16="olej opałowy",'Wskaźniki emisji 2015r'!$D$10,IF(H16="drewno opałowe",'Wskaźniki emisji 2015r'!$D$11,IF(H16="energia elektryczna",'Wskaźniki emisji 2015r'!$D$15))))) -> FALSE | V16: =S16*T16 -> 0 | W16: =V16*U16 -> 0
A17: 9 | B17: Kamienica Polska | C17: Domagalska | E17: wolnostojący | F17: 1986 | G17: 140 | H17: węgiel kamienny | I17: 8 | J17: Mg | K17: kocioł | O17: termomodernizacja | R17: =IF(H17="gaz ziemny",'Wskaźniki emisji 2015r'!$B$22,0) -> 0 | S17: =IF(H17="węgiel kamienny",'Wskaźniki emisji 2015r'!$B$8,IF(H17="gaz ziemny",'Wskaźniki emisji 2015r'!$B$9,IF(H17="drewno opałowe",'Wskaźniki emisji 2015r'!$B$11,IF(H17="olej opałowy",'Wskaźniki emisji 2015r'!$B$10,)))) -> 7.33773 | T17: =IF(R17=0,I17,I17*R17/1000) -> 8 | U17: =IF(H17="węgiel kamienny",'Wskaźniki emisji 2015r'!$D$8,IF(H17="gaz ziemny",'Wskaźniki emisji 2015r'!$D$9,IF(H17="olej opałowy",'Wskaźniki emisji 2015r'!$D$10,IF(H17="drewno opałowe",'Wskaźniki emisji 2015r'!$D$11,IF(H17="energia elektryczna",'Wskaźniki emisji 2015r'!$D$15))))) -> 0.33920578 | V17: =S17*T17 -> 58.70184 | W17: =V17*U17 -> 19.912003
A18: 10 | B18: Kamienica Polska | C18: Konopnickiej | E18: wolnostojący | F18: 2000 | G18: 100 | H18: węgiel kamienny | I18: 4 | J18: Mg | K18: kocioł | O18: termomodernizacja | P18: modernizacja kotłowni | R18: =IF(H18="gaz ziemny",'Wskaźniki emisji 2015r'!$B$22,0) -> 0 | S18: =IF(H18="węgiel kamienny",'Wskaźniki emisji 2015r'!$B$8,IF(H18="gaz ziemny",'Wskaźniki emisji 2015r'!$B$9,IF(H18="drewno opałowe",'Wskaźniki emisji 2015r'!$B$11,IF(H18="olej opałowy",'Wskaźniki emisji 2015r'!$B$10,)))) -> 7.33773 | T18: =IF(R18=0,I18,I18*R18/1000) -> 4 | U18: =IF(H18="węgiel kamienny",'Wskaźniki emisji 2015r'!$D$8,IF(H18="gaz ziemny",'Wskaźniki emisji 2015r'!$D$9,IF(H18="olej opałowy",'Wskaźniki emisji 2015r'!$D$10,IF(H18="drewno opałowe",'Wskaźniki emisji 2015r'!$D$11,IF(H18="energia elektryczna",'Wskaźniki emisji 2015r'!$D$15))))) -> 0.33920578 | V18: =S18*T18 -> 29.35092 | W18: =V18*U18 -> 9.9560016
A19: 11 | B19: Kamienica Polska | C19: Konopnickiej | E19: bd | F19: 1935 | G19: 123 | H19: węgiel kamienny | I19: 7 | J19: Mg | K19: kocioł | L19: 1 | M19: benzyna | N19: 600 | O19: wymiana okien | P19: termomodernizacja | R19: =IF(H19="gaz ziemny",'Wskaźniki emisji 2015r'!$B$22,0) -> 0 | S19: =IF(H19="węgiel kamienny",'Wskaźniki emisji 2015r'!$B$8,IF(H19="gaz ziemny",'Wskaźniki emisji 2015r'!$B$9,IF(H19="drewno opałowe",'Wskaźniki emisji 2015r'!$B$11,IF(H19="olej opałowy",'Wskaźniki emisji 2015r'!$B$10,)))) -> 7.33773 | T19: =IF(R19=0,I19,I19*R19/1000) -> 7 | U19: =IF(H19="węgiel kamienny",'Wskaźniki emisji 2015r'!$D$8,IF(H19="gaz ziemny",'Wskaźniki emisji 2015r'!$D$9,IF(H19="olej opałowy",'Wskaźniki emisji 2015r'!$D$10,IF(H19="drewno opałowe",'Wskaźniki emisji 2015r'!$D$11,IF(H19="energia elektryczna",'Wskaźniki emisji 2015r'!$D$15))))) -> 0.33920578 | V19: =S19*T19 -> 51.36411 | W19: =V19*U19 -> 17.423003
A20: 12 | B20: Rudnik Wielki | C20: Słoneczna | E20: wolnostojący | F20: 1990 | G20: 160 | H20: węgiel kamienny | I20: 7 | J20: Mg | K20: kocioł | L20: 2 | M20: benzyna | N20: 800 | Q20: 4000 | R20: =IF(H20="gaz ziemny",'Wskaźniki emisji 2015r'!$B$22,0) -> 0 | S20: =IF(H20="węgiel kamienny",'Wskaźniki emisji 2015r'!$B$8,IF(H20="gaz ziemny",'Wskaźniki emisji 2015r'!$B$9,IF(H20="drewno opałowe",'Wskaźniki emisji 2015r'!$B$11,IF(H20="olej opałowy",'Wskaźniki emisji 2015r'!$B$10,)))) -> 7.33773 | T20: =IF(R20=0,I20,I20*R20/1000) -> 7 | U20: =IF(H20="węgiel kamienny",'Wskaźniki emisji 2015r'!$D$8,IF(H20="gaz ziemny",'Wskaźniki emisji 2015r'!$D$9,IF(H20="olej opałowy",'Wskaźniki emisji 2015r'!$D$10,IF(H20="drewno opałowe",'Wskaźniki emisji 2015r'!$D$11,IF(H20="energia elektryczna",'Wskaźniki emisji 2015r'!$D$15))))) -> 0.33920578 | V20: =S20*T20 -> 51.36411 | W20: =V20*U20 -> 17.423003
M21: olej napędowy | S21: =IF(H21="węgiel kamienny",'Wskaźniki emisji 2015r'!$B$8,IF(H21="gaz ziemny",'Wskaźniki emisji 2015r'!$B$9,IF(H21="drewno opałowe",'Wskaźniki emisji 2015r'!$B$11,IF(H21="olej opałowy",'Wskaźniki emisji 2015r'!$B$10,)))) -> 0 | T21: =IF(R21=0,I21,I21*R21/1000) -> 0 | U21: =IF(H21="węgiel kamienny",'Wskaźniki emisji 2015r'!$D$8,IF(H21="gaz ziemny",'Wskaźniki emisji 2015r'!$D$9,IF(H21="olej opałowy",'Wskaźniki emisji 2015r'!$D$10,IF(H21="drewno opałowe",'Wskaźniki emisji 2015r'!$D$11,IF(H21="energia elektryczna",'Wskaźniki emisji 2015r'!$D$15))))) -> FALSE | V21: =S21*T21 -> 0 | W21: =V21*U21 -> 0
A22: 13 | B22: Zawada | C22: Botaniczna | E22: wolnostojący | F22: 1950 | G22: 110 | H22: węgiel kamienny | I22: 6 | J22: Mg | K22: kocioł | L22: 2 | M22: benzyna | N22: 1000 | O22: termomodernizacja | P22: kolektory słoneczne | Q22: 2000 | R22: =IF(H22="gaz ziemny",'Wskaźniki emisji 2015r'!$B$22,0) -> 0 | S22: =IF(H22="węgiel kamienny",'Wskaźniki emisji 2015r'!$B$8,IF(H22="gaz ziemny",'Wskaźniki emisji 2015r'!$B$9,IF(H22="drewno opałowe",'Wskaźniki emisji 2015r'!$B$11,IF(H22="olej opałowy",'Wskaźniki emisji 2015r'!$B$10,)))) -> 7.33773 | T22: =IF(R22=0,I22,I22*R22/1000) -> 6 | U22: =IF(H22="węgiel kamienny",'Wskaźniki emisji 2015r'!$D$8,IF(H22="gaz ziemny",'Wskaźniki emisji 2015r'!$D$9,IF(H22="olej opałowy",'Wskaźniki emisji 2015r'!$D$10,IF(H22="drewno opałowe",'Wskaźniki emisji 2015r'!$D$11,IF(H22="energia elektryczna",'Wskaźniki emisji 2015r'!$D$15))))) -> 0.33920578 | V22: =S22*T22 -> 44.02638 | W22: =V22*U22 -> 14.934002
M23: olej napędowy | O23: wymiana okien | P23: panele fotowoltaiczne | S23: =IF(H23="węgiel kamienny",'Wskaźniki emisji 2015r'!$B$8,IF(H23="gaz ziemny",'Wskaźniki emisji 2015r'!$B$9,IF(H23="drewno opałowe",'Wskaźniki emisji 2015r'!$B$11,IF(H23="olej opałowy",'Wskaźniki emisji 2015r'!$B$10,)))) -> 0 | T23: =IF(R23=0,I23,I23*R23/1000) -> 0 | U23: =IF(H23="węgiel kamienny",'Wskaźniki emisji 2015r'!$D$8,IF(H23="gaz ziemny",'Wskaźniki emisji 2015r'!$D$9,IF(H23="olej opałowy",'Wskaźniki emisji 2015r'!$D$10,IF(H23="drewno opałowe",'Wskaźniki emisji 2015r'!$D$11,IF(H23="energia elektryczna",'Wskaźniki emisji 2015r'!$D$15))))) -> FALSE | V23: =S23*T23 -> 0 | W23: =V23*U23 -> 0
